{"text_format":"1","workbook":"xlsx","n_sheets":10,"sheets":["Data","Ugrup","Grup","Goodness of fit","Histogram-Fit","Normal-Plot","Indstillinger","Hjælp","Gemte","mellemregninger"],"not_rendered":{"charts":14,"images":0,"macros":1,"external_links":0,"defined_names":0,"comments":6,"pivot_tables":0},"unopened":[],"bounds":{"document_bytes":16777216,"sheet_cells":100000,"rows_first":2000,"rows_last":500,"rows_between":2000,"halvings":0,"cell_chars":16384,"cell_head_chars":4096},"cells_cut":0,"cells_raw":0,"read":"whole","date_system":"1900"}

{"sheet":"Data","index":0,"n_rows":52,"n_cols":14,"rows_kept":52,"cut":false,"hidden":false,"merged":[[1,2,1,3],[1,0,1,1]]}
["Optælling / Gruppering",null,null,null,null,"start","slut","Interval længde"]
["Vælg:",null,"Datasæt 1",null,null,null,null,null,null,null,null,null,null,"Datasæt 1"]
["Rå data",null,"Ugrupperet optælling",null,null,null,null,null,null,null,null,null,null,"Datasæt 2"]
["Obs.",{"$f":"COUNT(A:A)","v":5},"Obs.","Hyppighed",{"$f":"COUNT(C:C)","v":5},null,null,null,{"$f":"COUNT(F:F)-COUNT(F1:F3)","v":0},null,null,{"$f":"$F$5","v":0},0,"Datasæt 3"]
[2,null,2,1,null,null,null,null,null,2,1,{"$f":"$F$5","v":0},{"$f":"$H$5/($G$5-$F$5)","v":{"$error":"#DIV/0!"}},"Datasæt 4"]
[4,null,3,1,null,null,null,null,null,3,1,{"$f":"$G$5","v":0},{"$f":"$H$5/($G$5-$F$5)","v":{"$error":"#DIV/0!"}},"Datasæt 5"]
[8,null,4,1,null,null,null,null,null,4,1,{"$f":"$G$5","v":0},0,"Datasæt 6"]
[6,null,6,1,null,null,null,null,null,6,1,{"$f":"$F$6","v":0},0,"Datasæt 7"]
[3,null,8,1,null,null,null,null,null,8,1,{"$f":"$F$6","v":0},{"$f":"$H$6/($G$6-$F$6)","v":{"$error":"#DIV/0!"}},"Datasæt 8"]
[null,null,null,null,null,null,null,null,null,7,1,{"$f":"$G$6","v":0},{"$f":"$H$6/($G$6-$F$6)","v":{"$error":"#DIV/0!"}},"Datasæt 9"]
[null,null,null,null,null,null,null,null,null,1,7,{"$f":"$G$6","v":0},0,"Datasæt 10"]
[null,null,null,null,null,null,null,null,null,1,8,{"$f":"$F$7","v":0},0]
[null,null,null,null,null,null,null,null,null,1,9,{"$f":"$F$7","v":0},{"$f":"$H$7/($G$7-$F$7)","v":{"$error":"#DIV/0!"}}]
[null,null,null,null,null,null,null,null,null,1,10,{"$f":"$G$7","v":0},{"$f":"$H$7/($G$7-$F$7)","v":{"$error":"#DIV/0!"}}]
[null,null,null,null,null,null,null,null,null,2,1,{"$f":"$G$7","v":0},0]
[null,null,null,null,null,null,null,null,null,2,2,{"$f":"$F$8","v":0},0]
[null,null,null,null,null,null,null,null,null,2,3,{"$f":"$F$8","v":0},{"$f":"$H$8/($G$8-$F$8)","v":{"$error":"#DIV/0!"}}]
[null,null,null,null,null,null,null,null,null,2,4,{"$f":"$G$8","v":0},{"$f":"$H$8/($G$8-$F$8)","v":{"$error":"#DIV/0!"}}]
[null,null,null,null,null,null,null,null,null,2,5,{"$f":"$G$8","v":0},0]
[null,null,null,null,null,null,null,null,null,2,6,{"$f":"$F$9","v":0},0]
[null,null,null,null,null,null,null,null,null,2,7,{"$f":"$F$9","v":0},{"$f":"$H$9/($G$9-$F$9)","v":{"$error":"#DIV/0!"}}]
[null,null,null,null,null,null,null,null,null,3,1,{"$f":"$G$9","v":0},{"$f":"$H$9/($G$9-$F$9)","v":{"$error":"#DIV/0!"}}]
[null,null,null,null,null,null,null,null,null,3,2,{"$f":"$G$9","v":0},0]
[null,null,null,null,null,null,null,null,null,3,3,{"$f":"$F$10","v":0},0]
[null,null,null,null,null,null,null,null,null,3,4,{"$f":"$F$10","v":0},{"$f":"$H$10/($G$10-$F$10)","v":{"$error":"#DIV/0!"}}]
[null,null,null,null,null,null,null,null,null,3,5,{"$f":"$G$10","v":0},{"$f":"$H$10/($G$10-$F$10)","v":{"$error":"#DIV/0!"}}]
[null,null,null,null,null,null,null,null,null,3,6,{"$f":"$G$10","v":0},0]
[null,null,null,null,null,null,null,null,null,3,7,{"$f":"$F$11","v":0},0]
[null,null,null,null,null,null,null,null,null,3,8,{"$f":"$F$11","v":0},{"$f":"$H$11/($G$11-$F$11)","v":{"$error":"#DIV/0!"}}]
[null,null,null,null,null,null,null,null,null,4,1,{"$f":"$G$11","v":0},{"$f":"$H$11/($G$11-$F$11)","v":{"$error":"#DIV/0!"}}]
[null,null,null,null,null,null,null,null,null,4,2,{"$f":"$G$11","v":0},0]
[null,null,null,null,null,null,null,null,null,4,3,{"$f":"$F$12","v":0},0]
[null,null,null,null,null,null,null,null,null,4,4,{"$f":"$F$12","v":0},{"$f":"$H$12/($G$12-$F$12)","v":{"$error":"#DIV/0!"}}]
[null,null,null,null,null,null,null,null,null,4,5,{"$f":"$G$12","v":0},{"$f":"$H$12/($G$12-$F$12)","v":{"$error":"#DIV/0!"}}]
[null,null,null,null,null,null,null,null,null,4,6,{"$f":"$G$12","v":0},0]
[null,null,null,null,null,null,null,null,null,4,7,{"$f":"$F$13","v":0},0]
[null,null,null,null,null,null,null,null,null,4,8,{"$f":"$F$13","v":0},{"$f":"$H$13/($G$13-$F$13)","v":{"$error":"#DIV/0!"}}]
[null,null,null,null,null,null,null,null,null,4,9,{"$f":"$G$13","v":0},{"$f":"$H$13/($G$13-$F$13)","v":{"$error":"#DIV/0!"}}]
[null,null,null,null,null,null,null,null,null,5,1,{"$f":"$G$13","v":0},0]
[null,null,null,null,null,null,null,null,null,5,2,{"$f":"$F$14","v":0},0]
[null,null,null,null,null,null,null,null,null,5,3,{"$f":"$F$14","v":0},{"$f":"$H$14/($G$14-$F$14)","v":{"$error":"#DIV/0!"}}]
[null,null,null,null,null,null,null,null,null,5,4,{"$f":"$G$14","v":0},{"$f":"$H$14/($G$14-$F$14)","v":{"$error":"#DIV/0!"}}]
[null,null,null,null,null,null,null,null,null,5,5,{"$f":"$G$14","v":0},0]
[null,null,null,null,null,null,null,null,null,6,1]
[null,null,null,null,null,null,null,null,null,6,2]
[null,null,null,null,null,null,null,null,null,6,3]
[null,null,null,null,null,null,null,null,null,6,4]
[null,null,null,null,null,null,null,null,null,6,5]
[null,null,null,null,null,null,null,null,null,6,6]
[null,null,null,null,null,null,null,null,null,6,7]
[null,null,null,null,null,null,null,null,null,6,8]
[null,null,null,null,null,null,null,null,null,6,9]

{"sheet":"Ugrup","index":1,"n_rows":50,"n_cols":18,"rows_kept":50,"cut":false,"hidden":false,"merged":[[1,4,1,5],[5,4,5,5]]}
["Ugrupperede Observationer",null,null,null,"Deskriptorer",null,null,null,{"$f":"2*$A$3-$A$4","v":0},0,{"$f":"F3","v":2},0,2,1,2,0,{"$f":"INDIRECT(\"A3\")","v":2},{"$f":"MAX(INDIRECT(\"A3:A10000\"))","v":4}]
["Obs.","Hyp.","Frekvens","Kum. Frek.","Kvartilsæt",null,{"$f":"SUM(INDIRECT(\"B3:B500\"))","v":3},{"$f":"INDIRECT(\"A3\")","v":2},{"$f":"$A$3","v":2},0,{"$f":"F3","v":2},0.25,2,2,2,2,{"$f":"$Q$1","v":2},0.4]
[2,2,{"$f":"$B$3/$G$2","v":0.66666666666666663},{"$f":"$C$3","v":0.66666666666666663},"Nedre",2,null,{"$f":"F3-H2","v":0},{"$f":"$A$3","v":2},{"$f":"$D$3","v":0.66666666666666663},{"$f":"I1","v":0},0.25,4,1,2,0,{"$f":"$Q$1","v":2},0.6]
[4,1,{"$f":"$B$4/$G$2","v":0.33333333333333331},{"$f":"$C$4+$D$3","v":1},"Median",2,null,{"$f":"F4-F3","v":0},{"$f":"$A$4","v":4},{"$f":"$D$3","v":0.66666666666666663},{"$f":"F4","v":2},0,5,1,4,0,2,0.5]
[null,null,null,null,"Øvre",4,null,{"$f":"F5-F4","v":2},{"$f":"$A$4","v":4},{"$f":"$D$4","v":1},{"$f":"F4","v":2},0.5,6,1,4,1,{"$f":"$F$3","v":2},0.5]
[null,null,null,null,"Obs.               Fraktil",null,null,{"$f":"MAX(INDIRECT(\"A3:A1000\"))-F5","v":0},{"$f":"$A$4+($A$4-$A$3)/4*3","v":5.5},{"$f":"$D$4","v":1},{"$f":"I1","v":0},0.5,7,1,4,0,{"$f":"$F$3","v":2},0.7]
[null,null,null,null,null,null,null,null,{"$f":"$A$5","v":0},{"$f":"$D$5","v":0},{"$f":"F5","v":4},0,1,7,4,0,{"$f":"$F$4","v":2},0.7]
[null,null,null,null,null,null,null,null,{"$f":"$A$6","v":0},{"$f":"$D$5","v":0},{"$f":"F5","v":4},0.75,1,8,4,1,{"$f":"$F$4","v":2},0.3]
[null,null,null,null,"Middeltal",{"$f":"SUMPRODUCT($A$3:$A$4,$B$3:$B$4)/$G$2","v":2.6666666666666665},null,null,{"$f":"$A$6","v":0},{"$f":"$D$6","v":0},{"$f":"I1","v":0},0.75,1,9,4,0,{"$f":"$F$3","v":2},0.3]
[null,null,null,null,"Spredning",0.94280904158206358,null,null,{"$f":"$A$7","v":0},{"$f":"$D$6","v":0},{"$f":"E7","v":0},0,1,10,5,0,{"$f":"$F$3","v":2},0.7]
[null,null,null,null,null,null,null,null,{"$f":"$A$7","v":0},{"$f":"$D$7","v":0},{"$f":"E7","v":0},{"$f":"F7","v":0},2,1,5,1,{"$f":"$F$5","v":4},0.7]
[null,null,null,null,null,null,null,null,{"$f":"$A$8","v":0},{"$f":"$D$7","v":0},{"$f":"I1","v":0},{"$f":"F7","v":0},2,2,5,0,{"$f":"$F$5","v":4},0.3]
[null,null,null,null,null,null,null,null,{"$f":"$A$8","v":0},{"$f":"$D$8","v":0},{"$f":"E8","v":0},0,2,3,6,0,{"$f":"$F$4","v":2},0.3]
[null,null,null,null,null,null,null,null,{"$f":"$A$8+($A$8-$A$7)/4*3","v":0},{"$f":"$D$8","v":0},{"$f":"E8","v":0},{"$f":"F8","v":0},2,4,6,1,{"$f":"$F$5","v":4},0.3]
[null,null,null,null,null,null,null,null,{"$f":"$A$9","v":0},{"$f":"$D$9","v":0},{"$f":"I1","v":0},{"$f":"F8","v":0},2,5,6,0,{"$f":"$F$5","v":4},0.5]
[null,null,null,null,null,null,null,null,{"$f":"$A$9+($A$9-$A$8)/4*3","v":0},{"$f":"$D$9","v":0},null,null,2,6,7,0,{"$f":"R1","v":4},0.5]
[null,null,null,null,null,null,null,null,{"$f":"$A$10","v":0},{"$f":"$D$10","v":0},null,null,2,7,7,1,{"$f":"R1","v":4},0.6]
[null,null,null,null,null,null,null,null,{"$f":"$A$11","v":0},{"$f":"$D$10","v":0},null,null,2,8,7,0,{"$f":"R1","v":4},0.4]
[null,null,null,null,null,null,null,null,{"$f":"$A$11","v":0},{"$f":"$D$11","v":0},null,null,2,9,7,0]
[null,null,null,null,null,null,null,null,{"$f":"$A$11+($A$11-$A$10)/4*3","v":0},{"$f":"$D$11","v":0},null,null,3,1,7,2]
[null,null,null,null,null,null,null,null,{"$f":"$A$12","v":0},{"$f":"$D$12","v":0},null,null,3,2,7,0]
[null,null,null,null,null,null,null,null,{"$f":"$A$13","v":0},{"$f":"$D$12","v":0},null,null,3,3,12,0]
[null,null,null,null,null,null,null,null,{"$f":"$A$13","v":0},{"$f":"$D$13","v":0},null,null,3,4,12,1]
[null,null,null,null,null,null,null,null,{"$f":"$A$14","v":0},{"$f":"$D$13","v":0},null,null,3,5,12,0]
[null,null,null,null,null,null,null,null,{"$f":"$A$14","v":0},{"$f":"$D$14","v":0},null,null,3,6,17,0]
[null,null,null,null,null,null,null,null,{"$f":"$A$14+($A$14-$A$13)/4*3","v":0},{"$f":"$D$14","v":0},null,null,3,7,17,1]
[null,null,null,null,null,null,null,null,null,null,null,null,3,8,17,0]
[null,null,null,null,null,null,null,null,null,null,null,null,4,1,17,0]
[null,null,null,null,null,null,null,null,null,null,null,null,4,2,17,2]
[null,null,null,null,null,null,null,null,null,null,null,null,4,3,17,0]
[null,null,null,null,null,null,null,null,null,null,null,null,4,4,18,0]
[null,null,null,null,null,null,null,null,null,null,null,null,4,5,18,1]
[null,null,null,null,null,null,null,null,null,null,null,null,4,6,18,0]
[null,null,null,null,null,null,null,null,null,null,null,null,4,7,19,0]
[null,null,null,null,null,null,null,null,null,null,null,null,4,8,19,1]
[null,null,null,null,null,null,null,null,null,null,null,null,4,9,19,0]
[null,null,null,null,null,null,null,null,null,null,null,null,5,1]
[null,null,null,null,null,null,null,null,null,null,null,null,5,2]
[null,null,null,null,null,null,null,null,null,null,null,null,5,3]
[null,null,null,null,null,null,null,null,null,null,null,null,5,4]
[null,null,null,null,null,null,null,null,null,null,null,null,5,5]
[null,null,null,null,null,null,null,null,null,null,null,null,6,1]
[null,null,null,null,null,null,null,null,null,null,null,null,6,2]
[null,null,null,null,null,null,null,null,null,null,null,null,6,3]
[null,null,null,null,null,null,null,null,null,null,null,null,6,4]
[null,null,null,null,null,null,null,null,null,null,null,null,6,5]
[null,null,null,null,null,null,null,null,null,null,null,null,6,6]
[null,null,null,null,null,null,null,null,null,null,null,null,6,7]
[null,null,null,null,null,null,null,null,null,null,null,null,6,8]
[null,null,null,null,null,null,null,null,null,null,null,null,6,9]

{"sheet":"Grup","index":2,"n_rows":43,"n_cols":16,"rows_kept":43,"cut":false,"hidden":false,"merged":[[1,5,1,6],[7,5,7,6]]}
["Grupperede observationer",null,null,null,null,"Deskriptorer"]
["Interval",null,{"$f":"SUM($C$4:$C$500)","v":0},"fi","Fi","Kvartilsæt"]
["Fra","Til","Hyp.","Frekvens","Kumuleret","Mindste",{"$f":"INDIRECT(\"A4\")","v":0},null,0,{"$f":"G4","v":38.592592592592595},0,{"$f":"G3","v":0}]
[null,null,null,null,null,"Nedre",38.592592592592595,{"$f":"$B$4","v":0},{"$f":"$E$4","v":0},{"$f":"G4","v":38.592592592592595},0.25,{"$f":"G4-L3","v":38.592592592592595},{"$f":"$A$4","v":0},0,{"$f":"G3","v":0},0.4]
[null,null,null,null,null,"Median",40.428571428571431,{"$f":"$B$5","v":0},{"$f":"$E$5","v":0},{"$f":"A4","v":0},0.25,{"$f":"G5-G4","v":1.8359788359788354},{"$f":"$A$4","v":0},{"$f":"$C$4/($B$4-$A$4)","v":{"$error":"#DIV/0!"}},{"$f":"G3","v":0},0.6]
[null,null,null,null,null,"Øvre",42.333333333333336,{"$f":"$B$6","v":0},{"$f":"$E$6","v":0},{"$f":"G5","v":40.428571428571431},0,{"$f":"G6-G5","v":1.9047619047619051},{"$f":"$B$4","v":0},{"$f":"$C$4/($B$4-$A$4)","v":{"$error":"#DIV/0!"}},{"$f":"G3","v":0},0.5]
[null,null,null,null,null,"Største",{"$f":"MAX(INDIRECT(\"B4:B1000\"))","v":0},{"$f":"$B$7","v":0},{"$f":"$E$7","v":0},{"$f":"G5","v":40.428571428571431},0.5,{"$f":"G7-G6","v":-42.333333333333336},{"$f":"$B$4","v":0},0,{"$f":"G4","v":38.592592592592595},0.5]
[null,null,null,null,null,"Observation   Fraktil",null,{"$f":"$B$8","v":0},{"$f":"$E$8","v":0},{"$f":"A4","v":0},0.5,null,{"$f":"$A$5","v":0},0,{"$f":"G4","v":38.592592592592595},0.3]
[null,null,null,null,null,null,null,{"$f":"$B$9","v":0},{"$f":"$E$9","v":0},{"$f":"G6","v":42.333333333333336},0,null,{"$f":"$A$5","v":0},{"$f":"$C$5/($B$5-$A$5)","v":{"$error":"#DIV/0!"}},{"$f":"G5","v":40.428571428571431},0.3]
[null,null,null,null,null,null,null,{"$f":"$B$10","v":0},{"$f":"$E$10","v":0},{"$f":"G6","v":42.333333333333336},0.75,null,{"$f":"$B$5","v":0},{"$f":"$C$5/($B$5-$A$5)","v":{"$error":"#DIV/0!"}},{"$f":"G5","v":40.428571428571431},0.7]
[null,null,null,null,null,"Middeltal",40.46,{"$f":"$B$11","v":0},{"$f":"$E$11","v":0},{"$f":"A4","v":0},0.75,null,{"$f":"$B$5","v":0},0,{"$f":"G4","v":38.592592592592595},0.7]
[null,null,null,null,null,"Spredning",2.8263757711953228,{"$f":"$B$12","v":0},{"$f":"$E$12","v":0},{"$f":"F9","v":0},0,null,{"$f":"$A$6","v":0},0,{"$f":"G4","v":38.592592592592595},0.3]
[null,null,null,null,null,null,null,{"$f":"$B$13","v":0},{"$f":"$E$13","v":0},{"$f":"F9","v":0},{"$f":"G9","v":0},null,{"$f":"$A$6","v":0},{"$f":"$C$6/($B$6-$A$6)","v":{"$error":"#DIV/0!"}},{"$f":"G6","v":42.333333333333336},{"$f":"0.3","v":0.3}]
[null,null,null,null,null,null,null,null,null,0,{"$f":"G9","v":0},null,{"$f":"$B$6","v":0},{"$f":"$C$6/($B$6-$A$6)","v":{"$error":"#DIV/0!"}},{"$f":"G6","v":42.333333333333336},0.7]
[null,null,null,null,null,null,null,null,null,{"$f":"F10","v":0},0,null,{"$f":"$B$6","v":0},0,{"$f":"G5","v":40.428571428571431},0.7]
[null,null,null,null,null,null,null,null,null,{"$f":"F10","v":0},{"$f":"G10","v":0},null,{"$f":"$A$7","v":0},0,{"$f":"G6","v":42.333333333333336},0.7]
[null,null,null,null,null,null,null,null,null,0,{"$f":"G10","v":0},null,{"$f":"$A$7","v":0},{"$f":"$C$7/($B$7-$A$7)","v":{"$error":"#DIV/0!"}},{"$f":"G6","v":42.333333333333336},0.5]
[null,null,null,null,null,null,null,null,null,null,null,null,{"$f":"$B$7","v":0},{"$f":"$C$7/($B$7-$A$7)","v":{"$error":"#DIV/0!"}},{"$f":"G7","v":0},0.5]
[null,null,null,null,null,null,null,null,null,null,null,null,{"$f":"$B$7","v":0},0,{"$f":"G7","v":0},0.6]
[null,null,null,null,null,null,null,null,null,null,null,null,{"$f":"$A$8","v":0},0,{"$f":"G7","v":0},0.4]
[null,null,null,null,null,null,null,null,null,null,null,null,{"$f":"$A$8","v":0},{"$f":"$C$8/($B$8-$A$8)","v":{"$error":"#DIV/0!"}}]
[null,null,null,null,null,null,null,null,null,null,null,null,{"$f":"$B$8","v":0},{"$f":"$C$8/($B$8-$A$8)","v":{"$error":"#DIV/0!"}}]
[null,null,null,null,null,null,null,null,null,null,null,null,{"$f":"$B$8","v":0},0]
[null,null,null,null,null,null,null,null,null,null,null,null,{"$f":"$A$9","v":0},0]
[null,null,null,null,null,null,null,null,null,null,null,null,{"$f":"$A$9","v":0},{"$f":"$C$9/($B$9-$A$9)","v":{"$error":"#DIV/0!"}}]
[null,null,null,null,null,null,null,null,null,null,null,null,{"$f":"$B$9","v":0},{"$f":"$C$9/($B$9-$A$9)","v":{"$error":"#DIV/0!"}}]
[null,null,null,null,null,null,null,null,null,null,null,null,{"$f":"$B$9","v":0},0]
[null,null,null,null,null,null,null,null,null,null,null,null,{"$f":"$A$10","v":0},0]
[null,null,null,null,null,null,null,null,null,null,null,null,{"$f":"$A$10","v":0},{"$f":"$C$10/($B$10-$A$10)","v":{"$error":"#DIV/0!"}}]
[null,null,null,null,null,null,null,null,null,null,null,null,{"$f":"$B$10","v":0},{"$f":"$C$10/($B$10-$A$10)","v":{"$error":"#DIV/0!"}}]
[null,null,null,null,null,null,null,null,null,null,null,null,{"$f":"$B$10","v":0},0]
[null,null,null,null,null,null,null,null,null,null,null,null,{"$f":"$A$11","v":0},0]
[null,null,null,null,null,null,null,null,null,null,null,null,{"$f":"$A$11","v":0},{"$f":"$C$11/($B$11-$A$11)","v":{"$error":"#DIV/0!"}}]
[null,null,null,null,null,null,null,null,null,null,null,null,{"$f":"$B$11","v":0},{"$f":"$C$11/($B$11-$A$11)","v":{"$error":"#DIV/0!"}}]
[null,null,null,null,null,null,null,null,null,null,null,null,{"$f":"$B$11","v":0},0]
[null,null,null,null,null,null,null,null,null,null,null,null,{"$f":"$A$12","v":0},0]
[null,null,null,null,null,null,null,null,null,null,null,null,{"$f":"$A$12","v":0},{"$f":"$C$12/($B$12-$A$12)","v":{"$error":"#DIV/0!"}}]
[null,null,null,null,null,null,null,null,null,null,null,null,{"$f":"$B$12","v":0},{"$f":"$C$12/($B$12-$A$12)","v":{"$error":"#DIV/0!"}}]
[null,null,null,null,null,null,null,null,null,null,null,null,{"$f":"$B$12","v":0},0]
[null,null,null,null,null,null,null,null,null,null,null,null,{"$f":"$A$13","v":0},0]
[null,null,null,null,null,null,null,null,null,null,null,null,{"$f":"$A$13","v":0},{"$f":"$C$13/($B$13-$A$13)","v":{"$error":"#DIV/0!"}}]
[null,null,null,null,null,null,null,null,null,null,null,null,{"$f":"$B$13","v":0},{"$f":"$C$13/($B$13-$A$13)","v":{"$error":"#DIV/0!"}}]
[null,null,null,null,null,null,null,null,null,null,null,null,{"$f":"$B$13","v":0},0]

{"sheet":"Goodness of fit","index":3,"n_rows":20,"n_cols":11,"rows_kept":20,"cut":false,"hidden":false,"merged":[[8,4,8,7],[2,6,3,7]]}
["Goodness of fit",null,null,null,"Nul-hypotese:",null,"Den observerede stikprøve stammer fra den forventede fordeling"]
["Fra","Til","Obs. Fordeling","Forventet fordeling","Signifikans niveau:",0.05]
[null,null,null,null,null,null,{"$f":"IF(COUNTIF(C:C,\"<5\")>0,\"Resultatet er usikkert da der er hyppigheder under 5\",IF(SUM(C:C)<>SUM(D:D),\"Der skal være det samme antal observationer i observeret og forventet fordeling.\", IF(SUM(C:C)<50,\"Resultatet er usikkert da det samlede antal hyppigheder er under 50\",\"\")))","v":"Resultatet er usikkert da det samlede antal hyppigheder er under 50"}]
[null,null,null,null,"P-værdi:",{"$f":"CHIDIST(F11,F10)","v":{"$error":"#NUM!"}}]
[null,null,null,null,"Konklusion:",{"$f":"IF(F4=\"\",\"\",IF(F4<F2,\"Nul-hypotese forkastet\",\"Nul-hypotese bekræftet\"))","v":{"$error":"#NUM!"}}]
[]
[]
[]
[null,null,null,null,"Goodness of fit bygger på χ²-fordeling"]
[null,null,null,null,"Frihedsgrader:",{"$f":"COUNT(C:C)-1","v":-1}]
[null,null,null,null,"χ²-værdi:",{"$f":"mellemregninger!E2","v":0}]
[null,null,null,null,"Xmaks:",16]
[]
[]
[]
[]
[]
[]
[]
[null,null,null,null,null,null,null,null,null,null,"x"]

{"sheet":"Histogram-Fit","index":4,"n_rows":103,"n_cols":11,"rows_kept":103,"cut":false,"hidden":false,"merged":[]}
["Histogramfitning til normalfordeling"]
["Interval",null,null,null,null,null,null,null,null,null,{"$f":"SQRT(K3)","v":0}]
["Fra","Til","Frekvens","µ=",{"$f":"J3","v":0},null,null,{"$f":"(MAX(B:B)-A4)/40","v":0},null,{"$f":"SUM(J4:J10000)","v":0},{"$f":"SUM(K4:K10000)","v":0}]
[null,null,null,"σ=",{"$f":"K2","v":0},{"$f":"$A$4","v":0},0,{"$f":"A4","v":0},{"$f":"NORMDIST(H4,$E$3,$E$4,FALSE)","v":{"$error":"#NUM!"}},{"$f":"(A4+B4)/2*C4","v":0},{"$f":"((A4+B4)/2-$J$3)^2*C4","v":0}]
[null,null,null,null,null,{"$f":"$A$4","v":0},{"$f":"$C$4/($B$4-$A$4)","v":{"$error":"#DIV/0!"}},{"$f":"H4+$H$3","v":0},{"$f":"NORMDIST(H5,$E$3,$E$4,FALSE)","v":{"$error":"#NUM!"}},{"$f":"(A5+B5)/2*C5","v":0},{"$f":"((A5+B5)/2-$J$3)^2*C5","v":0}]
[null,null,null,null,null,{"$f":"$B$4","v":0},{"$f":"$C$4/($B$4-$A$4)","v":{"$error":"#DIV/0!"}},{"$f":"H5+$H$3","v":0},{"$error":"#NUM!"},0,0]
[null,null,null,null,null,{"$f":"$B$4","v":0},0,0,{"$error":"#NUM!"},0,0]
[null,null,null,null,null,{"$f":"$A$5","v":0},0,0,{"$error":"#NUM!"},0,0]
[null,null,null,null,null,{"$f":"$A$5","v":0},{"$f":"$C$5/($B$5-$A$5)","v":{"$error":"#DIV/0!"}},0,{"$error":"#NUM!"},0,0]
[null,null,null,null,null,{"$f":"$B$5","v":0},{"$f":"$C$5/($B$5-$A$5)","v":{"$error":"#DIV/0!"}},0,{"$error":"#NUM!"},{"$f":"(A10+B10)/2*C10","v":0},{"$f":"((A10+B10)/2-$J$3)^2*C10","v":0}]
[null,null,null,null,null,{"$f":"$B$5","v":0},0,0,{"$error":"#NUM!"},0,0]
[null,null,null,null,null,{"$f":"$A$6","v":0},0,0,{"$error":"#NUM!"},0,0]
[null,null,null,null,null,{"$f":"$A$6","v":0},{"$f":"$C$6/($B$6-$A$6)","v":{"$error":"#DIV/0!"}},0,{"$error":"#NUM!"},0,0]
[null,null,null,null,null,{"$f":"$B$6","v":0},{"$f":"$C$6/($B$6-$A$6)","v":{"$error":"#DIV/0!"}},0,{"$error":"#NUM!"},0,0]
[null,null,null,null,null,{"$f":"$B$6","v":0},0,0,{"$error":"#NUM!"},0,0]
[null,null,null,null,null,{"$f":"$A$7","v":0},0,0,{"$error":"#NUM!"},0,0]
[null,null,null,null,null,{"$f":"$A$7","v":0},{"$f":"$C$7/($B$7-$A$7)","v":{"$error":"#DIV/0!"}},0,{"$error":"#NUM!"},0,0]
[null,null,null,null,null,{"$f":"$B$7","v":0},{"$f":"$C$7/($B$7-$A$7)","v":{"$error":"#DIV/0!"}},0,{"$error":"#NUM!"},0,0]
[null,null,null,null,null,{"$f":"$B$7","v":0},0,0,{"$error":"#NUM!"},0,0]
[null,null,null,null,null,{"$f":"$A$8","v":0},0,0,{"$error":"#NUM!"},{"$f":"(A20+B20)/2*C20","v":0},{"$f":"((A20+B20)/2-$J$3)^2*C20","v":0}]
[null,null,null,null,null,{"$f":"$A$8","v":0},{"$f":"$C$8/($B$8-$A$8)","v":{"$error":"#DIV/0!"}},0,{"$error":"#NUM!"},0,0]
[null,null,null,null,null,{"$f":"$B$8","v":0},{"$f":"$C$8/($B$8-$A$8)","v":{"$error":"#DIV/0!"}},0,{"$error":"#NUM!"},0,0]
[null,null,null,null,null,{"$f":"$B$8","v":0},0,0,{"$error":"#NUM!"},0,0]
[null,null,null,null,null,{"$f":"$A$9","v":0},0,0,{"$error":"#NUM!"},0,0]
[null,null,null,null,null,{"$f":"$A$9","v":0},{"$f":"$C$9/($B$9-$A$9)","v":{"$error":"#DIV/0!"}},0,{"$error":"#NUM!"},0,0]
[null,null,null,null,null,{"$f":"$B$9","v":0},{"$f":"$C$9/($B$9-$A$9)","v":{"$error":"#DIV/0!"}},0,{"$error":"#NUM!"},0,0]
[null,null,null,null,null,{"$f":"$B$9","v":0},0,0,{"$error":"#NUM!"},0,0]
[null,null,null,null,null,{"$f":"$A$10","v":0},0,0,{"$error":"#NUM!"},0,0]
[null,null,null,null,null,{"$f":"$A$10","v":0},{"$f":"$C$10/($B$10-$A$10)","v":{"$error":"#DIV/0!"}},0,{"$error":"#NUM!"},0,0]
[null,null,null,null,null,{"$f":"$B$10","v":0},{"$f":"$C$10/($B$10-$A$10)","v":{"$error":"#DIV/0!"}},0,{"$error":"#NUM!"},0,0]
[null,null,null,null,null,{"$f":"$B$10","v":0},0,0,{"$error":"#NUM!"},0,0]
[null,null,null,null,null,{"$f":"$A$11","v":0},0,0,{"$error":"#NUM!"},0,0]
[null,null,null,null,null,{"$f":"$A$11","v":0},{"$f":"$C$11/($B$11-$A$11)","v":{"$error":"#DIV/0!"}},0,{"$error":"#NUM!"},0,0]
[null,null,null,null,null,{"$f":"$B$11","v":0},{"$f":"$C$11/($B$11-$A$11)","v":{"$error":"#DIV/0!"}},0,{"$error":"#NUM!"},0,0]
[null,null,null,null,null,{"$f":"$B$11","v":0},0,0,{"$error":"#NUM!"},0,0]
[null,null,null,null,null,{"$f":"$A$12","v":0},0,0,{"$error":"#NUM!"},0,0]
[null,null,null,null,null,{"$f":"$A$12","v":0},{"$f":"$C$12/($B$12-$A$12)","v":{"$error":"#DIV/0!"}},0,{"$error":"#NUM!"},0,0]
[null,null,null,null,null,{"$f":"$B$12","v":0},{"$f":"$C$12/($B$12-$A$12)","v":{"$error":"#DIV/0!"}},0,{"$error":"#NUM!"},0,0]
[null,null,null,null,null,{"$f":"$B$12","v":0},0,0,{"$error":"#NUM!"},0,0]
[null,null,null,null,null,{"$f":"$A$13","v":0},0,0,{"$error":"#NUM!"},0,0]
[null,null,null,null,null,{"$f":"$A$13","v":0},{"$f":"$C$13/($B$13-$A$13)","v":{"$error":"#DIV/0!"}},0,{"$error":"#NUM!"},0,0]
[null,null,null,null,null,{"$f":"$B$13","v":0},{"$f":"$C$13/($B$13-$A$13)","v":{"$error":"#DIV/0!"}},0,{"$error":"#NUM!"},0,0]
[null,null,null,null,null,{"$f":"$B$13","v":0},0,0,{"$error":"#NUM!"},0,0]
[null,null,null,null,null,{"$f":"$B$13","v":0},1,{"$f":"H43+$H$3","v":0},{"$error":"#NUM!"},{"$f":"(A44+B44)/2*C44","v":0},{"$f":"((A44+B44)/2-$J$3)^2*C44","v":0}]
[null,null,null,null,null,null,null,null,null,0,0]
[null,null,null,null,null,null,null,null,null,0,0]
[null,null,null,null,null,null,null,null,null,0,0]
[null,null,null,null,null,null,null,null,null,0,0]
[null,null,null,null,null,null,null,null,null,0,0]
[null,null,null,null,null,null,null,null,null,0,0]
[null,null,null,null,null,null,null,null,null,0,0]
[null,null,null,null,null,null,null,null,null,0,0]
[null,null,null,null,null,null,null,null,null,0,0]
[null,null,null,null,null,null,null,null,null,0,0]
[null,null,null,null,null,null,null,null,null,0,0]
[null,null,null,null,null,null,null,null,null,0,0]
[null,null,null,null,null,null,null,null,null,0,0]
[null,null,null,null,null,null,null,null,null,0,0]
[null,null,null,null,null,null,null,null,null,0,0]
[null,null,null,null,null,null,null,null,null,0,0]
[null,null,null,null,null,null,null,null,null,0,0]
[null,null,null,null,null,null,null,null,null,0,0]
[null,null,null,null,null,null,null,null,null,0,0]
[null,null,null,null,null,null,null,null,null,0,0]
[null,null,null,null,null,null,null,null,null,0,0]
[null,null,null,null,null,null,null,null,null,0,0]
[null,null,null,null,null,null,null,null,null,0,0]
[null,null,null,null,null,null,null,null,null,0,0]
[null,null,null,null,null,null,null,null,null,0,0]
[null,null,null,null,null,null,null,null,null,0,0]
[null,null,null,null,null,null,null,null,null,0,0]
[null,null,null,null,null,null,null,null,null,0,0]
[null,null,null,null,null,null,null,null,null,0,0]
[null,null,null,null,null,null,null,null,null,0,0]
[null,null,null,null,null,null,null,null,null,0,0]
[null,null,null,null,null,null,null,null,null,0,0]
[null,null,null,null,null,null,null,null,null,0,0]
[null,null,null,null,null,null,null,null,null,0,0]
[null,null,null,null,null,null,null,null,null,0,0]
[null,null,null,null,null,null,null,null,null,0,0]
[null,null,null,null,null,null,null,null,null,0,0]
[null,null,null,null,null,null,null,null,null,0,0]
[null,null,null,null,null,null,null,null,null,0,0]
[null,null,null,null,null,null,null,null,null,0,0]
[null,null,null,null,null,null,null,null,null,0,0]
[null,null,null,null,null,null,null,null,null,0,0]
[null,null,null,null,null,null,null,null,null,0,0]
[null,null,null,null,null,null,null,null,null,0,0]
[null,null,null,null,null,null,null,null,null,0,0]
[null,null,null,null,null,null,null,null,null,0,0]
[null,null,null,null,null,null,null,null,null,0,0]
[null,null,null,null,null,null,null,null,null,0,0]
[null,null,null,null,null,null,null,null,null,0,0]
[null,null,null,null,null,null,null,null,null,0,0]
[null,null,null,null,null,null,null,null,null,0,0]
[null,null,null,null,null,null,null,null,null,0,0]
[null,null,null,null,null,null,null,null,null,0,0]
[null,null,null,null,null,null,null,null,null,0,0]
[null,null,null,null,null,null,null,null,null,0,0]
[null,null,null,null,null,null,null,null,null,0,0]
[null,null,null,null,null,null,null,null,null,0,0]
[null,null,null,null,null,null,null,null,null,0,0]
[null,null,null,null,null,null,null,null,null,0,0]

{"sheet":"Normal-Plot","index":5,"n_rows":5,"n_cols":5,"rows_kept":5,"cut":false,"hidden":false,"merged":[[1,2,1,9]]}
["Grafisk normalfordelingstest"]
["Data",null,"Punkterne skal være lineære for at kunne bekræfte en normalfordeling."]
[2,null,"µ=",{"$f":"-INTERCEPT(B2:B3,A2:A3)*D4","v":{"$error":"#DIV/0!"}},"(Skæring med x-aksen)"]
[2,null,"σ=",{"$f":"1/SLOPE(B2:B3,A2:A3)","v":{"$error":"#DIV/0!"}},"(Invers hældning af linjen)"]
[4]

{"sheet":"Indstillinger","index":6,"n_rows":7,"n_cols":2,"rows_kept":7,"cut":false,"hidden":false,"merged":[]}
["Indstillinger"]
[]
["Beregning af kvartilsæt er ikke præcist defineret. Du kan her vælge mellem to forskellige metoder."]
["De to metoder giver i de fleste tilfælde det samme, men ikke altid"]
[]
["x","Tællemetoden.  "]
[null,"Grafisk aflæsning på Trappediagram"]

{"sheet":"Hjælp","index":7,"n_rows":16,"n_cols":1,"rows_kept":16,"cut":false,"hidden":false,"merged":[]}
["Hjælp"]
["Indtast observationer på dataarket og indstil evt. intervaller. Tryk kopier for at overføre dataene til de andre faner"]
["Der er ingen grænse for hvor mange observationer der kan indsættes bare flyt graferne for at få"]
["mere plads"]
["Hvis der er kolonner du ikke vil vise kan du ændre bredden så de ikke kan ses."]
[]
["Grafer"]
["Flyt selv rundt og ændrer størrelsen på diagrammerne, eller slet dem du ikke vil bruge."]
[]
["Fraktiler"]
["Der kan være to fraktiler samtidigt på grafen. Indtast procentværdien i venstre celle, så beregnes"]
["Fraktilen og markeres på sumkurven/trappediagrammet"]
[]
["Hvis kun frekvenser er kendt, indtastes frekvenser bare under hyppigheder"]
["Hvis der skal laves sammenligning af flere observationssæt i samme diagram"]
[" må du bruge de mere specifikke excelark."]

{"sheet":"Gemte","index":8,"n_rows":10,"n_cols":60,"rows_kept":10,"cut":false,"hidden":false,"merged":[]}
["Datasæt1",null,null,null,null,{"$f":"COUNT(A:A)-COUNT(A1:A8)","v":0},"Datasæt 2",null,null,null,null,{"$f":"COUNT(G:G)-COUNT(G1:G8)","v":0},"Datasæt 3",null,null,null,null,{"$f":"COUNT(M:M)-COUNT(M1:M8)","v":0},"Datasæt 4",null,null,null,null,{"$f":"COUNT(S:S)-COUNT(S1:S8)","v":0},"Datasæt 5",null,null,null,null,{"$f":"COUNT(Y:Y)-COUNT(Y1:Y8)","v":0},"Datasæt 6",null,null,null,null,{"$f":"COUNT(AE:AE)-COUNT(AE1:AE8)","v":0},"Datasæt 7",null,null,null,null,{"$f":"COUNT(AK:AK)-COUNT(AK1:AK8)","v":0},"Datasæt 8",null,null,null,null,{"$f":"COUNT(AQ:AQ)-COUNT(AQ1:AQ8)","v":0},"Datasæt 9",null,null,null,null,{"$f":"COUNT(AW:AW)-COUNT(AW1:AW8)","v":0},"Datasæt 10",null,null,null,null,{"$f":"COUNT(BC:BC)-COUNT(BC1:BC8)","v":0}]
[null,null,null,null,null,{"$f":"COUNT(B:B)-COUNT(B1:B8)","v":0},null,null,null,null,null,{"$f":"COUNT(H:H)-COUNT(H1:H8)","v":0},null,null,null,null,null,{"$f":"COUNT(N:N)-COUNT(N1:N8)","v":0},null,null,null,null,null,{"$f":"COUNT(T:T)-COUNT(T1:T8)","v":0},null,null,null,null,null,{"$f":"COUNT(Z:Z)-COUNT(Z1:Z8)","v":0},null,null,null,null,null,{"$f":"COUNT(AF:AF)-COUNT(AF1:AF8)","v":0},null,null,null,null,null,{"$f":"COUNT(AL:AL)-COUNT(AL1:AL8)","v":0},null,null,null,null,null,{"$f":"COUNT(AR:AR)-COUNT(AR1:AR8)","v":0},null,null,null,null,null,{"$f":"COUNT(AX:AX)-COUNT(AX1:AX8)","v":0},null,null,null,null,null,{"$f":"COUNT(BD:BD)-COUNT(BD1:BD8)","v":0}]
[null,null,null,null,null,{"$f":"COUNT(D:D)-COUNT(D1:D8)","v":0},null,null,null,null,null,{"$f":"COUNT(J:J)-COUNT(J1:J8)","v":0},null,null,null,null,null,{"$f":"COUNT(P:P)-COUNT(P1:P8)","v":0},null,null,null,null,null,{"$f":"COUNT(V:V)-COUNT(V1:V8)","v":0},null,null,null,null,null,{"$f":"COUNT(AB:AB)-COUNT(AB1:AB8)","v":0},null,null,null,null,null,{"$f":"COUNT(AH:AH)-COUNT(AH1:AH8)","v":0},null,null,null,null,null,{"$f":"COUNT(AN:AN)-COUNT(AN1:AN8)","v":0},null,null,null,null,null,{"$f":"COUNT(AT:AT)-COUNT(AT1:AT8)","v":0},null,null,null,null,null,{"$f":"COUNT(AZ:AZ)-COUNT(AZ1:AZ8)","v":0},null,null,null,null,null,{"$f":"COUNT(BF:BF)-COUNT(BF1:BF8)","v":0}]
[null,null,null,null,null,{"$f":"MAX(F1:F3)","v":0},null,null,null,null,null,{"$f":"MAX(L1:L3)","v":0},null,null,null,null,null,{"$f":"MAX(R1:R3)","v":0},null,null,null,null,null,{"$f":"MAX(X1:X3)","v":0},null,null,null,null,null,{"$f":"MAX(AD1:AD3)","v":0},null,null,null,null,null,{"$f":"MAX(AJ1:AJ3)","v":0},null,null,null,null,null,{"$f":"MAX(AP1:AP3)","v":0},null,null,null,null,null,{"$f":"MAX(AV1:AV3)","v":0},null,null,null,null,null,{"$f":"MAX(BB1:BB3)","v":0},null,null,null,null,null,{"$f":"MAX(BH1:BH3)","v":0}]
[]
[]
[]
[]
[]
["data","ugrup",null,"grup",null,null,"data","ugrup",null,"grup"]

{"sheet":"mellemregninger","index":9,"n_rows":1001,"n_cols":8,"rows_kept":1001,"cut":false,"hidden":false,"merged":[]}
[0,{"$f":"IF(F$1>=3,_xlfn.CHISQ.DIST(A2,F$1,FALSE),_xlfn.CHISQ.DIST(A2/2,F$1,FALSE))","v":{"$error":"#NUM!"}},{"$f":"IF(A1>='Goodness of fit'!$F$11,B1,0)","v":{"$error":"#NUM!"}},{"$f":"CHIDIST(A1,F$1)","v":{"$error":"#NUM!"}},null,{"$f":"'Goodness of fit'!F10","v":-1},null,"Hjælp til Goodness of fit χ²-fordeling"]
[{"$f":"'Goodness of fit'!F$12/1000+A1","v":1.6E-2},{"$f":"_xlfn.CHISQ.DIST(A2,F$1,FALSE)","v":{"$error":"#NUM!"}},{"$f":"IF(A2>='Goodness of fit'!$F$11,B2,0)","v":{"$error":"#NUM!"}},{"$f":"CHIDIST(A2,F$1)","v":{"$error":"#NUM!"}},{"$f":"SUM(E3:E1000)","v":0},{"$f":"'Goodness of fit'!$F$11","v":0},0,"Frekvensfunktionen virker kun for Word 2010"]
[{"$f":"'Goodness of fit'!F$12/1000+A2","v":3.2000000000000001E-2},{"$f":"_xlfn.CHISQ.DIST(A3,F$1,FALSE)","v":{"$error":"#NUM!"}},{"$f":"IF(A3>='Goodness of fit'!$F$11,B3,0)","v":{"$error":"#NUM!"}},{"$error":"#NUM!"},{"$f":"IF('Goodness of fit'!D3>0,('Goodness of fit'!C3-'Goodness of fit'!D3)^2/'Goodness of fit'!D3,\"\")","v":""},{"$f":"F2","v":0},{"$f":"'Goodness of fit'!$F$4","v":{"$error":"#NUM!"}}]
[{"$f":"'Goodness of fit'!F$12/1000+A3","v":4.8000000000000001E-2},{"$error":"#NUM!"},{"$f":"IF(A4>='Goodness of fit'!$F$11,B4,0)","v":{"$error":"#NUM!"}},{"$error":"#NUM!"},{"$f":"IF('Goodness of fit'!D4>0,('Goodness of fit'!C4-'Goodness of fit'!D4)^2/'Goodness of fit'!D4,\"\")","v":""},0,{"$f":"G3","v":{"$error":"#NUM!"}}]
[{"$f":"'Goodness of fit'!F$12/1000+A4","v":6.4000000000000001E-2},{"$error":"#NUM!"},{"$f":"IF(A5>='Goodness of fit'!$F$11,B5,0)","v":{"$error":"#NUM!"}},{"$error":"#NUM!"},{"$f":"IF('Goodness of fit'!D5>0,('Goodness of fit'!C5-'Goodness of fit'!D5)^2/'Goodness of fit'!D5,\"\")","v":""}]
[{"$f":"'Goodness of fit'!F$12/1000+A5","v":0.08},{"$error":"#NUM!"},{"$f":"IF(A6>='Goodness of fit'!$F$11,B6,0)","v":{"$error":"#NUM!"}},{"$error":"#NUM!"},{"$f":"IF('Goodness of fit'!D6>0,('Goodness of fit'!C6-'Goodness of fit'!D6)^2/'Goodness of fit'!D6,\"\")","v":""}]
[{"$f":"'Goodness of fit'!F$12/1000+A6","v":9.6000000000000002E-2},{"$error":"#NUM!"},{"$f":"IF(A7>='Goodness of fit'!$F$11,B7,0)","v":{"$error":"#NUM!"}},{"$error":"#NUM!"},{"$f":"IF('Goodness of fit'!D7>0,('Goodness of fit'!C7-'Goodness of fit'!D7)^2/'Goodness of fit'!D7,\"\")","v":""}]
[{"$f":"'Goodness of fit'!F$12/1000+A7","v":0.112},{"$error":"#NUM!"},{"$f":"IF(A8>='Goodness of fit'!$F$11,B8,0)","v":{"$error":"#NUM!"}},{"$error":"#NUM!"},{"$f":"IF('Goodness of fit'!D8>0,('Goodness of fit'!C8-'Goodness of fit'!D8)^2/'Goodness of fit'!D8,\"\")","v":""}]
[{"$f":"'Goodness of fit'!F$12/1000+A8","v":0.128},{"$error":"#NUM!"},{"$f":"IF(A9>='Goodness of fit'!$F$11,B9,0)","v":{"$error":"#NUM!"}},{"$error":"#NUM!"},{"$f":"IF('Goodness of fit'!D9>0,('Goodness of fit'!C9-'Goodness of fit'!D9)^2/'Goodness of fit'!D9,\"\")","v":""}]
[{"$f":"'Goodness of fit'!F$12/1000+A9","v":0.14400000000000002},{"$error":"#NUM!"},{"$f":"IF(A10>='Goodness of fit'!$F$11,B10,0)","v":{"$error":"#NUM!"}},{"$error":"#NUM!"},{"$f":"IF('Goodness of fit'!D10>0,('Goodness of fit'!C10-'Goodness of fit'!D10)^2/'Goodness of fit'!D10,\"\")","v":""}]
[{"$f":"'Goodness of fit'!F$12/1000+A10","v":0.16000000000000003},{"$error":"#NUM!"},{"$f":"IF(A11>='Goodness of fit'!$F$11,B11,0)","v":{"$error":"#NUM!"}},{"$error":"#NUM!"},{"$f":"IF('Goodness of fit'!D11>0,('Goodness of fit'!C11-'Goodness of fit'!D11)^2/'Goodness of fit'!D11,\"\")","v":""}]
[{"$f":"'Goodness of fit'!F$12/1000+A11","v":0.17600000000000005},{"$error":"#NUM!"},{"$f":"IF(A12>='Goodness of fit'!$F$11,B12,0)","v":{"$error":"#NUM!"}},{"$error":"#NUM!"},{"$f":"IF('Goodness of fit'!D12>0,('Goodness of fit'!C12-'Goodness of fit'!D12)^2/'Goodness of fit'!D12,\"\")","v":""}]
[{"$f":"'Goodness of fit'!F$12/1000+A12","v":0.19200000000000006},{"$error":"#NUM!"},{"$f":"IF(A13>='Goodness of fit'!$F$11,B13,0)","v":{"$error":"#NUM!"}},{"$error":"#NUM!"},{"$f":"IF('Goodness of fit'!D13>0,('Goodness of fit'!C13-'Goodness of fit'!D13)^2/'Goodness of fit'!D13,\"\")","v":""}]
[{"$f":"'Goodness of fit'!F$12/1000+A13","v":0.20800000000000007},{"$error":"#NUM!"},{"$f":"IF(A14>='Goodness of fit'!$F$11,B14,0)","v":{"$error":"#NUM!"}},{"$error":"#NUM!"},{"$f":"IF('Goodness of fit'!D14>0,('Goodness of fit'!C14-'Goodness of fit'!D14)^2/'Goodness of fit'!D14,\"\")","v":""}]
[{"$f":"'Goodness of fit'!F$12/1000+A14","v":0.22400000000000009},{"$error":"#NUM!"},{"$f":"IF(A15>='Goodness of fit'!$F$11,B15,0)","v":{"$error":"#NUM!"}},{"$error":"#NUM!"},{"$f":"IF('Goodness of fit'!D15>0,('Goodness of fit'!C15-'Goodness of fit'!D15)^2/'Goodness of fit'!D15,\"\")","v":""}]
[{"$f":"'Goodness of fit'!F$12/1000+A15","v":0.2400000000000001},{"$error":"#NUM!"},{"$f":"IF(A16>='Goodness of fit'!$F$11,B16,0)","v":{"$error":"#NUM!"}},{"$error":"#NUM!"},{"$f":"IF('Goodness of fit'!D16>0,('Goodness of fit'!C16-'Goodness of fit'!D16)^2/'Goodness of fit'!D16,\"\")","v":""}]
[{"$f":"'Goodness of fit'!F$12/1000+A16","v":0.25600000000000012},{"$error":"#NUM!"},{"$f":"IF(A17>='Goodness of fit'!$F$11,B17,0)","v":{"$error":"#NUM!"}},{"$error":"#NUM!"},{"$f":"IF('Goodness of fit'!D17>0,('Goodness of fit'!C17-'Goodness of fit'!D17)^2/'Goodness of fit'!D17,\"\")","v":""}]
[{"$f":"'Goodness of fit'!F$12/1000+A17","v":0.27200000000000013},{"$error":"#NUM!"},{"$f":"IF(A18>='Goodness of fit'!$F$11,B18,0)","v":{"$error":"#NUM!"}},{"$error":"#NUM!"},{"$f":"IF('Goodness of fit'!D18>0,('Goodness of fit'!C18-'Goodness of fit'!D18)^2/'Goodness of fit'!D18,\"\")","v":""}]
[{"$f":"'Goodness of fit'!F$12/1000+A18","v":0.28800000000000014},{"$error":"#NUM!"},{"$f":"IF(A19>='Goodness of fit'!$F$11,B19,0)","v":{"$error":"#NUM!"}},{"$error":"#NUM!"},{"$f":"IF('Goodness of fit'!D19>0,('Goodness of fit'!C19-'Goodness of fit'!D19)^2/'Goodness of fit'!D19,\"\")","v":""}]
[{"$f":"'Goodness of fit'!F$12/1000+A19","v":0.30400000000000016},{"$error":"#NUM!"},{"$f":"IF(A20>='Goodness of fit'!$F$11,B20,0)","v":{"$error":"#NUM!"}},{"$error":"#NUM!"},{"$f":"IF('Goodness of fit'!D20>0,('Goodness of fit'!C20-'Goodness of fit'!D20)^2/'Goodness of fit'!D20,\"\")","v":""}]
[{"$f":"'Goodness of fit'!F$12/1000+A20","v":0.32000000000000017},{"$error":"#NUM!"},{"$f":"IF(A21>='Goodness of fit'!$F$11,B21,0)","v":{"$error":"#NUM!"}},{"$error":"#NUM!"},{"$f":"IF('Goodness of fit'!D21>0,('Goodness of fit'!C21-'Goodness of fit'!D21)^2/'Goodness of fit'!D21,\"\")","v":""}]
[{"$f":"'Goodness of fit'!F$12/1000+A21","v":0.33600000000000019},{"$error":"#NUM!"},{"$f":"IF(A22>='Goodness of fit'!$F$11,B22,0)","v":{"$error":"#NUM!"}},{"$error":"#NUM!"},{"$f":"IF('Goodness of fit'!D22>0,('Goodness of fit'!C22-'Goodness of fit'!D22)^2/'Goodness of fit'!D22,\"\")","v":""}]
[{"$f":"'Goodness of fit'!F$12/1000+A22","v":0.3520000000000002},{"$error":"#NUM!"},{"$f":"IF(A23>='Goodness of fit'!$F$11,B23,0)","v":{"$error":"#NUM!"}},{"$error":"#NUM!"},{"$f":"IF('Goodness of fit'!D23>0,('Goodness of fit'!C23-'Goodness of fit'!D23)^2/'Goodness of fit'!D23,\"\")","v":""}]
[{"$f":"'Goodness of fit'!F$12/1000+A23","v":0.36800000000000022},{"$error":"#NUM!"},{"$f":"IF(A24>='Goodness of fit'!$F$11,B24,0)","v":{"$error":"#NUM!"}},{"$error":"#NUM!"},{"$f":"IF('Goodness of fit'!D24>0,('Goodness of fit'!C24-'Goodness of fit'!D24)^2/'Goodness of fit'!D24,\"\")","v":""}]
[{"$f":"'Goodness of fit'!F$12/1000+A24","v":0.38400000000000023},{"$error":"#NUM!"},{"$f":"IF(A25>='Goodness of fit'!$F$11,B25,0)","v":{"$error":"#NUM!"}},{"$error":"#NUM!"},{"$f":"IF('Goodness of fit'!D25>0,('Goodness of fit'!C25-'Goodness of fit'!D25)^2/'Goodness of fit'!D25,\"\")","v":""}]
[{"$f":"'Goodness of fit'!F$12/1000+A25","v":0.40000000000000024},{"$error":"#NUM!"},{"$f":"IF(A26>='Goodness of fit'!$F$11,B26,0)","v":{"$error":"#NUM!"}},{"$error":"#NUM!"},{"$f":"IF('Goodness of fit'!D26>0,('Goodness of fit'!C26-'Goodness of fit'!D26)^2/'Goodness of fit'!D26,\"\")","v":""}]
[{"$f":"'Goodness of fit'!F$12/1000+A26","v":0.41600000000000026},{"$error":"#NUM!"},{"$f":"IF(A27>='Goodness of fit'!$F$11,B27,0)","v":{"$error":"#NUM!"}},{"$error":"#NUM!"},{"$f":"IF('Goodness of fit'!D27>0,('Goodness of fit'!C27-'Goodness of fit'!D27)^2/'Goodness of fit'!D27,\"\")","v":""}]
[{"$f":"'Goodness of fit'!F$12/1000+A27","v":0.43200000000000027},{"$error":"#NUM!"},{"$f":"IF(A28>='Goodness of fit'!$F$11,B28,0)","v":{"$error":"#NUM!"}},{"$error":"#NUM!"},{"$f":"IF('Goodness of fit'!D28>0,('Goodness of fit'!C28-'Goodness of fit'!D28)^2/'Goodness of fit'!D28,\"\")","v":""}]
[{"$f":"'Goodness of fit'!F$12/1000+A28","v":0.44800000000000029},{"$error":"#NUM!"},{"$f":"IF(A29>='Goodness of fit'!$F$11,B29,0)","v":{"$error":"#NUM!"}},{"$error":"#NUM!"},{"$f":"IF('Goodness of fit'!D29>0,('Goodness of fit'!C29-'Goodness of fit'!D29)^2/'Goodness of fit'!D29,\"\")","v":""}]
[{"$f":"'Goodness of fit'!F$12/1000+A29","v":0.4640000000000003},{"$error":"#NUM!"},{"$f":"IF(A30>='Goodness of fit'!$F$11,B30,0)","v":{"$error":"#NUM!"}},{"$error":"#NUM!"},{"$f":"IF('Goodness of fit'!D30>0,('Goodness of fit'!C30-'Goodness of fit'!D30)^2/'Goodness of fit'!D30,\"\")","v":""}]
[{"$f":"'Goodness of fit'!F$12/1000+A30","v":0.48000000000000032},{"$error":"#NUM!"},{"$f":"IF(A31>='Goodness of fit'!$F$11,B31,0)","v":{"$error":"#NUM!"}},{"$error":"#NUM!"},{"$f":"IF('Goodness of fit'!D31>0,('Goodness of fit'!C31-'Goodness of fit'!D31)^2/'Goodness of fit'!D31,\"\")","v":""}]
[{"$f":"'Goodness of fit'!F$12/1000+A31","v":0.49600000000000033},{"$error":"#NUM!"},{"$f":"IF(A32>='Goodness of fit'!$F$11,B32,0)","v":{"$error":"#NUM!"}},{"$error":"#NUM!"},{"$f":"IF('Goodness of fit'!D32>0,('Goodness of fit'!C32-'Goodness of fit'!D32)^2/'Goodness of fit'!D32,\"\")","v":""}]
[{"$f":"'Goodness of fit'!F$12/1000+A32","v":0.51200000000000034},{"$error":"#NUM!"},{"$f":"IF(A33>='Goodness of fit'!$F$11,B33,0)","v":{"$error":"#NUM!"}},{"$error":"#NUM!"},{"$f":"IF('Goodness of fit'!D33>0,('Goodness of fit'!C33-'Goodness of fit'!D33)^2/'Goodness of fit'!D33,\"\")","v":""}]
[{"$f":"'Goodness of fit'!F$12/1000+A33","v":0.52800000000000036},{"$error":"#NUM!"},{"$f":"IF(A34>='Goodness of fit'!$F$11,B34,0)","v":{"$error":"#NUM!"}},{"$error":"#NUM!"},{"$f":"IF('Goodness of fit'!D34>0,('Goodness of fit'!C34-'Goodness of fit'!D34)^2/'Goodness of fit'!D34,\"\")","v":""}]
[{"$f":"'Goodness of fit'!F$12/1000+A34","v":0.54400000000000037},{"$error":"#NUM!"},{"$f":"IF(A35>='Goodness of fit'!$F$11,B35,0)","v":{"$error":"#NUM!"}},{"$error":"#NUM!"},{"$f":"IF('Goodness of fit'!D35>0,('Goodness of fit'!C35-'Goodness of fit'!D35)^2/'Goodness of fit'!D35,\"\")","v":""}]
[{"$f":"'Goodness of fit'!F$12/1000+A35","v":0.56000000000000039},{"$error":"#NUM!"},{"$f":"IF(A36>='Goodness of fit'!$F$11,B36,0)","v":{"$error":"#NUM!"}},{"$error":"#NUM!"},{"$f":"IF('Goodness of fit'!D36>0,('Goodness of fit'!C36-'Goodness of fit'!D36)^2/'Goodness of fit'!D36,\"\")","v":""}]
[{"$f":"'Goodness of fit'!F$12/1000+A36","v":0.5760000000000004},{"$error":"#NUM!"},{"$f":"IF(A37>='Goodness of fit'!$F$11,B37,0)","v":{"$error":"#NUM!"}},{"$error":"#NUM!"},{"$f":"IF('Goodness of fit'!D37>0,('Goodness of fit'!C37-'Goodness of fit'!D37)^2/'Goodness of fit'!D37,\"\")","v":""}]
[{"$f":"'Goodness of fit'!F$12/1000+A37","v":0.59200000000000041},{"$error":"#NUM!"},{"$f":"IF(A38>='Goodness of fit'!$F$11,B38,0)","v":{"$error":"#NUM!"}},{"$error":"#NUM!"},{"$f":"IF('Goodness of fit'!D38>0,('Goodness of fit'!C38-'Goodness of fit'!D38)^2/'Goodness of fit'!D38,\"\")","v":""}]
[{"$f":"'Goodness of fit'!F$12/1000+A38","v":0.60800000000000043},{"$error":"#NUM!"},{"$f":"IF(A39>='Goodness of fit'!$F$11,B39,0)","v":{"$error":"#NUM!"}},{"$error":"#NUM!"},{"$f":"IF('Goodness of fit'!D39>0,('Goodness of fit'!C39-'Goodness of fit'!D39)^2/'Goodness of fit'!D39,\"\")","v":""}]
[{"$f":"'Goodness of fit'!F$12/1000+A39","v":0.62400000000000044},{"$error":"#NUM!"},{"$f":"IF(A40>='Goodness of fit'!$F$11,B40,0)","v":{"$error":"#NUM!"}},{"$error":"#NUM!"},{"$f":"IF('Goodness of fit'!D40>0,('Goodness of fit'!C40-'Goodness of fit'!D40)^2/'Goodness of fit'!D40,\"\")","v":""}]
[{"$f":"'Goodness of fit'!F$12/1000+A40","v":0.64000000000000046},{"$error":"#NUM!"},{"$f":"IF(A41>='Goodness of fit'!$F$11,B41,0)","v":{"$error":"#NUM!"}},{"$error":"#NUM!"},{"$f":"IF('Goodness of fit'!D41>0,('Goodness of fit'!C41-'Goodness of fit'!D41)^2/'Goodness of fit'!D41,\"\")","v":""}]
[{"$f":"'Goodness of fit'!F$12/1000+A41","v":0.65600000000000047},{"$error":"#NUM!"},{"$f":"IF(A42>='Goodness of fit'!$F$11,B42,0)","v":{"$error":"#NUM!"}},{"$error":"#NUM!"},{"$f":"IF('Goodness of fit'!D42>0,('Goodness of fit'!C42-'Goodness of fit'!D42)^2/'Goodness of fit'!D42,\"\")","v":""}]
[{"$f":"'Goodness of fit'!F$12/1000+A42","v":0.67200000000000049},{"$error":"#NUM!"},{"$f":"IF(A43>='Goodness of fit'!$F$11,B43,0)","v":{"$error":"#NUM!"}},{"$error":"#NUM!"},{"$f":"IF('Goodness of fit'!D43>0,('Goodness of fit'!C43-'Goodness of fit'!D43)^2/'Goodness of fit'!D43,\"\")","v":""}]
[{"$f":"'Goodness of fit'!F$12/1000+A43","v":0.6880000000000005},{"$error":"#NUM!"},{"$f":"IF(A44>='Goodness of fit'!$F$11,B44,0)","v":{"$error":"#NUM!"}},{"$error":"#NUM!"},{"$f":"IF('Goodness of fit'!D44>0,('Goodness of fit'!C44-'Goodness of fit'!D44)^2/'Goodness of fit'!D44,\"\")","v":""}]
[{"$f":"'Goodness of fit'!F$12/1000+A44","v":0.70400000000000051},{"$error":"#NUM!"},{"$f":"IF(A45>='Goodness of fit'!$F$11,B45,0)","v":{"$error":"#NUM!"}},{"$error":"#NUM!"},{"$f":"IF('Goodness of fit'!D45>0,('Goodness of fit'!C45-'Goodness of fit'!D45)^2/'Goodness of fit'!D45,\"\")","v":""}]
[{"$f":"'Goodness of fit'!F$12/1000+A45","v":0.72000000000000053},{"$error":"#NUM!"},{"$f":"IF(A46>='Goodness of fit'!$F$11,B46,0)","v":{"$error":"#NUM!"}},{"$error":"#NUM!"},{"$f":"IF('Goodness of fit'!D46>0,('Goodness of fit'!C46-'Goodness of fit'!D46)^2/'Goodness of fit'!D46,\"\")","v":""}]
[{"$f":"'Goodness of fit'!F$12/1000+A46","v":0.73600000000000054},{"$error":"#NUM!"},{"$f":"IF(A47>='Goodness of fit'!$F$11,B47,0)","v":{"$error":"#NUM!"}},{"$error":"#NUM!"},{"$f":"IF('Goodness of fit'!D47>0,('Goodness of fit'!C47-'Goodness of fit'!D47)^2/'Goodness of fit'!D47,\"\")","v":""}]
[{"$f":"'Goodness of fit'!F$12/1000+A47","v":0.75200000000000056},{"$error":"#NUM!"},{"$f":"IF(A48>='Goodness of fit'!$F$11,B48,0)","v":{"$error":"#NUM!"}},{"$error":"#NUM!"},{"$f":"IF('Goodness of fit'!D48>0,('Goodness of fit'!C48-'Goodness of fit'!D48)^2/'Goodness of fit'!D48,\"\")","v":""}]
[{"$f":"'Goodness of fit'!F$12/1000+A48","v":0.76800000000000057},{"$error":"#NUM!"},{"$f":"IF(A49>='Goodness of fit'!$F$11,B49,0)","v":{"$error":"#NUM!"}},{"$error":"#NUM!"},{"$f":"IF('Goodness of fit'!D49>0,('Goodness of fit'!C49-'Goodness of fit'!D49)^2/'Goodness of fit'!D49,\"\")","v":""}]
[{"$f":"'Goodness of fit'!F$12/1000+A49","v":0.78400000000000059},{"$error":"#NUM!"},{"$f":"IF(A50>='Goodness of fit'!$F$11,B50,0)","v":{"$error":"#NUM!"}},{"$error":"#NUM!"},{"$f":"IF('Goodness of fit'!D50>0,('Goodness of fit'!C50-'Goodness of fit'!D50)^2/'Goodness of fit'!D50,\"\")","v":""}]
[{"$f":"'Goodness of fit'!F$12/1000+A50","v":0.8000000000000006},{"$error":"#NUM!"},{"$f":"IF(A51>='Goodness of fit'!$F$11,B51,0)","v":{"$error":"#NUM!"}},{"$error":"#NUM!"},{"$f":"IF('Goodness of fit'!D51>0,('Goodness of fit'!C51-'Goodness of fit'!D51)^2/'Goodness of fit'!D51,\"\")","v":""}]
[{"$f":"'Goodness of fit'!F$12/1000+A51","v":0.81600000000000061},{"$error":"#NUM!"},{"$f":"IF(A52>='Goodness of fit'!$F$11,B52,0)","v":{"$error":"#NUM!"}},{"$error":"#NUM!"},{"$f":"IF('Goodness of fit'!D52>0,('Goodness of fit'!C52-'Goodness of fit'!D52)^2/'Goodness of fit'!D52,\"\")","v":""}]
[{"$f":"'Goodness of fit'!F$12/1000+A52","v":0.83200000000000063},{"$error":"#NUM!"},{"$f":"IF(A53>='Goodness of fit'!$F$11,B53,0)","v":{"$error":"#NUM!"}},{"$error":"#NUM!"},{"$f":"IF('Goodness of fit'!D53>0,('Goodness of fit'!C53-'Goodness of fit'!D53)^2/'Goodness of fit'!D53,\"\")","v":""}]
[{"$f":"'Goodness of fit'!F$12/1000+A53","v":0.84800000000000064},{"$error":"#NUM!"},{"$f":"IF(A54>='Goodness of fit'!$F$11,B54,0)","v":{"$error":"#NUM!"}},{"$error":"#NUM!"},{"$f":"IF('Goodness of fit'!D54>0,('Goodness of fit'!C54-'Goodness of fit'!D54)^2/'Goodness of fit'!D54,\"\")","v":""}]
[{"$f":"'Goodness of fit'!F$12/1000+A54","v":0.86400000000000066},{"$error":"#NUM!"},{"$f":"IF(A55>='Goodness of fit'!$F$11,B55,0)","v":{"$error":"#NUM!"}},{"$error":"#NUM!"},{"$f":"IF('Goodness of fit'!D55>0,('Goodness of fit'!C55-'Goodness of fit'!D55)^2/'Goodness of fit'!D55,\"\")","v":""}]
[{"$f":"'Goodness of fit'!F$12/1000+A55","v":0.88000000000000067},{"$error":"#NUM!"},{"$f":"IF(A56>='Goodness of fit'!$F$11,B56,0)","v":{"$error":"#NUM!"}},{"$error":"#NUM!"},{"$f":"IF('Goodness of fit'!D56>0,('Goodness of fit'!C56-'Goodness of fit'!D56)^2/'Goodness of fit'!D56,\"\")","v":""}]
[{"$f":"'Goodness of fit'!F$12/1000+A56","v":0.89600000000000068},{"$error":"#NUM!"},{"$f":"IF(A57>='Goodness of fit'!$F$11,B57,0)","v":{"$error":"#NUM!"}},{"$error":"#NUM!"},{"$f":"IF('Goodness of fit'!D57>0,('Goodness of fit'!C57-'Goodness of fit'!D57)^2/'Goodness of fit'!D57,\"\")","v":""}]
[{"$f":"'Goodness of fit'!F$12/1000+A57","v":0.9120000000000007},{"$error":"#NUM!"},{"$f":"IF(A58>='Goodness of fit'!$F$11,B58,0)","v":{"$error":"#NUM!"}},{"$error":"#NUM!"},{"$f":"IF('Goodness of fit'!D58>0,('Goodness of fit'!C58-'Goodness of fit'!D58)^2/'Goodness of fit'!D58,\"\")","v":""}]
[{"$f":"'Goodness of fit'!F$12/1000+A58","v":0.92800000000000071},{"$error":"#NUM!"},{"$f":"IF(A59>='Goodness of fit'!$F$11,B59,0)","v":{"$error":"#NUM!"}},{"$error":"#NUM!"},{"$f":"IF('Goodness of fit'!D59>0,('Goodness of fit'!C59-'Goodness of fit'!D59)^2/'Goodness of fit'!D59,\"\")","v":""}]
[{"$f":"'Goodness of fit'!F$12/1000+A59","v":0.94400000000000073},{"$error":"#NUM!"},{"$f":"IF(A60>='Goodness of fit'!$F$11,B60,0)","v":{"$error":"#NUM!"}},{"$error":"#NUM!"},{"$f":"IF('Goodness of fit'!D60>0,('Goodness of fit'!C60-'Goodness of fit'!D60)^2/'Goodness of fit'!D60,\"\")","v":""}]
[{"$f":"'Goodness of fit'!F$12/1000+A60","v":0.96000000000000074},{"$error":"#NUM!"},{"$f":"IF(A61>='Goodness of fit'!$F$11,B61,0)","v":{"$error":"#NUM!"}},{"$error":"#NUM!"},{"$f":"IF('Goodness of fit'!D61>0,('Goodness of fit'!C61-'Goodness of fit'!D61)^2/'Goodness of fit'!D61,\"\")","v":""}]
[{"$f":"'Goodness of fit'!F$12/1000+A61","v":0.97600000000000076},{"$error":"#NUM!"},{"$f":"IF(A62>='Goodness of fit'!$F$11,B62,0)","v":{"$error":"#NUM!"}},{"$error":"#NUM!"},{"$f":"IF('Goodness of fit'!D62>0,('Goodness of fit'!C62-'Goodness of fit'!D62)^2/'Goodness of fit'!D62,\"\")","v":""}]
[{"$f":"'Goodness of fit'!F$12/1000+A62","v":0.99200000000000077},{"$error":"#NUM!"},{"$f":"IF(A63>='Goodness of fit'!$F$11,B63,0)","v":{"$error":"#NUM!"}},{"$error":"#NUM!"},{"$f":"IF('Goodness of fit'!D63>0,('Goodness of fit'!C63-'Goodness of fit'!D63)^2/'Goodness of fit'!D63,\"\")","v":""}]
[{"$f":"'Goodness of fit'!F$12/1000+A63","v":1.0080000000000007},{"$error":"#NUM!"},{"$f":"IF(A64>='Goodness of fit'!$F$11,B64,0)","v":{"$error":"#NUM!"}},{"$error":"#NUM!"},{"$f":"IF('Goodness of fit'!D64>0,('Goodness of fit'!C64-'Goodness of fit'!D64)^2/'Goodness of fit'!D64,\"\")","v":""}]
[{"$f":"'Goodness of fit'!F$12/1000+A64","v":1.0240000000000007},{"$error":"#NUM!"},{"$f":"IF(A65>='Goodness of fit'!$F$11,B65,0)","v":{"$error":"#NUM!"}},{"$error":"#NUM!"},{"$f":"IF('Goodness of fit'!D65>0,('Goodness of fit'!C65-'Goodness of fit'!D65)^2/'Goodness of fit'!D65,\"\")","v":""}]
[{"$f":"'Goodness of fit'!F$12/1000+A65","v":1.0400000000000007},{"$error":"#NUM!"},{"$f":"IF(A66>='Goodness of fit'!$F$11,B66,0)","v":{"$error":"#NUM!"}},{"$f":"CHIDIST(A66,F$1)","v":{"$error":"#NUM!"}},{"$f":"IF('Goodness of fit'!D66>0,('Goodness of fit'!C66-'Goodness of fit'!D66)^2/'Goodness of fit'!D66,\"\")","v":""}]
[{"$f":"'Goodness of fit'!F$12/1000+A66","v":1.0560000000000007},{"$f":"_xlfn.CHISQ.DIST(A67,F$1,FALSE)","v":{"$error":"#NUM!"}},{"$f":"IF(A67>='Goodness of fit'!$F$11,B67,0)","v":{"$error":"#NUM!"}},{"$error":"#NUM!"},{"$f":"IF('Goodness of fit'!D67>0,('Goodness of fit'!C67-'Goodness of fit'!D67)^2/'Goodness of fit'!D67,\"\")","v":""}]
[{"$f":"'Goodness of fit'!F$12/1000+A67","v":1.0720000000000007},{"$error":"#NUM!"},{"$f":"IF(A68>='Goodness of fit'!$F$11,B68,0)","v":{"$error":"#NUM!"}},{"$error":"#NUM!"},{"$f":"IF('Goodness of fit'!D68>0,('Goodness of fit'!C68-'Goodness of fit'!D68)^2/'Goodness of fit'!D68,\"\")","v":""}]
[{"$f":"'Goodness of fit'!F$12/1000+A68","v":1.0880000000000007},{"$error":"#NUM!"},{"$f":"IF(A69>='Goodness of fit'!$F$11,B69,0)","v":{"$error":"#NUM!"}},{"$error":"#NUM!"},{"$f":"IF('Goodness of fit'!D69>0,('Goodness of fit'!C69-'Goodness of fit'!D69)^2/'Goodness of fit'!D69,\"\")","v":""}]
[{"$f":"'Goodness of fit'!F$12/1000+A69","v":1.1040000000000008},{"$error":"#NUM!"},{"$f":"IF(A70>='Goodness of fit'!$F$11,B70,0)","v":{"$error":"#NUM!"}},{"$error":"#NUM!"},{"$f":"IF('Goodness of fit'!D70>0,('Goodness of fit'!C70-'Goodness of fit'!D70)^2/'Goodness of fit'!D70,\"\")","v":""}]
[{"$f":"'Goodness of fit'!F$12/1000+A70","v":1.1200000000000008},{"$error":"#NUM!"},{"$f":"IF(A71>='Goodness of fit'!$F$11,B71,0)","v":{"$error":"#NUM!"}},{"$error":"#NUM!"},{"$f":"IF('Goodness of fit'!D71>0,('Goodness of fit'!C71-'Goodness of fit'!D71)^2/'Goodness of fit'!D71,\"\")","v":""}]
[{"$f":"'Goodness of fit'!F$12/1000+A71","v":1.1360000000000008},{"$error":"#NUM!"},{"$f":"IF(A72>='Goodness of fit'!$F$11,B72,0)","v":{"$error":"#NUM!"}},{"$error":"#NUM!"},{"$f":"IF('Goodness of fit'!D72>0,('Goodness of fit'!C72-'Goodness of fit'!D72)^2/'Goodness of fit'!D72,\"\")","v":""}]
[{"$f":"'Goodness of fit'!F$12/1000+A72","v":1.1520000000000008},{"$error":"#NUM!"},{"$f":"IF(A73>='Goodness of fit'!$F$11,B73,0)","v":{"$error":"#NUM!"}},{"$error":"#NUM!"},{"$f":"IF('Goodness of fit'!D73>0,('Goodness of fit'!C73-'Goodness of fit'!D73)^2/'Goodness of fit'!D73,\"\")","v":""}]
[{"$f":"'Goodness of fit'!F$12/1000+A73","v":1.1680000000000008},{"$error":"#NUM!"},{"$f":"IF(A74>='Goodness of fit'!$F$11,B74,0)","v":{"$error":"#NUM!"}},{"$error":"#NUM!"},{"$f":"IF('Goodness of fit'!D74>0,('Goodness of fit'!C74-'Goodness of fit'!D74)^2/'Goodness of fit'!D74,\"\")","v":""}]
[{"$f":"'Goodness of fit'!F$12/1000+A74","v":1.1840000000000008},{"$error":"#NUM!"},{"$f":"IF(A75>='Goodness of fit'!$F$11,B75,0)","v":{"$error":"#NUM!"}},{"$error":"#NUM!"},{"$f":"IF('Goodness of fit'!D75>0,('Goodness of fit'!C75-'Goodness of fit'!D75)^2/'Goodness of fit'!D75,\"\")","v":""}]
[{"$f":"'Goodness of fit'!F$12/1000+A75","v":1.2000000000000008},{"$error":"#NUM!"},{"$f":"IF(A76>='Goodness of fit'!$F$11,B76,0)","v":{"$error":"#NUM!"}},{"$error":"#NUM!"},{"$f":"IF('Goodness of fit'!D76>0,('Goodness of fit'!C76-'Goodness of fit'!D76)^2/'Goodness of fit'!D76,\"\")","v":""}]
[{"$f":"'Goodness of fit'!F$12/1000+A76","v":1.2160000000000009},{"$error":"#NUM!"},{"$f":"IF(A77>='Goodness of fit'!$F$11,B77,0)","v":{"$error":"#NUM!"}},{"$error":"#NUM!"},{"$f":"IF('Goodness of fit'!D77>0,('Goodness of fit'!C77-'Goodness of fit'!D77)^2/'Goodness of fit'!D77,\"\")","v":""}]
[{"$f":"'Goodness of fit'!F$12/1000+A77","v":1.2320000000000009},{"$error":"#NUM!"},{"$f":"IF(A78>='Goodness of fit'!$F$11,B78,0)","v":{"$error":"#NUM!"}},{"$error":"#NUM!"},{"$f":"IF('Goodness of fit'!D78>0,('Goodness of fit'!C78-'Goodness of fit'!D78)^2/'Goodness of fit'!D78,\"\")","v":""}]
[{"$f":"'Goodness of fit'!F$12/1000+A78","v":1.2480000000000009},{"$error":"#NUM!"},{"$f":"IF(A79>='Goodness of fit'!$F$11,B79,0)","v":{"$error":"#NUM!"}},{"$error":"#NUM!"},{"$f":"IF('Goodness of fit'!D79>0,('Goodness of fit'!C79-'Goodness of fit'!D79)^2/'Goodness of fit'!D79,\"\")","v":""}]
[{"$f":"'Goodness of fit'!F$12/1000+A79","v":1.2640000000000009},{"$error":"#NUM!"},{"$f":"IF(A80>='Goodness of fit'!$F$11,B80,0)","v":{"$error":"#NUM!"}},{"$error":"#NUM!"},{"$f":"IF('Goodness of fit'!D80>0,('Goodness of fit'!C80-'Goodness of fit'!D80)^2/'Goodness of fit'!D80,\"\")","v":""}]
[{"$f":"'Goodness of fit'!F$12/1000+A80","v":1.2800000000000009},{"$error":"#NUM!"},{"$f":"IF(A81>='Goodness of fit'!$F$11,B81,0)","v":{"$error":"#NUM!"}},{"$error":"#NUM!"},{"$f":"IF('Goodness of fit'!D81>0,('Goodness of fit'!C81-'Goodness of fit'!D81)^2/'Goodness of fit'!D81,\"\")","v":""}]
[{"$f":"'Goodness of fit'!F$12/1000+A81","v":1.2960000000000009},{"$error":"#NUM!"},{"$f":"IF(A82>='Goodness of fit'!$F$11,B82,0)","v":{"$error":"#NUM!"}},{"$error":"#NUM!"},{"$f":"IF('Goodness of fit'!D82>0,('Goodness of fit'!C82-'Goodness of fit'!D82)^2/'Goodness of fit'!D82,\"\")","v":""}]
[{"$f":"'Goodness of fit'!F$12/1000+A82","v":1.3120000000000009},{"$error":"#NUM!"},{"$f":"IF(A83>='Goodness of fit'!$F$11,B83,0)","v":{"$error":"#NUM!"}},{"$error":"#NUM!"},{"$f":"IF('Goodness of fit'!D83>0,('Goodness of fit'!C83-'Goodness of fit'!D83)^2/'Goodness of fit'!D83,\"\")","v":""}]
[{"$f":"'Goodness of fit'!F$12/1000+A83","v":1.328000000000001},{"$error":"#NUM!"},{"$f":"IF(A84>='Goodness of fit'!$F$11,B84,0)","v":{"$error":"#NUM!"}},{"$error":"#NUM!"},{"$f":"IF('Goodness of fit'!D84>0,('Goodness of fit'!C84-'Goodness of fit'!D84)^2/'Goodness of fit'!D84,\"\")","v":""}]
[{"$f":"'Goodness of fit'!F$12/1000+A84","v":1.344000000000001},{"$error":"#NUM!"},{"$f":"IF(A85>='Goodness of fit'!$F$11,B85,0)","v":{"$error":"#NUM!"}},{"$error":"#NUM!"},{"$f":"IF('Goodness of fit'!D85>0,('Goodness of fit'!C85-'Goodness of fit'!D85)^2/'Goodness of fit'!D85,\"\")","v":""}]
[{"$f":"'Goodness of fit'!F$12/1000+A85","v":1.360000000000001},{"$error":"#NUM!"},{"$f":"IF(A86>='Goodness of fit'!$F$11,B86,0)","v":{"$error":"#NUM!"}},{"$error":"#NUM!"},{"$f":"IF('Goodness of fit'!D86>0,('Goodness of fit'!C86-'Goodness of fit'!D86)^2/'Goodness of fit'!D86,\"\")","v":""}]
[{"$f":"'Goodness of fit'!F$12/1000+A86","v":1.376000000000001},{"$error":"#NUM!"},{"$f":"IF(A87>='Goodness of fit'!$F$11,B87,0)","v":{"$error":"#NUM!"}},{"$error":"#NUM!"},{"$f":"IF('Goodness of fit'!D87>0,('Goodness of fit'!C87-'Goodness of fit'!D87)^2/'Goodness of fit'!D87,\"\")","v":""}]
[{"$f":"'Goodness of fit'!F$12/1000+A87","v":1.392000000000001},{"$error":"#NUM!"},{"$f":"IF(A88>='Goodness of fit'!$F$11,B88,0)","v":{"$error":"#NUM!"}},{"$error":"#NUM!"},{"$f":"IF('Goodness of fit'!D88>0,('Goodness of fit'!C88-'Goodness of fit'!D88)^2/'Goodness of fit'!D88,\"\")","v":""}]
[{"$f":"'Goodness of fit'!F$12/1000+A88","v":1.408000000000001},{"$error":"#NUM!"},{"$f":"IF(A89>='Goodness of fit'!$F$11,B89,0)","v":{"$error":"#NUM!"}},{"$error":"#NUM!"},{"$f":"IF('Goodness of fit'!D89>0,('Goodness of fit'!C89-'Goodness of fit'!D89)^2/'Goodness of fit'!D89,\"\")","v":""}]
[{"$f":"'Goodness of fit'!F$12/1000+A89","v":1.424000000000001},{"$error":"#NUM!"},{"$f":"IF(A90>='Goodness of fit'!$F$11,B90,0)","v":{"$error":"#NUM!"}},{"$error":"#NUM!"},{"$f":"IF('Goodness of fit'!D90>0,('Goodness of fit'!C90-'Goodness of fit'!D90)^2/'Goodness of fit'!D90,\"\")","v":""}]
[{"$f":"'Goodness of fit'!F$12/1000+A90","v":1.4400000000000011},{"$error":"#NUM!"},{"$f":"IF(A91>='Goodness of fit'!$F$11,B91,0)","v":{"$error":"#NUM!"}},{"$error":"#NUM!"},{"$f":"IF('Goodness of fit'!D91>0,('Goodness of fit'!C91-'Goodness of fit'!D91)^2/'Goodness of fit'!D91,\"\")","v":""}]
[{"$f":"'Goodness of fit'!F$12/1000+A91","v":1.4560000000000011},{"$error":"#NUM!"},{"$f":"IF(A92>='Goodness of fit'!$F$11,B92,0)","v":{"$error":"#NUM!"}},{"$error":"#NUM!"},{"$f":"IF('Goodness of fit'!D92>0,('Goodness of fit'!C92-'Goodness of fit'!D92)^2/'Goodness of fit'!D92,\"\")","v":""}]
[{"$f":"'Goodness of fit'!F$12/1000+A92","v":1.4720000000000011},{"$error":"#NUM!"},{"$f":"IF(A93>='Goodness of fit'!$F$11,B93,0)","v":{"$error":"#NUM!"}},{"$error":"#NUM!"},{"$f":"IF('Goodness of fit'!D93>0,('Goodness of fit'!C93-'Goodness of fit'!D93)^2/'Goodness of fit'!D93,\"\")","v":""}]
[{"$f":"'Goodness of fit'!F$12/1000+A93","v":1.4880000000000011},{"$error":"#NUM!"},{"$f":"IF(A94>='Goodness of fit'!$F$11,B94,0)","v":{"$error":"#NUM!"}},{"$error":"#NUM!"},{"$f":"IF('Goodness of fit'!D94>0,('Goodness of fit'!C94-'Goodness of fit'!D94)^2/'Goodness of fit'!D94,\"\")","v":""}]
[{"$f":"'Goodness of fit'!F$12/1000+A94","v":1.5040000000000011},{"$error":"#NUM!"},{"$f":"IF(A95>='Goodness of fit'!$F$11,B95,0)","v":{"$error":"#NUM!"}},{"$error":"#NUM!"},{"$f":"IF('Goodness of fit'!D95>0,('Goodness of fit'!C95-'Goodness of fit'!D95)^2/'Goodness of fit'!D95,\"\")","v":""}]
[{"$f":"'Goodness of fit'!F$12/1000+A95","v":1.5200000000000011},{"$error":"#NUM!"},{"$f":"IF(A96>='Goodness of fit'!$F$11,B96,0)","v":{"$error":"#NUM!"}},{"$error":"#NUM!"},{"$f":"IF('Goodness of fit'!D96>0,('Goodness of fit'!C96-'Goodness of fit'!D96)^2/'Goodness of fit'!D96,\"\")","v":""}]
[{"$f":"'Goodness of fit'!F$12/1000+A96","v":1.5360000000000011},{"$error":"#NUM!"},{"$f":"IF(A97>='Goodness of fit'!$F$11,B97,0)","v":{"$error":"#NUM!"}},{"$error":"#NUM!"},{"$f":"IF('Goodness of fit'!D97>0,('Goodness of fit'!C97-'Goodness of fit'!D97)^2/'Goodness of fit'!D97,\"\")","v":""}]
[{"$f":"'Goodness of fit'!F$12/1000+A97","v":1.5520000000000012},{"$error":"#NUM!"},{"$f":"IF(A98>='Goodness of fit'!$F$11,B98,0)","v":{"$error":"#NUM!"}},{"$error":"#NUM!"},{"$f":"IF('Goodness of fit'!D98>0,('Goodness of fit'!C98-'Goodness of fit'!D98)^2/'Goodness of fit'!D98,\"\")","v":""}]
[{"$f":"'Goodness of fit'!F$12/1000+A98","v":1.5680000000000012},{"$error":"#NUM!"},{"$f":"IF(A99>='Goodness of fit'!$F$11,B99,0)","v":{"$error":"#NUM!"}},{"$error":"#NUM!"},{"$f":"IF('Goodness of fit'!D99>0,('Goodness of fit'!C99-'Goodness of fit'!D99)^2/'Goodness of fit'!D99,\"\")","v":""}]
[{"$f":"'Goodness of fit'!F$12/1000+A99","v":1.5840000000000012},{"$error":"#NUM!"},{"$f":"IF(A100>='Goodness of fit'!$F$11,B100,0)","v":{"$error":"#NUM!"}},{"$error":"#NUM!"},{"$f":"IF('Goodness of fit'!D100>0,('Goodness of fit'!C100-'Goodness of fit'!D100)^2/'Goodness of fit'!D100,\"\")","v":""}]
[{"$f":"'Goodness of fit'!F$12/1000+A100","v":1.6000000000000012},{"$error":"#NUM!"},{"$f":"IF(A101>='Goodness of fit'!$F$11,B101,0)","v":{"$error":"#NUM!"}},{"$error":"#NUM!"},{"$f":"IF('Goodness of fit'!D101>0,('Goodness of fit'!C101-'Goodness of fit'!D101)^2/'Goodness of fit'!D101,\"\")","v":""}]
[{"$f":"'Goodness of fit'!F$12/1000+A101","v":1.6160000000000012},{"$error":"#NUM!"},{"$f":"IF(A102>='Goodness of fit'!$F$11,B102,0)","v":{"$error":"#NUM!"}},{"$error":"#NUM!"},{"$f":"IF('Goodness of fit'!D102>0,('Goodness of fit'!C102-'Goodness of fit'!D102)^2/'Goodness of fit'!D102,\"\")","v":""}]
[{"$f":"'Goodness of fit'!F$12/1000+A102","v":1.6320000000000012},{"$error":"#NUM!"},{"$f":"IF(A103>='Goodness of fit'!$F$11,B103,0)","v":{"$error":"#NUM!"}},{"$error":"#NUM!"},{"$f":"IF('Goodness of fit'!D103>0,('Goodness of fit'!C103-'Goodness of fit'!D103)^2/'Goodness of fit'!D103,\"\")","v":""}]
[{"$f":"'Goodness of fit'!F$12/1000+A103","v":1.6480000000000012},{"$error":"#NUM!"},{"$f":"IF(A104>='Goodness of fit'!$F$11,B104,0)","v":{"$error":"#NUM!"}},{"$error":"#NUM!"},{"$f":"IF('Goodness of fit'!D104>0,('Goodness of fit'!C104-'Goodness of fit'!D104)^2/'Goodness of fit'!D104,\"\")","v":""}]
[{"$f":"'Goodness of fit'!F$12/1000+A104","v":1.6640000000000013},{"$error":"#NUM!"},{"$f":"IF(A105>='Goodness of fit'!$F$11,B105,0)","v":{"$error":"#NUM!"}},{"$error":"#NUM!"},{"$f":"IF('Goodness of fit'!D105>0,('Goodness of fit'!C105-'Goodness of fit'!D105)^2/'Goodness of fit'!D105,\"\")","v":""}]
[{"$f":"'Goodness of fit'!F$12/1000+A105","v":1.6800000000000013},{"$error":"#NUM!"},{"$f":"IF(A106>='Goodness of fit'!$F$11,B106,0)","v":{"$error":"#NUM!"}},{"$error":"#NUM!"},{"$f":"IF('Goodness of fit'!D106>0,('Goodness of fit'!C106-'Goodness of fit'!D106)^2/'Goodness of fit'!D106,\"\")","v":""}]
[{"$f":"'Goodness of fit'!F$12/1000+A106","v":1.6960000000000013},{"$error":"#NUM!"},{"$f":"IF(A107>='Goodness of fit'!$F$11,B107,0)","v":{"$error":"#NUM!"}},{"$error":"#NUM!"},{"$f":"IF('Goodness of fit'!D107>0,('Goodness of fit'!C107-'Goodness of fit'!D107)^2/'Goodness of fit'!D107,\"\")","v":""}]
[{"$f":"'Goodness of fit'!F$12/1000+A107","v":1.7120000000000013},{"$error":"#NUM!"},{"$f":"IF(A108>='Goodness of fit'!$F$11,B108,0)","v":{"$error":"#NUM!"}},{"$error":"#NUM!"},{"$f":"IF('Goodness of fit'!D108>0,('Goodness of fit'!C108-'Goodness of fit'!D108)^2/'Goodness of fit'!D108,\"\")","v":""}]
[{"$f":"'Goodness of fit'!F$12/1000+A108","v":1.7280000000000013},{"$error":"#NUM!"},{"$f":"IF(A109>='Goodness of fit'!$F$11,B109,0)","v":{"$error":"#NUM!"}},{"$error":"#NUM!"},{"$f":"IF('Goodness of fit'!D109>0,('Goodness of fit'!C109-'Goodness of fit'!D109)^2/'Goodness of fit'!D109,\"\")","v":""}]
[{"$f":"'Goodness of fit'!F$12/1000+A109","v":1.7440000000000013},{"$error":"#NUM!"},{"$f":"IF(A110>='Goodness of fit'!$F$11,B110,0)","v":{"$error":"#NUM!"}},{"$error":"#NUM!"},{"$f":"IF('Goodness of fit'!D110>0,('Goodness of fit'!C110-'Goodness of fit'!D110)^2/'Goodness of fit'!D110,\"\")","v":""}]
[{"$f":"'Goodness of fit'!F$12/1000+A110","v":1.7600000000000013},{"$error":"#NUM!"},{"$f":"IF(A111>='Goodness of fit'!$F$11,B111,0)","v":{"$error":"#NUM!"}},{"$error":"#NUM!"},{"$f":"IF('Goodness of fit'!D111>0,('Goodness of fit'!C111-'Goodness of fit'!D111)^2/'Goodness of fit'!D111,\"\")","v":""}]
[{"$f":"'Goodness of fit'!F$12/1000+A111","v":1.7760000000000014},{"$error":"#NUM!"},{"$f":"IF(A112>='Goodness of fit'!$F$11,B112,0)","v":{"$error":"#NUM!"}},{"$error":"#NUM!"},{"$f":"IF('Goodness of fit'!D112>0,('Goodness of fit'!C112-'Goodness of fit'!D112)^2/'Goodness of fit'!D112,\"\")","v":""}]
[{"$f":"'Goodness of fit'!F$12/1000+A112","v":1.7920000000000014},{"$error":"#NUM!"},{"$f":"IF(A113>='Goodness of fit'!$F$11,B113,0)","v":{"$error":"#NUM!"}},{"$error":"#NUM!"},{"$f":"IF('Goodness of fit'!D113>0,('Goodness of fit'!C113-'Goodness of fit'!D113)^2/'Goodness of fit'!D113,\"\")","v":""}]
[{"$f":"'Goodness of fit'!F$12/1000+A113","v":1.8080000000000014},{"$error":"#NUM!"},{"$f":"IF(A114>='Goodness of fit'!$F$11,B114,0)","v":{"$error":"#NUM!"}},{"$error":"#NUM!"},{"$f":"IF('Goodness of fit'!D114>0,('Goodness of fit'!C114-'Goodness of fit'!D114)^2/'Goodness of fit'!D114,\"\")","v":""}]
[{"$f":"'Goodness of fit'!F$12/1000+A114","v":1.8240000000000014},{"$error":"#NUM!"},{"$f":"IF(A115>='Goodness of fit'!$F$11,B115,0)","v":{"$error":"#NUM!"}},{"$error":"#NUM!"},{"$f":"IF('Goodness of fit'!D115>0,('Goodness of fit'!C115-'Goodness of fit'!D115)^2/'Goodness of fit'!D115,\"\")","v":""}]
[{"$f":"'Goodness of fit'!F$12/1000+A115","v":1.8400000000000014},{"$error":"#NUM!"},{"$f":"IF(A116>='Goodness of fit'!$F$11,B116,0)","v":{"$error":"#NUM!"}},{"$error":"#NUM!"},{"$f":"IF('Goodness of fit'!D116>0,('Goodness of fit'!C116-'Goodness of fit'!D116)^2/'Goodness of fit'!D116,\"\")","v":""}]
[{"$f":"'Goodness of fit'!F$12/1000+A116","v":1.8560000000000014},{"$error":"#NUM!"},{"$f":"IF(A117>='Goodness of fit'!$F$11,B117,0)","v":{"$error":"#NUM!"}},{"$error":"#NUM!"},{"$f":"IF('Goodness of fit'!D117>0,('Goodness of fit'!C117-'Goodness of fit'!D117)^2/'Goodness of fit'!D117,\"\")","v":""}]
[{"$f":"'Goodness of fit'!F$12/1000+A117","v":1.8720000000000014},{"$error":"#NUM!"},{"$f":"IF(A118>='Goodness of fit'!$F$11,B118,0)","v":{"$error":"#NUM!"}},{"$error":"#NUM!"},{"$f":"IF('Goodness of fit'!D118>0,('Goodness of fit'!C118-'Goodness of fit'!D118)^2/'Goodness of fit'!D118,\"\")","v":""}]
[{"$f":"'Goodness of fit'!F$12/1000+A118","v":1.8880000000000015},{"$error":"#NUM!"},{"$f":"IF(A119>='Goodness of fit'!$F$11,B119,0)","v":{"$error":"#NUM!"}},{"$error":"#NUM!"},{"$f":"IF('Goodness of fit'!D119>0,('Goodness of fit'!C119-'Goodness of fit'!D119)^2/'Goodness of fit'!D119,\"\")","v":""}]
[{"$f":"'Goodness of fit'!F$12/1000+A119","v":1.9040000000000015},{"$error":"#NUM!"},{"$f":"IF(A120>='Goodness of fit'!$F$11,B120,0)","v":{"$error":"#NUM!"}},{"$error":"#NUM!"},{"$f":"IF('Goodness of fit'!D120>0,('Goodness of fit'!C120-'Goodness of fit'!D120)^2/'Goodness of fit'!D120,\"\")","v":""}]
[{"$f":"'Goodness of fit'!F$12/1000+A120","v":1.9200000000000015},{"$error":"#NUM!"},{"$f":"IF(A121>='Goodness of fit'!$F$11,B121,0)","v":{"$error":"#NUM!"}},{"$error":"#NUM!"},{"$f":"IF('Goodness of fit'!D121>0,('Goodness of fit'!C121-'Goodness of fit'!D121)^2/'Goodness of fit'!D121,\"\")","v":""}]
[{"$f":"'Goodness of fit'!F$12/1000+A121","v":1.9360000000000015},{"$error":"#NUM!"},{"$f":"IF(A122>='Goodness of fit'!$F$11,B122,0)","v":{"$error":"#NUM!"}},{"$error":"#NUM!"},{"$f":"IF('Goodness of fit'!D122>0,('Goodness of fit'!C122-'Goodness of fit'!D122)^2/'Goodness of fit'!D122,\"\")","v":""}]
[{"$f":"'Goodness of fit'!F$12/1000+A122","v":1.9520000000000015},{"$error":"#NUM!"},{"$f":"IF(A123>='Goodness of fit'!$F$11,B123,0)","v":{"$error":"#NUM!"}},{"$error":"#NUM!"},{"$f":"IF('Goodness of fit'!D123>0,('Goodness of fit'!C123-'Goodness of fit'!D123)^2/'Goodness of fit'!D123,\"\")","v":""}]
[{"$f":"'Goodness of fit'!F$12/1000+A123","v":1.9680000000000015},{"$error":"#NUM!"},{"$f":"IF(A124>='Goodness of fit'!$F$11,B124,0)","v":{"$error":"#NUM!"}},{"$error":"#NUM!"},{"$f":"IF('Goodness of fit'!D124>0,('Goodness of fit'!C124-'Goodness of fit'!D124)^2/'Goodness of fit'!D124,\"\")","v":""}]
[{"$f":"'Goodness of fit'!F$12/1000+A124","v":1.9840000000000015},{"$error":"#NUM!"},{"$f":"IF(A125>='Goodness of fit'!$F$11,B125,0)","v":{"$error":"#NUM!"}},{"$error":"#NUM!"},{"$f":"IF('Goodness of fit'!D125>0,('Goodness of fit'!C125-'Goodness of fit'!D125)^2/'Goodness of fit'!D125,\"\")","v":""}]
[{"$f":"'Goodness of fit'!F$12/1000+A125","v":2.0000000000000013},{"$error":"#NUM!"},{"$f":"IF(A126>='Goodness of fit'!$F$11,B126,0)","v":{"$error":"#NUM!"}},{"$error":"#NUM!"},{"$f":"IF('Goodness of fit'!D126>0,('Goodness of fit'!C126-'Goodness of fit'!D126)^2/'Goodness of fit'!D126,\"\")","v":""}]
[{"$f":"'Goodness of fit'!F$12/1000+A126","v":2.0160000000000013},{"$error":"#NUM!"},{"$f":"IF(A127>='Goodness of fit'!$F$11,B127,0)","v":{"$error":"#NUM!"}},{"$error":"#NUM!"},{"$f":"IF('Goodness of fit'!D127>0,('Goodness of fit'!C127-'Goodness of fit'!D127)^2/'Goodness of fit'!D127,\"\")","v":""}]
[{"$f":"'Goodness of fit'!F$12/1000+A127","v":2.0320000000000014},{"$error":"#NUM!"},{"$f":"IF(A128>='Goodness of fit'!$F$11,B128,0)","v":{"$error":"#NUM!"}},{"$error":"#NUM!"},{"$f":"IF('Goodness of fit'!D128>0,('Goodness of fit'!C128-'Goodness of fit'!D128)^2/'Goodness of fit'!D128,\"\")","v":""}]
[{"$f":"'Goodness of fit'!F$12/1000+A128","v":2.0480000000000014},{"$error":"#NUM!"},{"$f":"IF(A129>='Goodness of fit'!$F$11,B129,0)","v":{"$error":"#NUM!"}},{"$error":"#NUM!"},{"$f":"IF('Goodness of fit'!D129>0,('Goodness of fit'!C129-'Goodness of fit'!D129)^2/'Goodness of fit'!D129,\"\")","v":""}]
[{"$f":"'Goodness of fit'!F$12/1000+A129","v":2.0640000000000014},{"$error":"#NUM!"},{"$f":"IF(A130>='Goodness of fit'!$F$11,B130,0)","v":{"$error":"#NUM!"}},{"$f":"CHIDIST(A130,F$1)","v":{"$error":"#NUM!"}},{"$f":"IF('Goodness of fit'!D130>0,('Goodness of fit'!C130-'Goodness of fit'!D130)^2/'Goodness of fit'!D130,\"\")","v":""}]
[{"$f":"'Goodness of fit'!F$12/1000+A130","v":2.0800000000000014},{"$f":"_xlfn.CHISQ.DIST(A131,F$1,FALSE)","v":{"$error":"#NUM!"}},{"$f":"IF(A131>='Goodness of fit'!$F$11,B131,0)","v":{"$error":"#NUM!"}},{"$error":"#NUM!"},{"$f":"IF('Goodness of fit'!D131>0,('Goodness of fit'!C131-'Goodness of fit'!D131)^2/'Goodness of fit'!D131,\"\")","v":""}]
[{"$f":"'Goodness of fit'!F$12/1000+A131","v":2.0960000000000014},{"$error":"#NUM!"},{"$f":"IF(A132>='Goodness of fit'!$F$11,B132,0)","v":{"$error":"#NUM!"}},{"$error":"#NUM!"},{"$f":"IF('Goodness of fit'!D132>0,('Goodness of fit'!C132-'Goodness of fit'!D132)^2/'Goodness of fit'!D132,\"\")","v":""}]
[{"$f":"'Goodness of fit'!F$12/1000+A132","v":2.1120000000000014},{"$error":"#NUM!"},{"$f":"IF(A133>='Goodness of fit'!$F$11,B133,0)","v":{"$error":"#NUM!"}},{"$error":"#NUM!"},{"$f":"IF('Goodness of fit'!D133>0,('Goodness of fit'!C133-'Goodness of fit'!D133)^2/'Goodness of fit'!D133,\"\")","v":""}]
[{"$f":"'Goodness of fit'!F$12/1000+A133","v":2.1280000000000014},{"$error":"#NUM!"},{"$f":"IF(A134>='Goodness of fit'!$F$11,B134,0)","v":{"$error":"#NUM!"}},{"$error":"#NUM!"},{"$f":"IF('Goodness of fit'!D134>0,('Goodness of fit'!C134-'Goodness of fit'!D134)^2/'Goodness of fit'!D134,\"\")","v":""}]
[{"$f":"'Goodness of fit'!F$12/1000+A134","v":2.1440000000000015},{"$error":"#NUM!"},{"$f":"IF(A135>='Goodness of fit'!$F$11,B135,0)","v":{"$error":"#NUM!"}},{"$error":"#NUM!"},{"$f":"IF('Goodness of fit'!D135>0,('Goodness of fit'!C135-'Goodness of fit'!D135)^2/'Goodness of fit'!D135,\"\")","v":""}]
[{"$f":"'Goodness of fit'!F$12/1000+A135","v":2.1600000000000015},{"$error":"#NUM!"},{"$f":"IF(A136>='Goodness of fit'!$F$11,B136,0)","v":{"$error":"#NUM!"}},{"$error":"#NUM!"},{"$f":"IF('Goodness of fit'!D136>0,('Goodness of fit'!C136-'Goodness of fit'!D136)^2/'Goodness of fit'!D136,\"\")","v":""}]
[{"$f":"'Goodness of fit'!F$12/1000+A136","v":2.1760000000000015},{"$error":"#NUM!"},{"$f":"IF(A137>='Goodness of fit'!$F$11,B137,0)","v":{"$error":"#NUM!"}},{"$error":"#NUM!"},{"$f":"IF('Goodness of fit'!D137>0,('Goodness of fit'!C137-'Goodness of fit'!D137)^2/'Goodness of fit'!D137,\"\")","v":""}]
[{"$f":"'Goodness of fit'!F$12/1000+A137","v":2.1920000000000015},{"$error":"#NUM!"},{"$f":"IF(A138>='Goodness of fit'!$F$11,B138,0)","v":{"$error":"#NUM!"}},{"$error":"#NUM!"},{"$f":"IF('Goodness of fit'!D138>0,('Goodness of fit'!C138-'Goodness of fit'!D138)^2/'Goodness of fit'!D138,\"\")","v":""}]
[{"$f":"'Goodness of fit'!F$12/1000+A138","v":2.2080000000000015},{"$error":"#NUM!"},{"$f":"IF(A139>='Goodness of fit'!$F$11,B139,0)","v":{"$error":"#NUM!"}},{"$error":"#NUM!"},{"$f":"IF('Goodness of fit'!D139>0,('Goodness of fit'!C139-'Goodness of fit'!D139)^2/'Goodness of fit'!D139,\"\")","v":""}]
[{"$f":"'Goodness of fit'!F$12/1000+A139","v":2.2240000000000015},{"$error":"#NUM!"},{"$f":"IF(A140>='Goodness of fit'!$F$11,B140,0)","v":{"$error":"#NUM!"}},{"$error":"#NUM!"},{"$f":"IF('Goodness of fit'!D140>0,('Goodness of fit'!C140-'Goodness of fit'!D140)^2/'Goodness of fit'!D140,\"\")","v":""}]
[{"$f":"'Goodness of fit'!F$12/1000+A140","v":2.2400000000000015},{"$error":"#NUM!"},{"$f":"IF(A141>='Goodness of fit'!$F$11,B141,0)","v":{"$error":"#NUM!"}},{"$error":"#NUM!"},{"$f":"IF('Goodness of fit'!D141>0,('Goodness of fit'!C141-'Goodness of fit'!D141)^2/'Goodness of fit'!D141,\"\")","v":""}]
[{"$f":"'Goodness of fit'!F$12/1000+A141","v":2.2560000000000016},{"$error":"#NUM!"},{"$f":"IF(A142>='Goodness of fit'!$F$11,B142,0)","v":{"$error":"#NUM!"}},{"$error":"#NUM!"},{"$f":"IF('Goodness of fit'!D142>0,('Goodness of fit'!C142-'Goodness of fit'!D142)^2/'Goodness of fit'!D142,\"\")","v":""}]
[{"$f":"'Goodness of fit'!F$12/1000+A142","v":2.2720000000000016},{"$error":"#NUM!"},{"$f":"IF(A143>='Goodness of fit'!$F$11,B143,0)","v":{"$error":"#NUM!"}},{"$error":"#NUM!"},{"$f":"IF('Goodness of fit'!D143>0,('Goodness of fit'!C143-'Goodness of fit'!D143)^2/'Goodness of fit'!D143,\"\")","v":""}]
[{"$f":"'Goodness of fit'!F$12/1000+A143","v":2.2880000000000016},{"$error":"#NUM!"},{"$f":"IF(A144>='Goodness of fit'!$F$11,B144,0)","v":{"$error":"#NUM!"}},{"$error":"#NUM!"},{"$f":"IF('Goodness of fit'!D144>0,('Goodness of fit'!C144-'Goodness of fit'!D144)^2/'Goodness of fit'!D144,\"\")","v":""}]
[{"$f":"'Goodness of fit'!F$12/1000+A144","v":2.3040000000000016},{"$error":"#NUM!"},{"$f":"IF(A145>='Goodness of fit'!$F$11,B145,0)","v":{"$error":"#NUM!"}},{"$error":"#NUM!"},{"$f":"IF('Goodness of fit'!D145>0,('Goodness of fit'!C145-'Goodness of fit'!D145)^2/'Goodness of fit'!D145,\"\")","v":""}]
[{"$f":"'Goodness of fit'!F$12/1000+A145","v":2.3200000000000016},{"$error":"#NUM!"},{"$f":"IF(A146>='Goodness of fit'!$F$11,B146,0)","v":{"$error":"#NUM!"}},{"$error":"#NUM!"},{"$f":"IF('Goodness of fit'!D146>0,('Goodness of fit'!C146-'Goodness of fit'!D146)^2/'Goodness of fit'!D146,\"\")","v":""}]
[{"$f":"'Goodness of fit'!F$12/1000+A146","v":2.3360000000000016},{"$error":"#NUM!"},{"$f":"IF(A147>='Goodness of fit'!$F$11,B147,0)","v":{"$error":"#NUM!"}},{"$error":"#NUM!"},{"$f":"IF('Goodness of fit'!D147>0,('Goodness of fit'!C147-'Goodness of fit'!D147)^2/'Goodness of fit'!D147,\"\")","v":""}]
[{"$f":"'Goodness of fit'!F$12/1000+A147","v":2.3520000000000016},{"$error":"#NUM!"},{"$f":"IF(A148>='Goodness of fit'!$F$11,B148,0)","v":{"$error":"#NUM!"}},{"$error":"#NUM!"},{"$f":"IF('Goodness of fit'!D148>0,('Goodness of fit'!C148-'Goodness of fit'!D148)^2/'Goodness of fit'!D148,\"\")","v":""}]
[{"$f":"'Goodness of fit'!F$12/1000+A148","v":2.3680000000000017},{"$error":"#NUM!"},{"$f":"IF(A149>='Goodness of fit'!$F$11,B149,0)","v":{"$error":"#NUM!"}},{"$error":"#NUM!"},{"$f":"IF('Goodness of fit'!D149>0,('Goodness of fit'!C149-'Goodness of fit'!D149)^2/'Goodness of fit'!D149,\"\")","v":""}]
[{"$f":"'Goodness of fit'!F$12/1000+A149","v":2.3840000000000017},{"$error":"#NUM!"},{"$f":"IF(A150>='Goodness of fit'!$F$11,B150,0)","v":{"$error":"#NUM!"}},{"$error":"#NUM!"},{"$f":"IF('Goodness of fit'!D150>0,('Goodness of fit'!C150-'Goodness of fit'!D150)^2/'Goodness of fit'!D150,\"\")","v":""}]
[{"$f":"'Goodness of fit'!F$12/1000+A150","v":2.4000000000000017},{"$error":"#NUM!"},{"$f":"IF(A151>='Goodness of fit'!$F$11,B151,0)","v":{"$error":"#NUM!"}},{"$error":"#NUM!"},{"$f":"IF('Goodness of fit'!D151>0,('Goodness of fit'!C151-'Goodness of fit'!D151)^2/'Goodness of fit'!D151,\"\")","v":""}]
[{"$f":"'Goodness of fit'!F$12/1000+A151","v":2.4160000000000017},{"$error":"#NUM!"},{"$f":"IF(A152>='Goodness of fit'!$F$11,B152,0)","v":{"$error":"#NUM!"}},{"$error":"#NUM!"},{"$f":"IF('Goodness of fit'!D152>0,('Goodness of fit'!C152-'Goodness of fit'!D152)^2/'Goodness of fit'!D152,\"\")","v":""}]
[{"$f":"'Goodness of fit'!F$12/1000+A152","v":2.4320000000000017},{"$error":"#NUM!"},{"$f":"IF(A153>='Goodness of fit'!$F$11,B153,0)","v":{"$error":"#NUM!"}},{"$error":"#NUM!"},{"$f":"IF('Goodness of fit'!D153>0,('Goodness of fit'!C153-'Goodness of fit'!D153)^2/'Goodness of fit'!D153,\"\")","v":""}]
[{"$f":"'Goodness of fit'!F$12/1000+A153","v":2.4480000000000017},{"$error":"#NUM!"},{"$f":"IF(A154>='Goodness of fit'!$F$11,B154,0)","v":{"$error":"#NUM!"}},{"$error":"#NUM!"},{"$f":"IF('Goodness of fit'!D154>0,('Goodness of fit'!C154-'Goodness of fit'!D154)^2/'Goodness of fit'!D154,\"\")","v":""}]
[{"$f":"'Goodness of fit'!F$12/1000+A154","v":2.4640000000000017},{"$error":"#NUM!"},{"$f":"IF(A155>='Goodness of fit'!$F$11,B155,0)","v":{"$error":"#NUM!"}},{"$error":"#NUM!"},{"$f":"IF('Goodness of fit'!D155>0,('Goodness of fit'!C155-'Goodness of fit'!D155)^2/'Goodness of fit'!D155,\"\")","v":""}]
[{"$f":"'Goodness of fit'!F$12/1000+A155","v":2.4800000000000018},{"$error":"#NUM!"},{"$f":"IF(A156>='Goodness of fit'!$F$11,B156,0)","v":{"$error":"#NUM!"}},{"$error":"#NUM!"},{"$f":"IF('Goodness of fit'!D156>0,('Goodness of fit'!C156-'Goodness of fit'!D156)^2/'Goodness of fit'!D156,\"\")","v":""}]
[{"$f":"'Goodness of fit'!F$12/1000+A156","v":2.4960000000000018},{"$error":"#NUM!"},{"$f":"IF(A157>='Goodness of fit'!$F$11,B157,0)","v":{"$error":"#NUM!"}},{"$error":"#NUM!"},{"$f":"IF('Goodness of fit'!D157>0,('Goodness of fit'!C157-'Goodness of fit'!D157)^2/'Goodness of fit'!D157,\"\")","v":""}]
[{"$f":"'Goodness of fit'!F$12/1000+A157","v":2.5120000000000018},{"$error":"#NUM!"},{"$f":"IF(A158>='Goodness of fit'!$F$11,B158,0)","v":{"$error":"#NUM!"}},{"$error":"#NUM!"},{"$f":"IF('Goodness of fit'!D158>0,('Goodness of fit'!C158-'Goodness of fit'!D158)^2/'Goodness of fit'!D158,\"\")","v":""}]
[{"$f":"'Goodness of fit'!F$12/1000+A158","v":2.5280000000000018},{"$error":"#NUM!"},{"$f":"IF(A159>='Goodness of fit'!$F$11,B159,0)","v":{"$error":"#NUM!"}},{"$error":"#NUM!"},{"$f":"IF('Goodness of fit'!D159>0,('Goodness of fit'!C159-'Goodness of fit'!D159)^2/'Goodness of fit'!D159,\"\")","v":""}]
[{"$f":"'Goodness of fit'!F$12/1000+A159","v":2.5440000000000018},{"$error":"#NUM!"},{"$f":"IF(A160>='Goodness of fit'!$F$11,B160,0)","v":{"$error":"#NUM!"}},{"$error":"#NUM!"},{"$f":"IF('Goodness of fit'!D160>0,('Goodness of fit'!C160-'Goodness of fit'!D160)^2/'Goodness of fit'!D160,\"\")","v":""}]
[{"$f":"'Goodness of fit'!F$12/1000+A160","v":2.5600000000000018},{"$error":"#NUM!"},{"$f":"IF(A161>='Goodness of fit'!$F$11,B161,0)","v":{"$error":"#NUM!"}},{"$error":"#NUM!"},{"$f":"IF('Goodness of fit'!D161>0,('Goodness of fit'!C161-'Goodness of fit'!D161)^2/'Goodness of fit'!D161,\"\")","v":""}]
[{"$f":"'Goodness of fit'!F$12/1000+A161","v":2.5760000000000018},{"$error":"#NUM!"},{"$f":"IF(A162>='Goodness of fit'!$F$11,B162,0)","v":{"$error":"#NUM!"}},{"$error":"#NUM!"},{"$f":"IF('Goodness of fit'!D162>0,('Goodness of fit'!C162-'Goodness of fit'!D162)^2/'Goodness of fit'!D162,\"\")","v":""}]
[{"$f":"'Goodness of fit'!F$12/1000+A162","v":2.5920000000000019},{"$error":"#NUM!"},{"$f":"IF(A163>='Goodness of fit'!$F$11,B163,0)","v":{"$error":"#NUM!"}},{"$error":"#NUM!"},{"$f":"IF('Goodness of fit'!D163>0,('Goodness of fit'!C163-'Goodness of fit'!D163)^2/'Goodness of fit'!D163,\"\")","v":""}]
[{"$f":"'Goodness of fit'!F$12/1000+A163","v":2.6080000000000019},{"$error":"#NUM!"},{"$f":"IF(A164>='Goodness of fit'!$F$11,B164,0)","v":{"$error":"#NUM!"}},{"$error":"#NUM!"},{"$f":"IF('Goodness of fit'!D164>0,('Goodness of fit'!C164-'Goodness of fit'!D164)^2/'Goodness of fit'!D164,\"\")","v":""}]
[{"$f":"'Goodness of fit'!F$12/1000+A164","v":2.6240000000000019},{"$error":"#NUM!"},{"$f":"IF(A165>='Goodness of fit'!$F$11,B165,0)","v":{"$error":"#NUM!"}},{"$error":"#NUM!"},{"$f":"IF('Goodness of fit'!D165>0,('Goodness of fit'!C165-'Goodness of fit'!D165)^2/'Goodness of fit'!D165,\"\")","v":""}]
[{"$f":"'Goodness of fit'!F$12/1000+A165","v":2.6400000000000019},{"$error":"#NUM!"},{"$f":"IF(A166>='Goodness of fit'!$F$11,B166,0)","v":{"$error":"#NUM!"}},{"$error":"#NUM!"},{"$f":"IF('Goodness of fit'!D166>0,('Goodness of fit'!C166-'Goodness of fit'!D166)^2/'Goodness of fit'!D166,\"\")","v":""}]
[{"$f":"'Goodness of fit'!F$12/1000+A166","v":2.6560000000000019},{"$error":"#NUM!"},{"$f":"IF(A167>='Goodness of fit'!$F$11,B167,0)","v":{"$error":"#NUM!"}},{"$error":"#NUM!"},{"$f":"IF('Goodness of fit'!D167>0,('Goodness of fit'!C167-'Goodness of fit'!D167)^2/'Goodness of fit'!D167,\"\")","v":""}]
[{"$f":"'Goodness of fit'!F$12/1000+A167","v":2.6720000000000019},{"$error":"#NUM!"},{"$f":"IF(A168>='Goodness of fit'!$F$11,B168,0)","v":{"$error":"#NUM!"}},{"$error":"#NUM!"},{"$f":"IF('Goodness of fit'!D168>0,('Goodness of fit'!C168-'Goodness of fit'!D168)^2/'Goodness of fit'!D168,\"\")","v":""}]
[{"$f":"'Goodness of fit'!F$12/1000+A168","v":2.6880000000000019},{"$error":"#NUM!"},{"$f":"IF(A169>='Goodness of fit'!$F$11,B169,0)","v":{"$error":"#NUM!"}},{"$error":"#NUM!"},{"$f":"IF('Goodness of fit'!D169>0,('Goodness of fit'!C169-'Goodness of fit'!D169)^2/'Goodness of fit'!D169,\"\")","v":""}]
[{"$f":"'Goodness of fit'!F$12/1000+A169","v":2.704000000000002},{"$error":"#NUM!"},{"$f":"IF(A170>='Goodness of fit'!$F$11,B170,0)","v":{"$error":"#NUM!"}},{"$error":"#NUM!"},{"$f":"IF('Goodness of fit'!D170>0,('Goodness of fit'!C170-'Goodness of fit'!D170)^2/'Goodness of fit'!D170,\"\")","v":""}]
[{"$f":"'Goodness of fit'!F$12/1000+A170","v":2.720000000000002},{"$error":"#NUM!"},{"$f":"IF(A171>='Goodness of fit'!$F$11,B171,0)","v":{"$error":"#NUM!"}},{"$error":"#NUM!"},{"$f":"IF('Goodness of fit'!D171>0,('Goodness of fit'!C171-'Goodness of fit'!D171)^2/'Goodness of fit'!D171,\"\")","v":""}]
[{"$f":"'Goodness of fit'!F$12/1000+A171","v":2.736000000000002},{"$error":"#NUM!"},{"$f":"IF(A172>='Goodness of fit'!$F$11,B172,0)","v":{"$error":"#NUM!"}},{"$error":"#NUM!"},{"$f":"IF('Goodness of fit'!D172>0,('Goodness of fit'!C172-'Goodness of fit'!D172)^2/'Goodness of fit'!D172,\"\")","v":""}]
[{"$f":"'Goodness of fit'!F$12/1000+A172","v":2.752000000000002},{"$error":"#NUM!"},{"$f":"IF(A173>='Goodness of fit'!$F$11,B173,0)","v":{"$error":"#NUM!"}},{"$error":"#NUM!"},{"$f":"IF('Goodness of fit'!D173>0,('Goodness of fit'!C173-'Goodness of fit'!D173)^2/'Goodness of fit'!D173,\"\")","v":""}]
[{"$f":"'Goodness of fit'!F$12/1000+A173","v":2.768000000000002},{"$error":"#NUM!"},{"$f":"IF(A174>='Goodness of fit'!$F$11,B174,0)","v":{"$error":"#NUM!"}},{"$error":"#NUM!"},{"$f":"IF('Goodness of fit'!D174>0,('Goodness of fit'!C174-'Goodness of fit'!D174)^2/'Goodness of fit'!D174,\"\")","v":""}]
[{"$f":"'Goodness of fit'!F$12/1000+A174","v":2.784000000000002},{"$error":"#NUM!"},{"$f":"IF(A175>='Goodness of fit'!$F$11,B175,0)","v":{"$error":"#NUM!"}},{"$error":"#NUM!"},{"$f":"IF('Goodness of fit'!D175>0,('Goodness of fit'!C175-'Goodness of fit'!D175)^2/'Goodness of fit'!D175,\"\")","v":""}]
[{"$f":"'Goodness of fit'!F$12/1000+A175","v":2.800000000000002},{"$error":"#NUM!"},{"$f":"IF(A176>='Goodness of fit'!$F$11,B176,0)","v":{"$error":"#NUM!"}},{"$error":"#NUM!"},{"$f":"IF('Goodness of fit'!D176>0,('Goodness of fit'!C176-'Goodness of fit'!D176)^2/'Goodness of fit'!D176,\"\")","v":""}]
[{"$f":"'Goodness of fit'!F$12/1000+A176","v":2.8160000000000021},{"$error":"#NUM!"},{"$f":"IF(A177>='Goodness of fit'!$F$11,B177,0)","v":{"$error":"#NUM!"}},{"$error":"#NUM!"},{"$f":"IF('Goodness of fit'!D177>0,('Goodness of fit'!C177-'Goodness of fit'!D177)^2/'Goodness of fit'!D177,\"\")","v":""}]
[{"$f":"'Goodness of fit'!F$12/1000+A177","v":2.8320000000000021},{"$error":"#NUM!"},{"$f":"IF(A178>='Goodness of fit'!$F$11,B178,0)","v":{"$error":"#NUM!"}},{"$error":"#NUM!"},{"$f":"IF('Goodness of fit'!D178>0,('Goodness of fit'!C178-'Goodness of fit'!D178)^2/'Goodness of fit'!D178,\"\")","v":""}]
[{"$f":"'Goodness of fit'!F$12/1000+A178","v":2.8480000000000021},{"$error":"#NUM!"},{"$f":"IF(A179>='Goodness of fit'!$F$11,B179,0)","v":{"$error":"#NUM!"}},{"$error":"#NUM!"},{"$f":"IF('Goodness of fit'!D179>0,('Goodness of fit'!C179-'Goodness of fit'!D179)^2/'Goodness of fit'!D179,\"\")","v":""}]
[{"$f":"'Goodness of fit'!F$12/1000+A179","v":2.8640000000000021},{"$error":"#NUM!"},{"$f":"IF(A180>='Goodness of fit'!$F$11,B180,0)","v":{"$error":"#NUM!"}},{"$error":"#NUM!"},{"$f":"IF('Goodness of fit'!D180>0,('Goodness of fit'!C180-'Goodness of fit'!D180)^2/'Goodness of fit'!D180,\"\")","v":""}]
[{"$f":"'Goodness of fit'!F$12/1000+A180","v":2.8800000000000021},{"$error":"#NUM!"},{"$f":"IF(A181>='Goodness of fit'!$F$11,B181,0)","v":{"$error":"#NUM!"}},{"$error":"#NUM!"},{"$f":"IF('Goodness of fit'!D181>0,('Goodness of fit'!C181-'Goodness of fit'!D181)^2/'Goodness of fit'!D181,\"\")","v":""}]
[{"$f":"'Goodness of fit'!F$12/1000+A181","v":2.8960000000000021},{"$error":"#NUM!"},{"$f":"IF(A182>='Goodness of fit'!$F$11,B182,0)","v":{"$error":"#NUM!"}},{"$error":"#NUM!"},{"$f":"IF('Goodness of fit'!D182>0,('Goodness of fit'!C182-'Goodness of fit'!D182)^2/'Goodness of fit'!D182,\"\")","v":""}]
[{"$f":"'Goodness of fit'!F$12/1000+A182","v":2.9120000000000021},{"$error":"#NUM!"},{"$f":"IF(A183>='Goodness of fit'!$F$11,B183,0)","v":{"$error":"#NUM!"}},{"$error":"#NUM!"},{"$f":"IF('Goodness of fit'!D183>0,('Goodness of fit'!C183-'Goodness of fit'!D183)^2/'Goodness of fit'!D183,\"\")","v":""}]
[{"$f":"'Goodness of fit'!F$12/1000+A183","v":2.9280000000000022},{"$error":"#NUM!"},{"$f":"IF(A184>='Goodness of fit'!$F$11,B184,0)","v":{"$error":"#NUM!"}},{"$error":"#NUM!"},{"$f":"IF('Goodness of fit'!D184>0,('Goodness of fit'!C184-'Goodness of fit'!D184)^2/'Goodness of fit'!D184,\"\")","v":""}]
[{"$f":"'Goodness of fit'!F$12/1000+A184","v":2.9440000000000022},{"$error":"#NUM!"},{"$f":"IF(A185>='Goodness of fit'!$F$11,B185,0)","v":{"$error":"#NUM!"}},{"$error":"#NUM!"},{"$f":"IF('Goodness of fit'!D185>0,('Goodness of fit'!C185-'Goodness of fit'!D185)^2/'Goodness of fit'!D185,\"\")","v":""}]
[{"$f":"'Goodness of fit'!F$12/1000+A185","v":2.9600000000000022},{"$error":"#NUM!"},{"$f":"IF(A186>='Goodness of fit'!$F$11,B186,0)","v":{"$error":"#NUM!"}},{"$error":"#NUM!"},{"$f":"IF('Goodness of fit'!D186>0,('Goodness of fit'!C186-'Goodness of fit'!D186)^2/'Goodness of fit'!D186,\"\")","v":""}]
[{"$f":"'Goodness of fit'!F$12/1000+A186","v":2.9760000000000022},{"$error":"#NUM!"},{"$f":"IF(A187>='Goodness of fit'!$F$11,B187,0)","v":{"$error":"#NUM!"}},{"$error":"#NUM!"},{"$f":"IF('Goodness of fit'!D187>0,('Goodness of fit'!C187-'Goodness of fit'!D187)^2/'Goodness of fit'!D187,\"\")","v":""}]
[{"$f":"'Goodness of fit'!F$12/1000+A187","v":2.9920000000000022},{"$error":"#NUM!"},{"$f":"IF(A188>='Goodness of fit'!$F$11,B188,0)","v":{"$error":"#NUM!"}},{"$error":"#NUM!"},{"$f":"IF('Goodness of fit'!D188>0,('Goodness of fit'!C188-'Goodness of fit'!D188)^2/'Goodness of fit'!D188,\"\")","v":""}]
[{"$f":"'Goodness of fit'!F$12/1000+A188","v":3.0080000000000022},{"$error":"#NUM!"},{"$f":"IF(A189>='Goodness of fit'!$F$11,B189,0)","v":{"$error":"#NUM!"}},{"$error":"#NUM!"},{"$f":"IF('Goodness of fit'!D189>0,('Goodness of fit'!C189-'Goodness of fit'!D189)^2/'Goodness of fit'!D189,\"\")","v":""}]
[{"$f":"'Goodness of fit'!F$12/1000+A189","v":3.0240000000000022},{"$error":"#NUM!"},{"$f":"IF(A190>='Goodness of fit'!$F$11,B190,0)","v":{"$error":"#NUM!"}},{"$error":"#NUM!"},{"$f":"IF('Goodness of fit'!D190>0,('Goodness of fit'!C190-'Goodness of fit'!D190)^2/'Goodness of fit'!D190,\"\")","v":""}]
[{"$f":"'Goodness of fit'!F$12/1000+A190","v":3.0400000000000023},{"$error":"#NUM!"},{"$f":"IF(A191>='Goodness of fit'!$F$11,B191,0)","v":{"$error":"#NUM!"}},{"$error":"#NUM!"},{"$f":"IF('Goodness of fit'!D191>0,('Goodness of fit'!C191-'Goodness of fit'!D191)^2/'Goodness of fit'!D191,\"\")","v":""}]
[{"$f":"'Goodness of fit'!F$12/1000+A191","v":3.0560000000000023},{"$error":"#NUM!"},{"$f":"IF(A192>='Goodness of fit'!$F$11,B192,0)","v":{"$error":"#NUM!"}},{"$error":"#NUM!"},{"$f":"IF('Goodness of fit'!D192>0,('Goodness of fit'!C192-'Goodness of fit'!D192)^2/'Goodness of fit'!D192,\"\")","v":""}]
[{"$f":"'Goodness of fit'!F$12/1000+A192","v":3.0720000000000023},{"$error":"#NUM!"},{"$f":"IF(A193>='Goodness of fit'!$F$11,B193,0)","v":{"$error":"#NUM!"}},{"$error":"#NUM!"},{"$f":"IF('Goodness of fit'!D193>0,('Goodness of fit'!C193-'Goodness of fit'!D193)^2/'Goodness of fit'!D193,\"\")","v":""}]
[{"$f":"'Goodness of fit'!F$12/1000+A193","v":3.0880000000000023},{"$error":"#NUM!"},{"$f":"IF(A194>='Goodness of fit'!$F$11,B194,0)","v":{"$error":"#NUM!"}},{"$f":"CHIDIST(A194,F$1)","v":{"$error":"#NUM!"}},{"$f":"IF('Goodness of fit'!D194>0,('Goodness of fit'!C194-'Goodness of fit'!D194)^2/'Goodness of fit'!D194,\"\")","v":""}]
[{"$f":"'Goodness of fit'!F$12/1000+A194","v":3.1040000000000023},{"$f":"_xlfn.CHISQ.DIST(A195,F$1,FALSE)","v":{"$error":"#NUM!"}},{"$f":"IF(A195>='Goodness of fit'!$F$11,B195,0)","v":{"$error":"#NUM!"}},{"$error":"#NUM!"},{"$f":"IF('Goodness of fit'!D195>0,('Goodness of fit'!C195-'Goodness of fit'!D195)^2/'Goodness of fit'!D195,\"\")","v":""}]
[{"$f":"'Goodness of fit'!F$12/1000+A195","v":3.1200000000000023},{"$error":"#NUM!"},{"$f":"IF(A196>='Goodness of fit'!$F$11,B196,0)","v":{"$error":"#NUM!"}},{"$error":"#NUM!"},{"$f":"IF('Goodness of fit'!D196>0,('Goodness of fit'!C196-'Goodness of fit'!D196)^2/'Goodness of fit'!D196,\"\")","v":""}]
[{"$f":"'Goodness of fit'!F$12/1000+A196","v":3.1360000000000023},{"$error":"#NUM!"},{"$f":"IF(A197>='Goodness of fit'!$F$11,B197,0)","v":{"$error":"#NUM!"}},{"$error":"#NUM!"},{"$f":"IF('Goodness of fit'!D197>0,('Goodness of fit'!C197-'Goodness of fit'!D197)^2/'Goodness of fit'!D197,\"\")","v":""}]
[{"$f":"'Goodness of fit'!F$12/1000+A197","v":3.1520000000000024},{"$error":"#NUM!"},{"$f":"IF(A198>='Goodness of fit'!$F$11,B198,0)","v":{"$error":"#NUM!"}},{"$error":"#NUM!"},{"$f":"IF('Goodness of fit'!D198>0,('Goodness of fit'!C198-'Goodness of fit'!D198)^2/'Goodness of fit'!D198,\"\")","v":""}]
[{"$f":"'Goodness of fit'!F$12/1000+A198","v":3.1680000000000024},{"$error":"#NUM!"},{"$f":"IF(A199>='Goodness of fit'!$F$11,B199,0)","v":{"$error":"#NUM!"}},{"$error":"#NUM!"},{"$f":"IF('Goodness of fit'!D199>0,('Goodness of fit'!C199-'Goodness of fit'!D199)^2/'Goodness of fit'!D199,\"\")","v":""}]
[{"$f":"'Goodness of fit'!F$12/1000+A199","v":3.1840000000000024},{"$error":"#NUM!"},{"$f":"IF(A200>='Goodness of fit'!$F$11,B200,0)","v":{"$error":"#NUM!"}},{"$error":"#NUM!"},{"$f":"IF('Goodness of fit'!D200>0,('Goodness of fit'!C200-'Goodness of fit'!D200)^2/'Goodness of fit'!D200,\"\")","v":""}]
[{"$f":"'Goodness of fit'!F$12/1000+A200","v":3.2000000000000024},{"$error":"#NUM!"},{"$f":"IF(A201>='Goodness of fit'!$F$11,B201,0)","v":{"$error":"#NUM!"}},{"$error":"#NUM!"},{"$f":"IF('Goodness of fit'!D201>0,('Goodness of fit'!C201-'Goodness of fit'!D201)^2/'Goodness of fit'!D201,\"\")","v":""}]
[{"$f":"'Goodness of fit'!F$12/1000+A201","v":3.2160000000000024},{"$error":"#NUM!"},{"$f":"IF(A202>='Goodness of fit'!$F$11,B202,0)","v":{"$error":"#NUM!"}},{"$error":"#NUM!"},{"$f":"IF('Goodness of fit'!D202>0,('Goodness of fit'!C202-'Goodness of fit'!D202)^2/'Goodness of fit'!D202,\"\")","v":""}]
[{"$f":"'Goodness of fit'!F$12/1000+A202","v":3.2320000000000024},{"$error":"#NUM!"},{"$f":"IF(A203>='Goodness of fit'!$F$11,B203,0)","v":{"$error":"#NUM!"}},{"$error":"#NUM!"},{"$f":"IF('Goodness of fit'!D203>0,('Goodness of fit'!C203-'Goodness of fit'!D203)^2/'Goodness of fit'!D203,\"\")","v":""}]
[{"$f":"'Goodness of fit'!F$12/1000+A203","v":3.2480000000000024},{"$error":"#NUM!"},{"$f":"IF(A204>='Goodness of fit'!$F$11,B204,0)","v":{"$error":"#NUM!"}},{"$error":"#NUM!"},{"$f":"IF('Goodness of fit'!D204>0,('Goodness of fit'!C204-'Goodness of fit'!D204)^2/'Goodness of fit'!D204,\"\")","v":""}]
[{"$f":"'Goodness of fit'!F$12/1000+A204","v":3.2640000000000025},{"$error":"#NUM!"},{"$f":"IF(A205>='Goodness of fit'!$F$11,B205,0)","v":{"$error":"#NUM!"}},{"$error":"#NUM!"},{"$f":"IF('Goodness of fit'!D205>0,('Goodness of fit'!C205-'Goodness of fit'!D205)^2/'Goodness of fit'!D205,\"\")","v":""}]
[{"$f":"'Goodness of fit'!F$12/1000+A205","v":3.2800000000000025},{"$error":"#NUM!"},{"$f":"IF(A206>='Goodness of fit'!$F$11,B206,0)","v":{"$error":"#NUM!"}},{"$error":"#NUM!"},{"$f":"IF('Goodness of fit'!D206>0,('Goodness of fit'!C206-'Goodness of fit'!D206)^2/'Goodness of fit'!D206,\"\")","v":""}]
[{"$f":"'Goodness of fit'!F$12/1000+A206","v":3.2960000000000025},{"$error":"#NUM!"},{"$f":"IF(A207>='Goodness of fit'!$F$11,B207,0)","v":{"$error":"#NUM!"}},{"$error":"#NUM!"},{"$f":"IF('Goodness of fit'!D207>0,('Goodness of fit'!C207-'Goodness of fit'!D207)^2/'Goodness of fit'!D207,\"\")","v":""}]
[{"$f":"'Goodness of fit'!F$12/1000+A207","v":3.3120000000000025},{"$error":"#NUM!"},{"$f":"IF(A208>='Goodness of fit'!$F$11,B208,0)","v":{"$error":"#NUM!"}},{"$error":"#NUM!"},{"$f":"IF('Goodness of fit'!D208>0,('Goodness of fit'!C208-'Goodness of fit'!D208)^2/'Goodness of fit'!D208,\"\")","v":""}]
[{"$f":"'Goodness of fit'!F$12/1000+A208","v":3.3280000000000025},{"$error":"#NUM!"},{"$f":"IF(A209>='Goodness of fit'!$F$11,B209,0)","v":{"$error":"#NUM!"}},{"$error":"#NUM!"},{"$f":"IF('Goodness of fit'!D209>0,('Goodness of fit'!C209-'Goodness of fit'!D209)^2/'Goodness of fit'!D209,\"\")","v":""}]
[{"$f":"'Goodness of fit'!F$12/1000+A209","v":3.3440000000000025},{"$error":"#NUM!"},{"$f":"IF(A210>='Goodness of fit'!$F$11,B210,0)","v":{"$error":"#NUM!"}},{"$error":"#NUM!"},{"$f":"IF('Goodness of fit'!D210>0,('Goodness of fit'!C210-'Goodness of fit'!D210)^2/'Goodness of fit'!D210,\"\")","v":""}]
[{"$f":"'Goodness of fit'!F$12/1000+A210","v":3.3600000000000025},{"$error":"#NUM!"},{"$f":"IF(A211>='Goodness of fit'!$F$11,B211,0)","v":{"$error":"#NUM!"}},{"$error":"#NUM!"},{"$f":"IF('Goodness of fit'!D211>0,('Goodness of fit'!C211-'Goodness of fit'!D211)^2/'Goodness of fit'!D211,\"\")","v":""}]
[{"$f":"'Goodness of fit'!F$12/1000+A211","v":3.3760000000000026},{"$error":"#NUM!"},{"$f":"IF(A212>='Goodness of fit'!$F$11,B212,0)","v":{"$error":"#NUM!"}},{"$error":"#NUM!"},{"$f":"IF('Goodness of fit'!D212>0,('Goodness of fit'!C212-'Goodness of fit'!D212)^2/'Goodness of fit'!D212,\"\")","v":""}]
[{"$f":"'Goodness of fit'!F$12/1000+A212","v":3.3920000000000026},{"$error":"#NUM!"},{"$f":"IF(A213>='Goodness of fit'!$F$11,B213,0)","v":{"$error":"#NUM!"}},{"$error":"#NUM!"},{"$f":"IF('Goodness of fit'!D213>0,('Goodness of fit'!C213-'Goodness of fit'!D213)^2/'Goodness of fit'!D213,\"\")","v":""}]
[{"$f":"'Goodness of fit'!F$12/1000+A213","v":3.4080000000000026},{"$error":"#NUM!"},{"$f":"IF(A214>='Goodness of fit'!$F$11,B214,0)","v":{"$error":"#NUM!"}},{"$error":"#NUM!"},{"$f":"IF('Goodness of fit'!D214>0,('Goodness of fit'!C214-'Goodness of fit'!D214)^2/'Goodness of fit'!D214,\"\")","v":""}]
[{"$f":"'Goodness of fit'!F$12/1000+A214","v":3.4240000000000026},{"$error":"#NUM!"},{"$f":"IF(A215>='Goodness of fit'!$F$11,B215,0)","v":{"$error":"#NUM!"}},{"$error":"#NUM!"},{"$f":"IF('Goodness of fit'!D215>0,('Goodness of fit'!C215-'Goodness of fit'!D215)^2/'Goodness of fit'!D215,\"\")","v":""}]
[{"$f":"'Goodness of fit'!F$12/1000+A215","v":3.4400000000000026},{"$error":"#NUM!"},{"$f":"IF(A216>='Goodness of fit'!$F$11,B216,0)","v":{"$error":"#NUM!"}},{"$error":"#NUM!"},{"$f":"IF('Goodness of fit'!D216>0,('Goodness of fit'!C216-'Goodness of fit'!D216)^2/'Goodness of fit'!D216,\"\")","v":""}]
[{"$f":"'Goodness of fit'!F$12/1000+A216","v":3.4560000000000026},{"$error":"#NUM!"},{"$f":"IF(A217>='Goodness of fit'!$F$11,B217,0)","v":{"$error":"#NUM!"}},{"$error":"#NUM!"},{"$f":"IF('Goodness of fit'!D217>0,('Goodness of fit'!C217-'Goodness of fit'!D217)^2/'Goodness of fit'!D217,\"\")","v":""}]
[{"$f":"'Goodness of fit'!F$12/1000+A217","v":3.4720000000000026},{"$error":"#NUM!"},{"$f":"IF(A218>='Goodness of fit'!$F$11,B218,0)","v":{"$error":"#NUM!"}},{"$error":"#NUM!"},{"$f":"IF('Goodness of fit'!D218>0,('Goodness of fit'!C218-'Goodness of fit'!D218)^2/'Goodness of fit'!D218,\"\")","v":""}]
[{"$f":"'Goodness of fit'!F$12/1000+A218","v":3.4880000000000027},{"$error":"#NUM!"},{"$f":"IF(A219>='Goodness of fit'!$F$11,B219,0)","v":{"$error":"#NUM!"}},{"$error":"#NUM!"},{"$f":"IF('Goodness of fit'!D219>0,('Goodness of fit'!C219-'Goodness of fit'!D219)^2/'Goodness of fit'!D219,\"\")","v":""}]
[{"$f":"'Goodness of fit'!F$12/1000+A219","v":3.5040000000000027},{"$error":"#NUM!"},{"$f":"IF(A220>='Goodness of fit'!$F$11,B220,0)","v":{"$error":"#NUM!"}},{"$error":"#NUM!"},{"$f":"IF('Goodness of fit'!D220>0,('Goodness of fit'!C220-'Goodness of fit'!D220)^2/'Goodness of fit'!D220,\"\")","v":""}]
[{"$f":"'Goodness of fit'!F$12/1000+A220","v":3.5200000000000027},{"$error":"#NUM!"},{"$f":"IF(A221>='Goodness of fit'!$F$11,B221,0)","v":{"$error":"#NUM!"}},{"$error":"#NUM!"},{"$f":"IF('Goodness of fit'!D221>0,('Goodness of fit'!C221-'Goodness of fit'!D221)^2/'Goodness of fit'!D221,\"\")","v":""}]
[{"$f":"'Goodness of fit'!F$12/1000+A221","v":3.5360000000000027},{"$error":"#NUM!"},{"$f":"IF(A222>='Goodness of fit'!$F$11,B222,0)","v":{"$error":"#NUM!"}},{"$error":"#NUM!"},{"$f":"IF('Goodness of fit'!D222>0,('Goodness of fit'!C222-'Goodness of fit'!D222)^2/'Goodness of fit'!D222,\"\")","v":""}]
[{"$f":"'Goodness of fit'!F$12/1000+A222","v":3.5520000000000027},{"$error":"#NUM!"},{"$f":"IF(A223>='Goodness of fit'!$F$11,B223,0)","v":{"$error":"#NUM!"}},{"$error":"#NUM!"},{"$f":"IF('Goodness of fit'!D223>0,('Goodness of fit'!C223-'Goodness of fit'!D223)^2/'Goodness of fit'!D223,\"\")","v":""}]
[{"$f":"'Goodness of fit'!F$12/1000+A223","v":3.5680000000000027},{"$error":"#NUM!"},{"$f":"IF(A224>='Goodness of fit'!$F$11,B224,0)","v":{"$error":"#NUM!"}},{"$error":"#NUM!"},{"$f":"IF('Goodness of fit'!D224>0,('Goodness of fit'!C224-'Goodness of fit'!D224)^2/'Goodness of fit'!D224,\"\")","v":""}]
[{"$f":"'Goodness of fit'!F$12/1000+A224","v":3.5840000000000027},{"$error":"#NUM!"},{"$f":"IF(A225>='Goodness of fit'!$F$11,B225,0)","v":{"$error":"#NUM!"}},{"$error":"#NUM!"},{"$f":"IF('Goodness of fit'!D225>0,('Goodness of fit'!C225-'Goodness of fit'!D225)^2/'Goodness of fit'!D225,\"\")","v":""}]
[{"$f":"'Goodness of fit'!F$12/1000+A225","v":3.6000000000000028},{"$error":"#NUM!"},{"$f":"IF(A226>='Goodness of fit'!$F$11,B226,0)","v":{"$error":"#NUM!"}},{"$error":"#NUM!"},{"$f":"IF('Goodness of fit'!D226>0,('Goodness of fit'!C226-'Goodness of fit'!D226)^2/'Goodness of fit'!D226,\"\")","v":""}]
[{"$f":"'Goodness of fit'!F$12/1000+A226","v":3.6160000000000028},{"$error":"#NUM!"},{"$f":"IF(A227>='Goodness of fit'!$F$11,B227,0)","v":{"$error":"#NUM!"}},{"$error":"#NUM!"},{"$f":"IF('Goodness of fit'!D227>0,('Goodness of fit'!C227-'Goodness of fit'!D227)^2/'Goodness of fit'!D227,\"\")","v":""}]
[{"$f":"'Goodness of fit'!F$12/1000+A227","v":3.6320000000000028},{"$error":"#NUM!"},{"$f":"IF(A228>='Goodness of fit'!$F$11,B228,0)","v":{"$error":"#NUM!"}},{"$error":"#NUM!"},{"$f":"IF('Goodness of fit'!D228>0,('Goodness of fit'!C228-'Goodness of fit'!D228)^2/'Goodness of fit'!D228,\"\")","v":""}]
[{"$f":"'Goodness of fit'!F$12/1000+A228","v":3.6480000000000028},{"$error":"#NUM!"},{"$f":"IF(A229>='Goodness of fit'!$F$11,B229,0)","v":{"$error":"#NUM!"}},{"$error":"#NUM!"},{"$f":"IF('Goodness of fit'!D229>0,('Goodness of fit'!C229-'Goodness of fit'!D229)^2/'Goodness of fit'!D229,\"\")","v":""}]
[{"$f":"'Goodness of fit'!F$12/1000+A229","v":3.6640000000000028},{"$error":"#NUM!"},{"$f":"IF(A230>='Goodness of fit'!$F$11,B230,0)","v":{"$error":"#NUM!"}},{"$error":"#NUM!"},{"$f":"IF('Goodness of fit'!D230>0,('Goodness of fit'!C230-'Goodness of fit'!D230)^2/'Goodness of fit'!D230,\"\")","v":""}]
[{"$f":"'Goodness of fit'!F$12/1000+A230","v":3.6800000000000028},{"$error":"#NUM!"},{"$f":"IF(A231>='Goodness of fit'!$F$11,B231,0)","v":{"$error":"#NUM!"}},{"$error":"#NUM!"},{"$f":"IF('Goodness of fit'!D231>0,('Goodness of fit'!C231-'Goodness of fit'!D231)^2/'Goodness of fit'!D231,\"\")","v":""}]
[{"$f":"'Goodness of fit'!F$12/1000+A231","v":3.6960000000000028},{"$error":"#NUM!"},{"$f":"IF(A232>='Goodness of fit'!$F$11,B232,0)","v":{"$error":"#NUM!"}},{"$error":"#NUM!"},{"$f":"IF('Goodness of fit'!D232>0,('Goodness of fit'!C232-'Goodness of fit'!D232)^2/'Goodness of fit'!D232,\"\")","v":""}]
[{"$f":"'Goodness of fit'!F$12/1000+A232","v":3.7120000000000029},{"$error":"#NUM!"},{"$f":"IF(A233>='Goodness of fit'!$F$11,B233,0)","v":{"$error":"#NUM!"}},{"$error":"#NUM!"},{"$f":"IF('Goodness of fit'!D233>0,('Goodness of fit'!C233-'Goodness of fit'!D233)^2/'Goodness of fit'!D233,\"\")","v":""}]
[{"$f":"'Goodness of fit'!F$12/1000+A233","v":3.7280000000000029},{"$error":"#NUM!"},{"$f":"IF(A234>='Goodness of fit'!$F$11,B234,0)","v":{"$error":"#NUM!"}},{"$error":"#NUM!"},{"$f":"IF('Goodness of fit'!D234>0,('Goodness of fit'!C234-'Goodness of fit'!D234)^2/'Goodness of fit'!D234,\"\")","v":""}]
[{"$f":"'Goodness of fit'!F$12/1000+A234","v":3.7440000000000029},{"$error":"#NUM!"},{"$f":"IF(A235>='Goodness of fit'!$F$11,B235,0)","v":{"$error":"#NUM!"}},{"$error":"#NUM!"},{"$f":"IF('Goodness of fit'!D235>0,('Goodness of fit'!C235-'Goodness of fit'!D235)^2/'Goodness of fit'!D235,\"\")","v":""}]
[{"$f":"'Goodness of fit'!F$12/1000+A235","v":3.7600000000000029},{"$error":"#NUM!"},{"$f":"IF(A236>='Goodness of fit'!$F$11,B236,0)","v":{"$error":"#NUM!"}},{"$error":"#NUM!"},{"$f":"IF('Goodness of fit'!D236>0,('Goodness of fit'!C236-'Goodness of fit'!D236)^2/'Goodness of fit'!D236,\"\")","v":""}]
[{"$f":"'Goodness of fit'!F$12/1000+A236","v":3.7760000000000029},{"$error":"#NUM!"},{"$f":"IF(A237>='Goodness of fit'!$F$11,B237,0)","v":{"$error":"#NUM!"}},{"$error":"#NUM!"},{"$f":"IF('Goodness of fit'!D237>0,('Goodness of fit'!C237-'Goodness of fit'!D237)^2/'Goodness of fit'!D237,\"\")","v":""}]
[{"$f":"'Goodness of fit'!F$12/1000+A237","v":3.7920000000000029},{"$error":"#NUM!"},{"$f":"IF(A238>='Goodness of fit'!$F$11,B238,0)","v":{"$error":"#NUM!"}},{"$error":"#NUM!"},{"$f":"IF('Goodness of fit'!D238>0,('Goodness of fit'!C238-'Goodness of fit'!D238)^2/'Goodness of fit'!D238,\"\")","v":""}]
[{"$f":"'Goodness of fit'!F$12/1000+A238","v":3.8080000000000029},{"$error":"#NUM!"},{"$f":"IF(A239>='Goodness of fit'!$F$11,B239,0)","v":{"$error":"#NUM!"}},{"$error":"#NUM!"},{"$f":"IF('Goodness of fit'!D239>0,('Goodness of fit'!C239-'Goodness of fit'!D239)^2/'Goodness of fit'!D239,\"\")","v":""}]
[{"$f":"'Goodness of fit'!F$12/1000+A239","v":3.824000000000003},{"$error":"#NUM!"},{"$f":"IF(A240>='Goodness of fit'!$F$11,B240,0)","v":{"$error":"#NUM!"}},{"$error":"#NUM!"},{"$f":"IF('Goodness of fit'!D240>0,('Goodness of fit'!C240-'Goodness of fit'!D240)^2/'Goodness of fit'!D240,\"\")","v":""}]
[{"$f":"'Goodness of fit'!F$12/1000+A240","v":3.840000000000003},{"$error":"#NUM!"},{"$f":"IF(A241>='Goodness of fit'!$F$11,B241,0)","v":{"$error":"#NUM!"}},{"$error":"#NUM!"},{"$f":"IF('Goodness of fit'!D241>0,('Goodness of fit'!C241-'Goodness of fit'!D241)^2/'Goodness of fit'!D241,\"\")","v":""}]
[{"$f":"'Goodness of fit'!F$12/1000+A241","v":3.856000000000003},{"$error":"#NUM!"},{"$f":"IF(A242>='Goodness of fit'!$F$11,B242,0)","v":{"$error":"#NUM!"}},{"$error":"#NUM!"},{"$f":"IF('Goodness of fit'!D242>0,('Goodness of fit'!C242-'Goodness of fit'!D242)^2/'Goodness of fit'!D242,\"\")","v":""}]
[{"$f":"'Goodness of fit'!F$12/1000+A242","v":3.872000000000003},{"$error":"#NUM!"},{"$f":"IF(A243>='Goodness of fit'!$F$11,B243,0)","v":{"$error":"#NUM!"}},{"$error":"#NUM!"},{"$f":"IF('Goodness of fit'!D243>0,('Goodness of fit'!C243-'Goodness of fit'!D243)^2/'Goodness of fit'!D243,\"\")","v":""}]
[{"$f":"'Goodness of fit'!F$12/1000+A243","v":3.888000000000003},{"$error":"#NUM!"},{"$f":"IF(A244>='Goodness of fit'!$F$11,B244,0)","v":{"$error":"#NUM!"}},{"$error":"#NUM!"},{"$f":"IF('Goodness of fit'!D244>0,('Goodness of fit'!C244-'Goodness of fit'!D244)^2/'Goodness of fit'!D244,\"\")","v":""}]
[{"$f":"'Goodness of fit'!F$12/1000+A244","v":3.904000000000003},{"$error":"#NUM!"},{"$f":"IF(A245>='Goodness of fit'!$F$11,B245,0)","v":{"$error":"#NUM!"}},{"$error":"#NUM!"},{"$f":"IF('Goodness of fit'!D245>0,('Goodness of fit'!C245-'Goodness of fit'!D245)^2/'Goodness of fit'!D245,\"\")","v":""}]
[{"$f":"'Goodness of fit'!F$12/1000+A245","v":3.920000000000003},{"$error":"#NUM!"},{"$f":"IF(A246>='Goodness of fit'!$F$11,B246,0)","v":{"$error":"#NUM!"}},{"$error":"#NUM!"},{"$f":"IF('Goodness of fit'!D246>0,('Goodness of fit'!C246-'Goodness of fit'!D246)^2/'Goodness of fit'!D246,\"\")","v":""}]
[{"$f":"'Goodness of fit'!F$12/1000+A246","v":3.9360000000000031},{"$error":"#NUM!"},{"$f":"IF(A247>='Goodness of fit'!$F$11,B247,0)","v":{"$error":"#NUM!"}},{"$error":"#NUM!"},{"$f":"IF('Goodness of fit'!D247>0,('Goodness of fit'!C247-'Goodness of fit'!D247)^2/'Goodness of fit'!D247,\"\")","v":""}]
[{"$f":"'Goodness of fit'!F$12/1000+A247","v":3.9520000000000031},{"$error":"#NUM!"},{"$f":"IF(A248>='Goodness of fit'!$F$11,B248,0)","v":{"$error":"#NUM!"}},{"$error":"#NUM!"},{"$f":"IF('Goodness of fit'!D248>0,('Goodness of fit'!C248-'Goodness of fit'!D248)^2/'Goodness of fit'!D248,\"\")","v":""}]
[{"$f":"'Goodness of fit'!F$12/1000+A248","v":3.9680000000000031},{"$error":"#NUM!"},{"$f":"IF(A249>='Goodness of fit'!$F$11,B249,0)","v":{"$error":"#NUM!"}},{"$error":"#NUM!"},{"$f":"IF('Goodness of fit'!D249>0,('Goodness of fit'!C249-'Goodness of fit'!D249)^2/'Goodness of fit'!D249,\"\")","v":""}]
[{"$f":"'Goodness of fit'!F$12/1000+A249","v":3.9840000000000031},{"$error":"#NUM!"},{"$f":"IF(A250>='Goodness of fit'!$F$11,B250,0)","v":{"$error":"#NUM!"}},{"$error":"#NUM!"},{"$f":"IF('Goodness of fit'!D250>0,('Goodness of fit'!C250-'Goodness of fit'!D250)^2/'Goodness of fit'!D250,\"\")","v":""}]
[{"$f":"'Goodness of fit'!F$12/1000+A250","v":4.0000000000000027},{"$error":"#NUM!"},{"$f":"IF(A251>='Goodness of fit'!$F$11,B251,0)","v":{"$error":"#NUM!"}},{"$error":"#NUM!"},{"$f":"IF('Goodness of fit'!D251>0,('Goodness of fit'!C251-'Goodness of fit'!D251)^2/'Goodness of fit'!D251,\"\")","v":""}]
[{"$f":"'Goodness of fit'!F$12/1000+A251","v":4.0160000000000027},{"$error":"#NUM!"},{"$f":"IF(A252>='Goodness of fit'!$F$11,B252,0)","v":{"$error":"#NUM!"}},{"$error":"#NUM!"},{"$f":"IF('Goodness of fit'!D252>0,('Goodness of fit'!C252-'Goodness of fit'!D252)^2/'Goodness of fit'!D252,\"\")","v":""}]
[{"$f":"'Goodness of fit'!F$12/1000+A252","v":4.0320000000000027},{"$error":"#NUM!"},{"$f":"IF(A253>='Goodness of fit'!$F$11,B253,0)","v":{"$error":"#NUM!"}},{"$error":"#NUM!"},{"$f":"IF('Goodness of fit'!D253>0,('Goodness of fit'!C253-'Goodness of fit'!D253)^2/'Goodness of fit'!D253,\"\")","v":""}]
[{"$f":"'Goodness of fit'!F$12/1000+A253","v":4.0480000000000027},{"$error":"#NUM!"},{"$f":"IF(A254>='Goodness of fit'!$F$11,B254,0)","v":{"$error":"#NUM!"}},{"$error":"#NUM!"},{"$f":"IF('Goodness of fit'!D254>0,('Goodness of fit'!C254-'Goodness of fit'!D254)^2/'Goodness of fit'!D254,\"\")","v":""}]
[{"$f":"'Goodness of fit'!F$12/1000+A254","v":4.0640000000000027},{"$error":"#NUM!"},{"$f":"IF(A255>='Goodness of fit'!$F$11,B255,0)","v":{"$error":"#NUM!"}},{"$error":"#NUM!"},{"$f":"IF('Goodness of fit'!D255>0,('Goodness of fit'!C255-'Goodness of fit'!D255)^2/'Goodness of fit'!D255,\"\")","v":""}]
[{"$f":"'Goodness of fit'!F$12/1000+A255","v":4.0800000000000027},{"$error":"#NUM!"},{"$f":"IF(A256>='Goodness of fit'!$F$11,B256,0)","v":{"$error":"#NUM!"}},{"$error":"#NUM!"},{"$f":"IF('Goodness of fit'!D256>0,('Goodness of fit'!C256-'Goodness of fit'!D256)^2/'Goodness of fit'!D256,\"\")","v":""}]
[{"$f":"'Goodness of fit'!F$12/1000+A256","v":4.0960000000000027},{"$error":"#NUM!"},{"$f":"IF(A257>='Goodness of fit'!$F$11,B257,0)","v":{"$error":"#NUM!"}},{"$error":"#NUM!"},{"$f":"IF('Goodness of fit'!D257>0,('Goodness of fit'!C257-'Goodness of fit'!D257)^2/'Goodness of fit'!D257,\"\")","v":""}]
[{"$f":"'Goodness of fit'!F$12/1000+A257","v":4.1120000000000028},{"$error":"#NUM!"},{"$f":"IF(A258>='Goodness of fit'!$F$11,B258,0)","v":{"$error":"#NUM!"}},{"$f":"CHIDIST(A258,F$1)","v":{"$error":"#NUM!"}},{"$f":"IF('Goodness of fit'!D258>0,('Goodness of fit'!C258-'Goodness of fit'!D258)^2/'Goodness of fit'!D258,\"\")","v":""}]
[{"$f":"'Goodness of fit'!F$12/1000+A258","v":4.1280000000000028},{"$f":"_xlfn.CHISQ.DIST(A259,F$1,FALSE)","v":{"$error":"#NUM!"}},{"$f":"IF(A259>='Goodness of fit'!$F$11,B259,0)","v":{"$error":"#NUM!"}},{"$error":"#NUM!"},{"$f":"IF('Goodness of fit'!D259>0,('Goodness of fit'!C259-'Goodness of fit'!D259)^2/'Goodness of fit'!D259,\"\")","v":""}]
[{"$f":"'Goodness of fit'!F$12/1000+A259","v":4.1440000000000028},{"$error":"#NUM!"},{"$f":"IF(A260>='Goodness of fit'!$F$11,B260,0)","v":{"$error":"#NUM!"}},{"$error":"#NUM!"},{"$f":"IF('Goodness of fit'!D260>0,('Goodness of fit'!C260-'Goodness of fit'!D260)^2/'Goodness of fit'!D260,\"\")","v":""}]
[{"$f":"'Goodness of fit'!F$12/1000+A260","v":4.1600000000000028},{"$error":"#NUM!"},{"$f":"IF(A261>='Goodness of fit'!$F$11,B261,0)","v":{"$error":"#NUM!"}},{"$error":"#NUM!"},{"$f":"IF('Goodness of fit'!D261>0,('Goodness of fit'!C261-'Goodness of fit'!D261)^2/'Goodness of fit'!D261,\"\")","v":""}]
[{"$f":"'Goodness of fit'!F$12/1000+A261","v":4.1760000000000028},{"$error":"#NUM!"},{"$f":"IF(A262>='Goodness of fit'!$F$11,B262,0)","v":{"$error":"#NUM!"}},{"$error":"#NUM!"},{"$f":"IF('Goodness of fit'!D262>0,('Goodness of fit'!C262-'Goodness of fit'!D262)^2/'Goodness of fit'!D262,\"\")","v":""}]
[{"$f":"'Goodness of fit'!F$12/1000+A262","v":4.1920000000000028},{"$error":"#NUM!"},{"$f":"IF(A263>='Goodness of fit'!$F$11,B263,0)","v":{"$error":"#NUM!"}},{"$error":"#NUM!"},{"$f":"IF('Goodness of fit'!D263>0,('Goodness of fit'!C263-'Goodness of fit'!D263)^2/'Goodness of fit'!D263,\"\")","v":""}]
[{"$f":"'Goodness of fit'!F$12/1000+A263","v":4.2080000000000028},{"$error":"#NUM!"},{"$f":"IF(A264>='Goodness of fit'!$F$11,B264,0)","v":{"$error":"#NUM!"}},{"$error":"#NUM!"},{"$f":"IF('Goodness of fit'!D264>0,('Goodness of fit'!C264-'Goodness of fit'!D264)^2/'Goodness of fit'!D264,\"\")","v":""}]
[{"$f":"'Goodness of fit'!F$12/1000+A264","v":4.2240000000000029},{"$error":"#NUM!"},{"$f":"IF(A265>='Goodness of fit'!$F$11,B265,0)","v":{"$error":"#NUM!"}},{"$error":"#NUM!"},{"$f":"IF('Goodness of fit'!D265>0,('Goodness of fit'!C265-'Goodness of fit'!D265)^2/'Goodness of fit'!D265,\"\")","v":""}]
[{"$f":"'Goodness of fit'!F$12/1000+A265","v":4.2400000000000029},{"$error":"#NUM!"},{"$f":"IF(A266>='Goodness of fit'!$F$11,B266,0)","v":{"$error":"#NUM!"}},{"$error":"#NUM!"},{"$f":"IF('Goodness of fit'!D266>0,('Goodness of fit'!C266-'Goodness of fit'!D266)^2/'Goodness of fit'!D266,\"\")","v":""}]
[{"$f":"'Goodness of fit'!F$12/1000+A266","v":4.2560000000000029},{"$error":"#NUM!"},{"$f":"IF(A267>='Goodness of fit'!$F$11,B267,0)","v":{"$error":"#NUM!"}},{"$error":"#NUM!"},{"$f":"IF('Goodness of fit'!D267>0,('Goodness of fit'!C267-'Goodness of fit'!D267)^2/'Goodness of fit'!D267,\"\")","v":""}]
[{"$f":"'Goodness of fit'!F$12/1000+A267","v":4.2720000000000029},{"$error":"#NUM!"},{"$f":"IF(A268>='Goodness of fit'!$F$11,B268,0)","v":{"$error":"#NUM!"}},{"$error":"#NUM!"},{"$f":"IF('Goodness of fit'!D268>0,('Goodness of fit'!C268-'Goodness of fit'!D268)^2/'Goodness of fit'!D268,\"\")","v":""}]
[{"$f":"'Goodness of fit'!F$12/1000+A268","v":4.2880000000000029},{"$error":"#NUM!"},{"$f":"IF(A269>='Goodness of fit'!$F$11,B269,0)","v":{"$error":"#NUM!"}},{"$error":"#NUM!"},{"$f":"IF('Goodness of fit'!D269>0,('Goodness of fit'!C269-'Goodness of fit'!D269)^2/'Goodness of fit'!D269,\"\")","v":""}]
[{"$f":"'Goodness of fit'!F$12/1000+A269","v":4.3040000000000029},{"$error":"#NUM!"},{"$f":"IF(A270>='Goodness of fit'!$F$11,B270,0)","v":{"$error":"#NUM!"}},{"$error":"#NUM!"},{"$f":"IF('Goodness of fit'!D270>0,('Goodness of fit'!C270-'Goodness of fit'!D270)^2/'Goodness of fit'!D270,\"\")","v":""}]
[{"$f":"'Goodness of fit'!F$12/1000+A270","v":4.3200000000000029},{"$error":"#NUM!"},{"$f":"IF(A271>='Goodness of fit'!$F$11,B271,0)","v":{"$error":"#NUM!"}},{"$error":"#NUM!"},{"$f":"IF('Goodness of fit'!D271>0,('Goodness of fit'!C271-'Goodness of fit'!D271)^2/'Goodness of fit'!D271,\"\")","v":""}]
[{"$f":"'Goodness of fit'!F$12/1000+A271","v":4.336000000000003},{"$error":"#NUM!"},{"$f":"IF(A272>='Goodness of fit'!$F$11,B272,0)","v":{"$error":"#NUM!"}},{"$error":"#NUM!"},{"$f":"IF('Goodness of fit'!D272>0,('Goodness of fit'!C272-'Goodness of fit'!D272)^2/'Goodness of fit'!D272,\"\")","v":""}]
[{"$f":"'Goodness of fit'!F$12/1000+A272","v":4.352000000000003},{"$error":"#NUM!"},{"$f":"IF(A273>='Goodness of fit'!$F$11,B273,0)","v":{"$error":"#NUM!"}},{"$error":"#NUM!"},{"$f":"IF('Goodness of fit'!D273>0,('Goodness of fit'!C273-'Goodness of fit'!D273)^2/'Goodness of fit'!D273,\"\")","v":""}]
[{"$f":"'Goodness of fit'!F$12/1000+A273","v":4.368000000000003},{"$error":"#NUM!"},{"$f":"IF(A274>='Goodness of fit'!$F$11,B274,0)","v":{"$error":"#NUM!"}},{"$error":"#NUM!"},{"$f":"IF('Goodness of fit'!D274>0,('Goodness of fit'!C274-'Goodness of fit'!D274)^2/'Goodness of fit'!D274,\"\")","v":""}]
[{"$f":"'Goodness of fit'!F$12/1000+A274","v":4.384000000000003},{"$error":"#NUM!"},{"$f":"IF(A275>='Goodness of fit'!$F$11,B275,0)","v":{"$error":"#NUM!"}},{"$error":"#NUM!"},{"$f":"IF('Goodness of fit'!D275>0,('Goodness of fit'!C275-'Goodness of fit'!D275)^2/'Goodness of fit'!D275,\"\")","v":""}]
[{"$f":"'Goodness of fit'!F$12/1000+A275","v":4.400000000000003},{"$error":"#NUM!"},{"$f":"IF(A276>='Goodness of fit'!$F$11,B276,0)","v":{"$error":"#NUM!"}},{"$error":"#NUM!"},{"$f":"IF('Goodness of fit'!D276>0,('Goodness of fit'!C276-'Goodness of fit'!D276)^2/'Goodness of fit'!D276,\"\")","v":""}]
[{"$f":"'Goodness of fit'!F$12/1000+A276","v":4.416000000000003},{"$error":"#NUM!"},{"$f":"IF(A277>='Goodness of fit'!$F$11,B277,0)","v":{"$error":"#NUM!"}},{"$error":"#NUM!"},{"$f":"IF('Goodness of fit'!D277>0,('Goodness of fit'!C277-'Goodness of fit'!D277)^2/'Goodness of fit'!D277,\"\")","v":""}]
[{"$f":"'Goodness of fit'!F$12/1000+A277","v":4.432000000000003},{"$error":"#NUM!"},{"$f":"IF(A278>='Goodness of fit'!$F$11,B278,0)","v":{"$error":"#NUM!"}},{"$error":"#NUM!"},{"$f":"IF('Goodness of fit'!D278>0,('Goodness of fit'!C278-'Goodness of fit'!D278)^2/'Goodness of fit'!D278,\"\")","v":""}]
[{"$f":"'Goodness of fit'!F$12/1000+A278","v":4.4480000000000031},{"$error":"#NUM!"},{"$f":"IF(A279>='Goodness of fit'!$F$11,B279,0)","v":{"$error":"#NUM!"}},{"$error":"#NUM!"},{"$f":"IF('Goodness of fit'!D279>0,('Goodness of fit'!C279-'Goodness of fit'!D279)^2/'Goodness of fit'!D279,\"\")","v":""}]
[{"$f":"'Goodness of fit'!F$12/1000+A279","v":4.4640000000000031},{"$error":"#NUM!"},{"$f":"IF(A280>='Goodness of fit'!$F$11,B280,0)","v":{"$error":"#NUM!"}},{"$error":"#NUM!"},{"$f":"IF('Goodness of fit'!D280>0,('Goodness of fit'!C280-'Goodness of fit'!D280)^2/'Goodness of fit'!D280,\"\")","v":""}]
[{"$f":"'Goodness of fit'!F$12/1000+A280","v":4.4800000000000031},{"$error":"#NUM!"},{"$f":"IF(A281>='Goodness of fit'!$F$11,B281,0)","v":{"$error":"#NUM!"}},{"$error":"#NUM!"},{"$f":"IF('Goodness of fit'!D281>0,('Goodness of fit'!C281-'Goodness of fit'!D281)^2/'Goodness of fit'!D281,\"\")","v":""}]
[{"$f":"'Goodness of fit'!F$12/1000+A281","v":4.4960000000000031},{"$error":"#NUM!"},{"$f":"IF(A282>='Goodness of fit'!$F$11,B282,0)","v":{"$error":"#NUM!"}},{"$error":"#NUM!"},{"$f":"IF('Goodness of fit'!D282>0,('Goodness of fit'!C282-'Goodness of fit'!D282)^2/'Goodness of fit'!D282,\"\")","v":""}]
[{"$f":"'Goodness of fit'!F$12/1000+A282","v":4.5120000000000031},{"$error":"#NUM!"},{"$f":"IF(A283>='Goodness of fit'!$F$11,B283,0)","v":{"$error":"#NUM!"}},{"$error":"#NUM!"},{"$f":"IF('Goodness of fit'!D283>0,('Goodness of fit'!C283-'Goodness of fit'!D283)^2/'Goodness of fit'!D283,\"\")","v":""}]
[{"$f":"'Goodness of fit'!F$12/1000+A283","v":4.5280000000000031},{"$error":"#NUM!"},{"$f":"IF(A284>='Goodness of fit'!$F$11,B284,0)","v":{"$error":"#NUM!"}},{"$error":"#NUM!"},{"$f":"IF('Goodness of fit'!D284>0,('Goodness of fit'!C284-'Goodness of fit'!D284)^2/'Goodness of fit'!D284,\"\")","v":""}]
[{"$f":"'Goodness of fit'!F$12/1000+A284","v":4.5440000000000031},{"$error":"#NUM!"},{"$f":"IF(A285>='Goodness of fit'!$F$11,B285,0)","v":{"$error":"#NUM!"}},{"$error":"#NUM!"},{"$f":"IF('Goodness of fit'!D285>0,('Goodness of fit'!C285-'Goodness of fit'!D285)^2/'Goodness of fit'!D285,\"\")","v":""}]
[{"$f":"'Goodness of fit'!F$12/1000+A285","v":4.5600000000000032},{"$error":"#NUM!"},{"$f":"IF(A286>='Goodness of fit'!$F$11,B286,0)","v":{"$error":"#NUM!"}},{"$error":"#NUM!"},{"$f":"IF('Goodness of fit'!D286>0,('Goodness of fit'!C286-'Goodness of fit'!D286)^2/'Goodness of fit'!D286,\"\")","v":""}]
[{"$f":"'Goodness of fit'!F$12/1000+A286","v":4.5760000000000032},{"$error":"#NUM!"},{"$f":"IF(A287>='Goodness of fit'!$F$11,B287,0)","v":{"$error":"#NUM!"}},{"$error":"#NUM!"},{"$f":"IF('Goodness of fit'!D287>0,('Goodness of fit'!C287-'Goodness of fit'!D287)^2/'Goodness of fit'!D287,\"\")","v":""}]
[{"$f":"'Goodness of fit'!F$12/1000+A287","v":4.5920000000000032},{"$error":"#NUM!"},{"$f":"IF(A288>='Goodness of fit'!$F$11,B288,0)","v":{"$error":"#NUM!"}},{"$error":"#NUM!"},{"$f":"IF('Goodness of fit'!D288>0,('Goodness of fit'!C288-'Goodness of fit'!D288)^2/'Goodness of fit'!D288,\"\")","v":""}]
[{"$f":"'Goodness of fit'!F$12/1000+A288","v":4.6080000000000032},{"$error":"#NUM!"},{"$f":"IF(A289>='Goodness of fit'!$F$11,B289,0)","v":{"$error":"#NUM!"}},{"$error":"#NUM!"},{"$f":"IF('Goodness of fit'!D289>0,('Goodness of fit'!C289-'Goodness of fit'!D289)^2/'Goodness of fit'!D289,\"\")","v":""}]
[{"$f":"'Goodness of fit'!F$12/1000+A289","v":4.6240000000000032},{"$error":"#NUM!"},{"$f":"IF(A290>='Goodness of fit'!$F$11,B290,0)","v":{"$error":"#NUM!"}},{"$error":"#NUM!"},{"$f":"IF('Goodness of fit'!D290>0,('Goodness of fit'!C290-'Goodness of fit'!D290)^2/'Goodness of fit'!D290,\"\")","v":""}]
[{"$f":"'Goodness of fit'!F$12/1000+A290","v":4.6400000000000032},{"$error":"#NUM!"},{"$f":"IF(A291>='Goodness of fit'!$F$11,B291,0)","v":{"$error":"#NUM!"}},{"$error":"#NUM!"},{"$f":"IF('Goodness of fit'!D291>0,('Goodness of fit'!C291-'Goodness of fit'!D291)^2/'Goodness of fit'!D291,\"\")","v":""}]
[{"$f":"'Goodness of fit'!F$12/1000+A291","v":4.6560000000000032},{"$error":"#NUM!"},{"$f":"IF(A292>='Goodness of fit'!$F$11,B292,0)","v":{"$error":"#NUM!"}},{"$error":"#NUM!"},{"$f":"IF('Goodness of fit'!D292>0,('Goodness of fit'!C292-'Goodness of fit'!D292)^2/'Goodness of fit'!D292,\"\")","v":""}]
[{"$f":"'Goodness of fit'!F$12/1000+A292","v":4.6720000000000033},{"$error":"#NUM!"},{"$f":"IF(A293>='Goodness of fit'!$F$11,B293,0)","v":{"$error":"#NUM!"}},{"$error":"#NUM!"},{"$f":"IF('Goodness of fit'!D293>0,('Goodness of fit'!C293-'Goodness of fit'!D293)^2/'Goodness of fit'!D293,\"\")","v":""}]
[{"$f":"'Goodness of fit'!F$12/1000+A293","v":4.6880000000000033},{"$error":"#NUM!"},{"$f":"IF(A294>='Goodness of fit'!$F$11,B294,0)","v":{"$error":"#NUM!"}},{"$error":"#NUM!"},{"$f":"IF('Goodness of fit'!D294>0,('Goodness of fit'!C294-'Goodness of fit'!D294)^2/'Goodness of fit'!D294,\"\")","v":""}]
[{"$f":"'Goodness of fit'!F$12/1000+A294","v":4.7040000000000033},{"$error":"#NUM!"},{"$f":"IF(A295>='Goodness of fit'!$F$11,B295,0)","v":{"$error":"#NUM!"}},{"$error":"#NUM!"},{"$f":"IF('Goodness of fit'!D295>0,('Goodness of fit'!C295-'Goodness of fit'!D295)^2/'Goodness of fit'!D295,\"\")","v":""}]
[{"$f":"'Goodness of fit'!F$12/1000+A295","v":4.7200000000000033},{"$error":"#NUM!"},{"$f":"IF(A296>='Goodness of fit'!$F$11,B296,0)","v":{"$error":"#NUM!"}},{"$error":"#NUM!"},{"$f":"IF('Goodness of fit'!D296>0,('Goodness of fit'!C296-'Goodness of fit'!D296)^2/'Goodness of fit'!D296,\"\")","v":""}]
[{"$f":"'Goodness of fit'!F$12/1000+A296","v":4.7360000000000033},{"$error":"#NUM!"},{"$f":"IF(A297>='Goodness of fit'!$F$11,B297,0)","v":{"$error":"#NUM!"}},{"$error":"#NUM!"},{"$f":"IF('Goodness of fit'!D297>0,('Goodness of fit'!C297-'Goodness of fit'!D297)^2/'Goodness of fit'!D297,\"\")","v":""}]
[{"$f":"'Goodness of fit'!F$12/1000+A297","v":4.7520000000000033},{"$error":"#NUM!"},{"$f":"IF(A298>='Goodness of fit'!$F$11,B298,0)","v":{"$error":"#NUM!"}},{"$error":"#NUM!"},{"$f":"IF('Goodness of fit'!D298>0,('Goodness of fit'!C298-'Goodness of fit'!D298)^2/'Goodness of fit'!D298,\"\")","v":""}]
[{"$f":"'Goodness of fit'!F$12/1000+A298","v":4.7680000000000033},{"$error":"#NUM!"},{"$f":"IF(A299>='Goodness of fit'!$F$11,B299,0)","v":{"$error":"#NUM!"}},{"$error":"#NUM!"},{"$f":"IF('Goodness of fit'!D299>0,('Goodness of fit'!C299-'Goodness of fit'!D299)^2/'Goodness of fit'!D299,\"\")","v":""}]
[{"$f":"'Goodness of fit'!F$12/1000+A299","v":4.7840000000000034},{"$error":"#NUM!"},{"$f":"IF(A300>='Goodness of fit'!$F$11,B300,0)","v":{"$error":"#NUM!"}},{"$error":"#NUM!"},{"$f":"IF('Goodness of fit'!D300>0,('Goodness of fit'!C300-'Goodness of fit'!D300)^2/'Goodness of fit'!D300,\"\")","v":""}]
[{"$f":"'Goodness of fit'!F$12/1000+A300","v":4.8000000000000034},{"$error":"#NUM!"},{"$f":"IF(A301>='Goodness of fit'!$F$11,B301,0)","v":{"$error":"#NUM!"}},{"$error":"#NUM!"},{"$f":"IF('Goodness of fit'!D301>0,('Goodness of fit'!C301-'Goodness of fit'!D301)^2/'Goodness of fit'!D301,\"\")","v":""}]
[{"$f":"'Goodness of fit'!F$12/1000+A301","v":4.8160000000000034},{"$error":"#NUM!"},{"$f":"IF(A302>='Goodness of fit'!$F$11,B302,0)","v":{"$error":"#NUM!"}},{"$error":"#NUM!"},{"$f":"IF('Goodness of fit'!D302>0,('Goodness of fit'!C302-'Goodness of fit'!D302)^2/'Goodness of fit'!D302,\"\")","v":""}]
[{"$f":"'Goodness of fit'!F$12/1000+A302","v":4.8320000000000034},{"$error":"#NUM!"},{"$f":"IF(A303>='Goodness of fit'!$F$11,B303,0)","v":{"$error":"#NUM!"}},{"$error":"#NUM!"},{"$f":"IF('Goodness of fit'!D303>0,('Goodness of fit'!C303-'Goodness of fit'!D303)^2/'Goodness of fit'!D303,\"\")","v":""}]
[{"$f":"'Goodness of fit'!F$12/1000+A303","v":4.8480000000000034},{"$error":"#NUM!"},{"$f":"IF(A304>='Goodness of fit'!$F$11,B304,0)","v":{"$error":"#NUM!"}},{"$error":"#NUM!"},{"$f":"IF('Goodness of fit'!D304>0,('Goodness of fit'!C304-'Goodness of fit'!D304)^2/'Goodness of fit'!D304,\"\")","v":""}]
[{"$f":"'Goodness of fit'!F$12/1000+A304","v":4.8640000000000034},{"$error":"#NUM!"},{"$f":"IF(A305>='Goodness of fit'!$F$11,B305,0)","v":{"$error":"#NUM!"}},{"$error":"#NUM!"},{"$f":"IF('Goodness of fit'!D305>0,('Goodness of fit'!C305-'Goodness of fit'!D305)^2/'Goodness of fit'!D305,\"\")","v":""}]
[{"$f":"'Goodness of fit'!F$12/1000+A305","v":4.8800000000000034},{"$error":"#NUM!"},{"$f":"IF(A306>='Goodness of fit'!$F$11,B306,0)","v":{"$error":"#NUM!"}},{"$error":"#NUM!"},{"$f":"IF('Goodness of fit'!D306>0,('Goodness of fit'!C306-'Goodness of fit'!D306)^2/'Goodness of fit'!D306,\"\")","v":""}]
[{"$f":"'Goodness of fit'!F$12/1000+A306","v":4.8960000000000035},{"$error":"#NUM!"},{"$f":"IF(A307>='Goodness of fit'!$F$11,B307,0)","v":{"$error":"#NUM!"}},{"$error":"#NUM!"},{"$f":"IF('Goodness of fit'!D307>0,('Goodness of fit'!C307-'Goodness of fit'!D307)^2/'Goodness of fit'!D307,\"\")","v":""}]
[{"$f":"'Goodness of fit'!F$12/1000+A307","v":4.9120000000000035},{"$error":"#NUM!"},{"$f":"IF(A308>='Goodness of fit'!$F$11,B308,0)","v":{"$error":"#NUM!"}},{"$error":"#NUM!"},{"$f":"IF('Goodness of fit'!D308>0,('Goodness of fit'!C308-'Goodness of fit'!D308)^2/'Goodness of fit'!D308,\"\")","v":""}]
[{"$f":"'Goodness of fit'!F$12/1000+A308","v":4.9280000000000035},{"$error":"#NUM!"},{"$f":"IF(A309>='Goodness of fit'!$F$11,B309,0)","v":{"$error":"#NUM!"}},{"$error":"#NUM!"},{"$f":"IF('Goodness of fit'!D309>0,('Goodness of fit'!C309-'Goodness of fit'!D309)^2/'Goodness of fit'!D309,\"\")","v":""}]
[{"$f":"'Goodness of fit'!F$12/1000+A309","v":4.9440000000000035},{"$error":"#NUM!"},{"$f":"IF(A310>='Goodness of fit'!$F$11,B310,0)","v":{"$error":"#NUM!"}},{"$error":"#NUM!"},{"$f":"IF('Goodness of fit'!D310>0,('Goodness of fit'!C310-'Goodness of fit'!D310)^2/'Goodness of fit'!D310,\"\")","v":""}]
[{"$f":"'Goodness of fit'!F$12/1000+A310","v":4.9600000000000035},{"$error":"#NUM!"},{"$f":"IF(A311>='Goodness of fit'!$F$11,B311,0)","v":{"$error":"#NUM!"}},{"$error":"#NUM!"},{"$f":"IF('Goodness of fit'!D311>0,('Goodness of fit'!C311-'Goodness of fit'!D311)^2/'Goodness of fit'!D311,\"\")","v":""}]
[{"$f":"'Goodness of fit'!F$12/1000+A311","v":4.9760000000000035},{"$error":"#NUM!"},{"$f":"IF(A312>='Goodness of fit'!$F$11,B312,0)","v":{"$error":"#NUM!"}},{"$error":"#NUM!"},{"$f":"IF('Goodness of fit'!D312>0,('Goodness of fit'!C312-'Goodness of fit'!D312)^2/'Goodness of fit'!D312,\"\")","v":""}]
[{"$f":"'Goodness of fit'!F$12/1000+A312","v":4.9920000000000035},{"$error":"#NUM!"},{"$f":"IF(A313>='Goodness of fit'!$F$11,B313,0)","v":{"$error":"#NUM!"}},{"$error":"#NUM!"},{"$f":"IF('Goodness of fit'!D313>0,('Goodness of fit'!C313-'Goodness of fit'!D313)^2/'Goodness of fit'!D313,\"\")","v":""}]
[{"$f":"'Goodness of fit'!F$12/1000+A313","v":5.0080000000000036},{"$error":"#NUM!"},{"$f":"IF(A314>='Goodness of fit'!$F$11,B314,0)","v":{"$error":"#NUM!"}},{"$error":"#NUM!"},{"$f":"IF('Goodness of fit'!D314>0,('Goodness of fit'!C314-'Goodness of fit'!D314)^2/'Goodness of fit'!D314,\"\")","v":""}]
[{"$f":"'Goodness of fit'!F$12/1000+A314","v":5.0240000000000036},{"$error":"#NUM!"},{"$f":"IF(A315>='Goodness of fit'!$F$11,B315,0)","v":{"$error":"#NUM!"}},{"$error":"#NUM!"},{"$f":"IF('Goodness of fit'!D315>0,('Goodness of fit'!C315-'Goodness of fit'!D315)^2/'Goodness of fit'!D315,\"\")","v":""}]
[{"$f":"'Goodness of fit'!F$12/1000+A315","v":5.0400000000000036},{"$error":"#NUM!"},{"$f":"IF(A316>='Goodness of fit'!$F$11,B316,0)","v":{"$error":"#NUM!"}},{"$error":"#NUM!"},{"$f":"IF('Goodness of fit'!D316>0,('Goodness of fit'!C316-'Goodness of fit'!D316)^2/'Goodness of fit'!D316,\"\")","v":""}]
[{"$f":"'Goodness of fit'!F$12/1000+A316","v":5.0560000000000036},{"$error":"#NUM!"},{"$f":"IF(A317>='Goodness of fit'!$F$11,B317,0)","v":{"$error":"#NUM!"}},{"$error":"#NUM!"},{"$f":"IF('Goodness of fit'!D317>0,('Goodness of fit'!C317-'Goodness of fit'!D317)^2/'Goodness of fit'!D317,\"\")","v":""}]
[{"$f":"'Goodness of fit'!F$12/1000+A317","v":5.0720000000000036},{"$error":"#NUM!"},{"$f":"IF(A318>='Goodness of fit'!$F$11,B318,0)","v":{"$error":"#NUM!"}},{"$error":"#NUM!"},{"$f":"IF('Goodness of fit'!D318>0,('Goodness of fit'!C318-'Goodness of fit'!D318)^2/'Goodness of fit'!D318,\"\")","v":""}]
[{"$f":"'Goodness of fit'!F$12/1000+A318","v":5.0880000000000036},{"$error":"#NUM!"},{"$f":"IF(A319>='Goodness of fit'!$F$11,B319,0)","v":{"$error":"#NUM!"}},{"$error":"#NUM!"},{"$f":"IF('Goodness of fit'!D319>0,('Goodness of fit'!C319-'Goodness of fit'!D319)^2/'Goodness of fit'!D319,\"\")","v":""}]
[{"$f":"'Goodness of fit'!F$12/1000+A319","v":5.1040000000000036},{"$error":"#NUM!"},{"$f":"IF(A320>='Goodness of fit'!$F$11,B320,0)","v":{"$error":"#NUM!"}},{"$error":"#NUM!"},{"$f":"IF('Goodness of fit'!D320>0,('Goodness of fit'!C320-'Goodness of fit'!D320)^2/'Goodness of fit'!D320,\"\")","v":""}]
[{"$f":"'Goodness of fit'!F$12/1000+A320","v":5.1200000000000037},{"$error":"#NUM!"},{"$f":"IF(A321>='Goodness of fit'!$F$11,B321,0)","v":{"$error":"#NUM!"}},{"$error":"#NUM!"},{"$f":"IF('Goodness of fit'!D321>0,('Goodness of fit'!C321-'Goodness of fit'!D321)^2/'Goodness of fit'!D321,\"\")","v":""}]
[{"$f":"'Goodness of fit'!F$12/1000+A321","v":5.1360000000000037},{"$error":"#NUM!"},{"$f":"IF(A322>='Goodness of fit'!$F$11,B322,0)","v":{"$error":"#NUM!"}},{"$f":"CHIDIST(A322,F$1)","v":{"$error":"#NUM!"}},{"$f":"IF('Goodness of fit'!D322>0,('Goodness of fit'!C322-'Goodness of fit'!D322)^2/'Goodness of fit'!D322,\"\")","v":""}]
[{"$f":"'Goodness of fit'!F$12/1000+A322","v":5.1520000000000037},{"$f":"_xlfn.CHISQ.DIST(A323,F$1,FALSE)","v":{"$error":"#NUM!"}},{"$f":"IF(A323>='Goodness of fit'!$F$11,B323,0)","v":{"$error":"#NUM!"}},{"$error":"#NUM!"},{"$f":"IF('Goodness of fit'!D323>0,('Goodness of fit'!C323-'Goodness of fit'!D323)^2/'Goodness of fit'!D323,\"\")","v":""}]
[{"$f":"'Goodness of fit'!F$12/1000+A323","v":5.1680000000000037},{"$error":"#NUM!"},{"$f":"IF(A324>='Goodness of fit'!$F$11,B324,0)","v":{"$error":"#NUM!"}},{"$error":"#NUM!"},{"$f":"IF('Goodness of fit'!D324>0,('Goodness of fit'!C324-'Goodness of fit'!D324)^2/'Goodness of fit'!D324,\"\")","v":""}]
[{"$f":"'Goodness of fit'!F$12/1000+A324","v":5.1840000000000037},{"$error":"#NUM!"},{"$f":"IF(A325>='Goodness of fit'!$F$11,B325,0)","v":{"$error":"#NUM!"}},{"$error":"#NUM!"},{"$f":"IF('Goodness of fit'!D325>0,('Goodness of fit'!C325-'Goodness of fit'!D325)^2/'Goodness of fit'!D325,\"\")","v":""}]
[{"$f":"'Goodness of fit'!F$12/1000+A325","v":5.2000000000000037},{"$error":"#NUM!"},{"$f":"IF(A326>='Goodness of fit'!$F$11,B326,0)","v":{"$error":"#NUM!"}},{"$error":"#NUM!"},{"$f":"IF('Goodness of fit'!D326>0,('Goodness of fit'!C326-'Goodness of fit'!D326)^2/'Goodness of fit'!D326,\"\")","v":""}]
[{"$f":"'Goodness of fit'!F$12/1000+A326","v":5.2160000000000037},{"$error":"#NUM!"},{"$f":"IF(A327>='Goodness of fit'!$F$11,B327,0)","v":{"$error":"#NUM!"}},{"$error":"#NUM!"},{"$f":"IF('Goodness of fit'!D327>0,('Goodness of fit'!C327-'Goodness of fit'!D327)^2/'Goodness of fit'!D327,\"\")","v":""}]
[{"$f":"'Goodness of fit'!F$12/1000+A327","v":5.2320000000000038},{"$error":"#NUM!"},{"$f":"IF(A328>='Goodness of fit'!$F$11,B328,0)","v":{"$error":"#NUM!"}},{"$error":"#NUM!"},{"$f":"IF('Goodness of fit'!D328>0,('Goodness of fit'!C328-'Goodness of fit'!D328)^2/'Goodness of fit'!D328,\"\")","v":""}]
[{"$f":"'Goodness of fit'!F$12/1000+A328","v":5.2480000000000038},{"$error":"#NUM!"},{"$f":"IF(A329>='Goodness of fit'!$F$11,B329,0)","v":{"$error":"#NUM!"}},{"$error":"#NUM!"},{"$f":"IF('Goodness of fit'!D329>0,('Goodness of fit'!C329-'Goodness of fit'!D329)^2/'Goodness of fit'!D329,\"\")","v":""}]
[{"$f":"'Goodness of fit'!F$12/1000+A329","v":5.2640000000000038},{"$error":"#NUM!"},{"$f":"IF(A330>='Goodness of fit'!$F$11,B330,0)","v":{"$error":"#NUM!"}},{"$error":"#NUM!"},{"$f":"IF('Goodness of fit'!D330>0,('Goodness of fit'!C330-'Goodness of fit'!D330)^2/'Goodness of fit'!D330,\"\")","v":""}]
[{"$f":"'Goodness of fit'!F$12/1000+A330","v":5.2800000000000038},{"$error":"#NUM!"},{"$f":"IF(A331>='Goodness of fit'!$F$11,B331,0)","v":{"$error":"#NUM!"}},{"$error":"#NUM!"},{"$f":"IF('Goodness of fit'!D331>0,('Goodness of fit'!C331-'Goodness of fit'!D331)^2/'Goodness of fit'!D331,\"\")","v":""}]
[{"$f":"'Goodness of fit'!F$12/1000+A331","v":5.2960000000000038},{"$error":"#NUM!"},{"$f":"IF(A332>='Goodness of fit'!$F$11,B332,0)","v":{"$error":"#NUM!"}},{"$error":"#NUM!"},{"$f":"IF('Goodness of fit'!D332>0,('Goodness of fit'!C332-'Goodness of fit'!D332)^2/'Goodness of fit'!D332,\"\")","v":""}]
[{"$f":"'Goodness of fit'!F$12/1000+A332","v":5.3120000000000038},{"$error":"#NUM!"},{"$f":"IF(A333>='Goodness of fit'!$F$11,B333,0)","v":{"$error":"#NUM!"}},{"$error":"#NUM!"},{"$f":"IF('Goodness of fit'!D333>0,('Goodness of fit'!C333-'Goodness of fit'!D333)^2/'Goodness of fit'!D333,\"\")","v":""}]
[{"$f":"'Goodness of fit'!F$12/1000+A333","v":5.3280000000000038},{"$error":"#NUM!"},{"$f":"IF(A334>='Goodness of fit'!$F$11,B334,0)","v":{"$error":"#NUM!"}},{"$error":"#NUM!"},{"$f":"IF('Goodness of fit'!D334>0,('Goodness of fit'!C334-'Goodness of fit'!D334)^2/'Goodness of fit'!D334,\"\")","v":""}]
[{"$f":"'Goodness of fit'!F$12/1000+A334","v":5.3440000000000039},{"$error":"#NUM!"},{"$f":"IF(A335>='Goodness of fit'!$F$11,B335,0)","v":{"$error":"#NUM!"}},{"$error":"#NUM!"},{"$f":"IF('Goodness of fit'!D335>0,('Goodness of fit'!C335-'Goodness of fit'!D335)^2/'Goodness of fit'!D335,\"\")","v":""}]
[{"$f":"'Goodness of fit'!F$12/1000+A335","v":5.3600000000000039},{"$error":"#NUM!"},{"$f":"IF(A336>='Goodness of fit'!$F$11,B336,0)","v":{"$error":"#NUM!"}},{"$error":"#NUM!"},{"$f":"IF('Goodness of fit'!D336>0,('Goodness of fit'!C336-'Goodness of fit'!D336)^2/'Goodness of fit'!D336,\"\")","v":""}]
[{"$f":"'Goodness of fit'!F$12/1000+A336","v":5.3760000000000039},{"$error":"#NUM!"},{"$f":"IF(A337>='Goodness of fit'!$F$11,B337,0)","v":{"$error":"#NUM!"}},{"$error":"#NUM!"},{"$f":"IF('Goodness of fit'!D337>0,('Goodness of fit'!C337-'Goodness of fit'!D337)^2/'Goodness of fit'!D337,\"\")","v":""}]
[{"$f":"'Goodness of fit'!F$12/1000+A337","v":5.3920000000000039},{"$error":"#NUM!"},{"$f":"IF(A338>='Goodness of fit'!$F$11,B338,0)","v":{"$error":"#NUM!"}},{"$error":"#NUM!"},{"$f":"IF('Goodness of fit'!D338>0,('Goodness of fit'!C338-'Goodness of fit'!D338)^2/'Goodness of fit'!D338,\"\")","v":""}]
[{"$f":"'Goodness of fit'!F$12/1000+A338","v":5.4080000000000039},{"$error":"#NUM!"},{"$f":"IF(A339>='Goodness of fit'!$F$11,B339,0)","v":{"$error":"#NUM!"}},{"$error":"#NUM!"},{"$f":"IF('Goodness of fit'!D339>0,('Goodness of fit'!C339-'Goodness of fit'!D339)^2/'Goodness of fit'!D339,\"\")","v":""}]
[{"$f":"'Goodness of fit'!F$12/1000+A339","v":5.4240000000000039},{"$error":"#NUM!"},{"$f":"IF(A340>='Goodness of fit'!$F$11,B340,0)","v":{"$error":"#NUM!"}},{"$error":"#NUM!"},{"$f":"IF('Goodness of fit'!D340>0,('Goodness of fit'!C340-'Goodness of fit'!D340)^2/'Goodness of fit'!D340,\"\")","v":""}]
[{"$f":"'Goodness of fit'!F$12/1000+A340","v":5.4400000000000039},{"$error":"#NUM!"},{"$f":"IF(A341>='Goodness of fit'!$F$11,B341,0)","v":{"$error":"#NUM!"}},{"$error":"#NUM!"},{"$f":"IF('Goodness of fit'!D341>0,('Goodness of fit'!C341-'Goodness of fit'!D341)^2/'Goodness of fit'!D341,\"\")","v":""}]
[{"$f":"'Goodness of fit'!F$12/1000+A341","v":5.456000000000004},{"$error":"#NUM!"},{"$f":"IF(A342>='Goodness of fit'!$F$11,B342,0)","v":{"$error":"#NUM!"}},{"$error":"#NUM!"},{"$f":"IF('Goodness of fit'!D342>0,('Goodness of fit'!C342-'Goodness of fit'!D342)^2/'Goodness of fit'!D342,\"\")","v":""}]
[{"$f":"'Goodness of fit'!F$12/1000+A342","v":5.472000000000004},{"$error":"#NUM!"},{"$f":"IF(A343>='Goodness of fit'!$F$11,B343,0)","v":{"$error":"#NUM!"}},{"$error":"#NUM!"},{"$f":"IF('Goodness of fit'!D343>0,('Goodness of fit'!C343-'Goodness of fit'!D343)^2/'Goodness of fit'!D343,\"\")","v":""}]
[{"$f":"'Goodness of fit'!F$12/1000+A343","v":5.488000000000004},{"$error":"#NUM!"},{"$f":"IF(A344>='Goodness of fit'!$F$11,B344,0)","v":{"$error":"#NUM!"}},{"$error":"#NUM!"},{"$f":"IF('Goodness of fit'!D344>0,('Goodness of fit'!C344-'Goodness of fit'!D344)^2/'Goodness of fit'!D344,\"\")","v":""}]
[{"$f":"'Goodness of fit'!F$12/1000+A344","v":5.504000000000004},{"$error":"#NUM!"},{"$f":"IF(A345>='Goodness of fit'!$F$11,B345,0)","v":{"$error":"#NUM!"}},{"$error":"#NUM!"},{"$f":"IF('Goodness of fit'!D345>0,('Goodness of fit'!C345-'Goodness of fit'!D345)^2/'Goodness of fit'!D345,\"\")","v":""}]
[{"$f":"'Goodness of fit'!F$12/1000+A345","v":5.520000000000004},{"$error":"#NUM!"},{"$f":"IF(A346>='Goodness of fit'!$F$11,B346,0)","v":{"$error":"#NUM!"}},{"$error":"#NUM!"},{"$f":"IF('Goodness of fit'!D346>0,('Goodness of fit'!C346-'Goodness of fit'!D346)^2/'Goodness of fit'!D346,\"\")","v":""}]
[{"$f":"'Goodness of fit'!F$12/1000+A346","v":5.536000000000004},{"$error":"#NUM!"},{"$f":"IF(A347>='Goodness of fit'!$F$11,B347,0)","v":{"$error":"#NUM!"}},{"$error":"#NUM!"},{"$f":"IF('Goodness of fit'!D347>0,('Goodness of fit'!C347-'Goodness of fit'!D347)^2/'Goodness of fit'!D347,\"\")","v":""}]
[{"$f":"'Goodness of fit'!F$12/1000+A347","v":5.552000000000004},{"$error":"#NUM!"},{"$f":"IF(A348>='Goodness of fit'!$F$11,B348,0)","v":{"$error":"#NUM!"}},{"$error":"#NUM!"},{"$f":"IF('Goodness of fit'!D348>0,('Goodness of fit'!C348-'Goodness of fit'!D348)^2/'Goodness of fit'!D348,\"\")","v":""}]
[{"$f":"'Goodness of fit'!F$12/1000+A348","v":5.5680000000000041},{"$error":"#NUM!"},{"$f":"IF(A349>='Goodness of fit'!$F$11,B349,0)","v":{"$error":"#NUM!"}},{"$error":"#NUM!"},{"$f":"IF('Goodness of fit'!D349>0,('Goodness of fit'!C349-'Goodness of fit'!D349)^2/'Goodness of fit'!D349,\"\")","v":""}]
[{"$f":"'Goodness of fit'!F$12/1000+A349","v":5.5840000000000041},{"$error":"#NUM!"},{"$f":"IF(A350>='Goodness of fit'!$F$11,B350,0)","v":{"$error":"#NUM!"}},{"$error":"#NUM!"},{"$f":"IF('Goodness of fit'!D350>0,('Goodness of fit'!C350-'Goodness of fit'!D350)^2/'Goodness of fit'!D350,\"\")","v":""}]
[{"$f":"'Goodness of fit'!F$12/1000+A350","v":5.6000000000000041},{"$error":"#NUM!"},{"$f":"IF(A351>='Goodness of fit'!$F$11,B351,0)","v":{"$error":"#NUM!"}},{"$error":"#NUM!"},{"$f":"IF('Goodness of fit'!D351>0,('Goodness of fit'!C351-'Goodness of fit'!D351)^2/'Goodness of fit'!D351,\"\")","v":""}]
[{"$f":"'Goodness of fit'!F$12/1000+A351","v":5.6160000000000041},{"$error":"#NUM!"},{"$f":"IF(A352>='Goodness of fit'!$F$11,B352,0)","v":{"$error":"#NUM!"}},{"$error":"#NUM!"},{"$f":"IF('Goodness of fit'!D352>0,('Goodness of fit'!C352-'Goodness of fit'!D352)^2/'Goodness of fit'!D352,\"\")","v":""}]
[{"$f":"'Goodness of fit'!F$12/1000+A352","v":5.6320000000000041},{"$error":"#NUM!"},{"$f":"IF(A353>='Goodness of fit'!$F$11,B353,0)","v":{"$error":"#NUM!"}},{"$error":"#NUM!"},{"$f":"IF('Goodness of fit'!D353>0,('Goodness of fit'!C353-'Goodness of fit'!D353)^2/'Goodness of fit'!D353,\"\")","v":""}]
[{"$f":"'Goodness of fit'!F$12/1000+A353","v":5.6480000000000041},{"$error":"#NUM!"},{"$f":"IF(A354>='Goodness of fit'!$F$11,B354,0)","v":{"$error":"#NUM!"}},{"$error":"#NUM!"},{"$f":"IF('Goodness of fit'!D354>0,('Goodness of fit'!C354-'Goodness of fit'!D354)^2/'Goodness of fit'!D354,\"\")","v":""}]
[{"$f":"'Goodness of fit'!F$12/1000+A354","v":5.6640000000000041},{"$error":"#NUM!"},{"$f":"IF(A355>='Goodness of fit'!$F$11,B355,0)","v":{"$error":"#NUM!"}},{"$error":"#NUM!"},{"$f":"IF('Goodness of fit'!D355>0,('Goodness of fit'!C355-'Goodness of fit'!D355)^2/'Goodness of fit'!D355,\"\")","v":""}]
[{"$f":"'Goodness of fit'!F$12/1000+A355","v":5.6800000000000042},{"$error":"#NUM!"},{"$f":"IF(A356>='Goodness of fit'!$F$11,B356,0)","v":{"$error":"#NUM!"}},{"$error":"#NUM!"},{"$f":"IF('Goodness of fit'!D356>0,('Goodness of fit'!C356-'Goodness of fit'!D356)^2/'Goodness of fit'!D356,\"\")","v":""}]
[{"$f":"'Goodness of fit'!F$12/1000+A356","v":5.6960000000000042},{"$error":"#NUM!"},{"$f":"IF(A357>='Goodness of fit'!$F$11,B357,0)","v":{"$error":"#NUM!"}},{"$error":"#NUM!"},{"$f":"IF('Goodness of fit'!D357>0,('Goodness of fit'!C357-'Goodness of fit'!D357)^2/'Goodness of fit'!D357,\"\")","v":""}]
[{"$f":"'Goodness of fit'!F$12/1000+A357","v":5.7120000000000042},{"$error":"#NUM!"},{"$f":"IF(A358>='Goodness of fit'!$F$11,B358,0)","v":{"$error":"#NUM!"}},{"$error":"#NUM!"},{"$f":"IF('Goodness of fit'!D358>0,('Goodness of fit'!C358-'Goodness of fit'!D358)^2/'Goodness of fit'!D358,\"\")","v":""}]
[{"$f":"'Goodness of fit'!F$12/1000+A358","v":5.7280000000000042},{"$error":"#NUM!"},{"$f":"IF(A359>='Goodness of fit'!$F$11,B359,0)","v":{"$error":"#NUM!"}},{"$error":"#NUM!"},{"$f":"IF('Goodness of fit'!D359>0,('Goodness of fit'!C359-'Goodness of fit'!D359)^2/'Goodness of fit'!D359,\"\")","v":""}]
[{"$f":"'Goodness of fit'!F$12/1000+A359","v":5.7440000000000042},{"$error":"#NUM!"},{"$f":"IF(A360>='Goodness of fit'!$F$11,B360,0)","v":{"$error":"#NUM!"}},{"$error":"#NUM!"},{"$f":"IF('Goodness of fit'!D360>0,('Goodness of fit'!C360-'Goodness of fit'!D360)^2/'Goodness of fit'!D360,\"\")","v":""}]
[{"$f":"'Goodness of fit'!F$12/1000+A360","v":5.7600000000000042},{"$error":"#NUM!"},{"$f":"IF(A361>='Goodness of fit'!$F$11,B361,0)","v":{"$error":"#NUM!"}},{"$error":"#NUM!"},{"$f":"IF('Goodness of fit'!D361>0,('Goodness of fit'!C361-'Goodness of fit'!D361)^2/'Goodness of fit'!D361,\"\")","v":""}]
[{"$f":"'Goodness of fit'!F$12/1000+A361","v":5.7760000000000042},{"$error":"#NUM!"},{"$f":"IF(A362>='Goodness of fit'!$F$11,B362,0)","v":{"$error":"#NUM!"}},{"$error":"#NUM!"},{"$f":"IF('Goodness of fit'!D362>0,('Goodness of fit'!C362-'Goodness of fit'!D362)^2/'Goodness of fit'!D362,\"\")","v":""}]
[{"$f":"'Goodness of fit'!F$12/1000+A362","v":5.7920000000000043},{"$error":"#NUM!"},{"$f":"IF(A363>='Goodness of fit'!$F$11,B363,0)","v":{"$error":"#NUM!"}},{"$error":"#NUM!"},{"$f":"IF('Goodness of fit'!D363>0,('Goodness of fit'!C363-'Goodness of fit'!D363)^2/'Goodness of fit'!D363,\"\")","v":""}]
[{"$f":"'Goodness of fit'!F$12/1000+A363","v":5.8080000000000043},{"$error":"#NUM!"},{"$f":"IF(A364>='Goodness of fit'!$F$11,B364,0)","v":{"$error":"#NUM!"}},{"$error":"#NUM!"},{"$f":"IF('Goodness of fit'!D364>0,('Goodness of fit'!C364-'Goodness of fit'!D364)^2/'Goodness of fit'!D364,\"\")","v":""}]
[{"$f":"'Goodness of fit'!F$12/1000+A364","v":5.8240000000000043},{"$error":"#NUM!"},{"$f":"IF(A365>='Goodness of fit'!$F$11,B365,0)","v":{"$error":"#NUM!"}},{"$error":"#NUM!"},{"$f":"IF('Goodness of fit'!D365>0,('Goodness of fit'!C365-'Goodness of fit'!D365)^2/'Goodness of fit'!D365,\"\")","v":""}]
[{"$f":"'Goodness of fit'!F$12/1000+A365","v":5.8400000000000043},{"$error":"#NUM!"},{"$f":"IF(A366>='Goodness of fit'!$F$11,B366,0)","v":{"$error":"#NUM!"}},{"$error":"#NUM!"},{"$f":"IF('Goodness of fit'!D366>0,('Goodness of fit'!C366-'Goodness of fit'!D366)^2/'Goodness of fit'!D366,\"\")","v":""}]
[{"$f":"'Goodness of fit'!F$12/1000+A366","v":5.8560000000000043},{"$error":"#NUM!"},{"$f":"IF(A367>='Goodness of fit'!$F$11,B367,0)","v":{"$error":"#NUM!"}},{"$error":"#NUM!"},{"$f":"IF('Goodness of fit'!D367>0,('Goodness of fit'!C367-'Goodness of fit'!D367)^2/'Goodness of fit'!D367,\"\")","v":""}]
[{"$f":"'Goodness of fit'!F$12/1000+A367","v":5.8720000000000043},{"$error":"#NUM!"},{"$f":"IF(A368>='Goodness of fit'!$F$11,B368,0)","v":{"$error":"#NUM!"}},{"$error":"#NUM!"},{"$f":"IF('Goodness of fit'!D368>0,('Goodness of fit'!C368-'Goodness of fit'!D368)^2/'Goodness of fit'!D368,\"\")","v":""}]
[{"$f":"'Goodness of fit'!F$12/1000+A368","v":5.8880000000000043},{"$error":"#NUM!"},{"$f":"IF(A369>='Goodness of fit'!$F$11,B369,0)","v":{"$error":"#NUM!"}},{"$error":"#NUM!"},{"$f":"IF('Goodness of fit'!D369>0,('Goodness of fit'!C369-'Goodness of fit'!D369)^2/'Goodness of fit'!D369,\"\")","v":""}]
[{"$f":"'Goodness of fit'!F$12/1000+A369","v":5.9040000000000044},{"$error":"#NUM!"},{"$f":"IF(A370>='Goodness of fit'!$F$11,B370,0)","v":{"$error":"#NUM!"}},{"$error":"#NUM!"},{"$f":"IF('Goodness of fit'!D370>0,('Goodness of fit'!C370-'Goodness of fit'!D370)^2/'Goodness of fit'!D370,\"\")","v":""}]
[{"$f":"'Goodness of fit'!F$12/1000+A370","v":5.9200000000000044},{"$error":"#NUM!"},{"$f":"IF(A371>='Goodness of fit'!$F$11,B371,0)","v":{"$error":"#NUM!"}},{"$error":"#NUM!"},{"$f":"IF('Goodness of fit'!D371>0,('Goodness of fit'!C371-'Goodness of fit'!D371)^2/'Goodness of fit'!D371,\"\")","v":""}]
[{"$f":"'Goodness of fit'!F$12/1000+A371","v":5.9360000000000044},{"$error":"#NUM!"},{"$f":"IF(A372>='Goodness of fit'!$F$11,B372,0)","v":{"$error":"#NUM!"}},{"$error":"#NUM!"},{"$f":"IF('Goodness of fit'!D372>0,('Goodness of fit'!C372-'Goodness of fit'!D372)^2/'Goodness of fit'!D372,\"\")","v":""}]
[{"$f":"'Goodness of fit'!F$12/1000+A372","v":5.9520000000000044},{"$error":"#NUM!"},{"$f":"IF(A373>='Goodness of fit'!$F$11,B373,0)","v":{"$error":"#NUM!"}},{"$error":"#NUM!"},{"$f":"IF('Goodness of fit'!D373>0,('Goodness of fit'!C373-'Goodness of fit'!D373)^2/'Goodness of fit'!D373,\"\")","v":""}]
[{"$f":"'Goodness of fit'!F$12/1000+A373","v":5.9680000000000044},{"$error":"#NUM!"},{"$f":"IF(A374>='Goodness of fit'!$F$11,B374,0)","v":{"$error":"#NUM!"}},{"$error":"#NUM!"},{"$f":"IF('Goodness of fit'!D374>0,('Goodness of fit'!C374-'Goodness of fit'!D374)^2/'Goodness of fit'!D374,\"\")","v":""}]
[{"$f":"'Goodness of fit'!F$12/1000+A374","v":5.9840000000000044},{"$error":"#NUM!"},{"$f":"IF(A375>='Goodness of fit'!$F$11,B375,0)","v":{"$error":"#NUM!"}},{"$error":"#NUM!"},{"$f":"IF('Goodness of fit'!D375>0,('Goodness of fit'!C375-'Goodness of fit'!D375)^2/'Goodness of fit'!D375,\"\")","v":""}]
[{"$f":"'Goodness of fit'!F$12/1000+A375","v":6.0000000000000044},{"$error":"#NUM!"},{"$f":"IF(A376>='Goodness of fit'!$F$11,B376,0)","v":{"$error":"#NUM!"}},{"$error":"#NUM!"},{"$f":"IF('Goodness of fit'!D376>0,('Goodness of fit'!C376-'Goodness of fit'!D376)^2/'Goodness of fit'!D376,\"\")","v":""}]
[{"$f":"'Goodness of fit'!F$12/1000+A376","v":6.0160000000000045},{"$error":"#NUM!"},{"$f":"IF(A377>='Goodness of fit'!$F$11,B377,0)","v":{"$error":"#NUM!"}},{"$error":"#NUM!"},{"$f":"IF('Goodness of fit'!D377>0,('Goodness of fit'!C377-'Goodness of fit'!D377)^2/'Goodness of fit'!D377,\"\")","v":""}]
[{"$f":"'Goodness of fit'!F$12/1000+A377","v":6.0320000000000045},{"$error":"#NUM!"},{"$f":"IF(A378>='Goodness of fit'!$F$11,B378,0)","v":{"$error":"#NUM!"}},{"$error":"#NUM!"},{"$f":"IF('Goodness of fit'!D378>0,('Goodness of fit'!C378-'Goodness of fit'!D378)^2/'Goodness of fit'!D378,\"\")","v":""}]
[{"$f":"'Goodness of fit'!F$12/1000+A378","v":6.0480000000000045},{"$error":"#NUM!"},{"$f":"IF(A379>='Goodness of fit'!$F$11,B379,0)","v":{"$error":"#NUM!"}},{"$error":"#NUM!"},{"$f":"IF('Goodness of fit'!D379>0,('Goodness of fit'!C379-'Goodness of fit'!D379)^2/'Goodness of fit'!D379,\"\")","v":""}]
[{"$f":"'Goodness of fit'!F$12/1000+A379","v":6.0640000000000045},{"$error":"#NUM!"},{"$f":"IF(A380>='Goodness of fit'!$F$11,B380,0)","v":{"$error":"#NUM!"}},{"$error":"#NUM!"},{"$f":"IF('Goodness of fit'!D380>0,('Goodness of fit'!C380-'Goodness of fit'!D380)^2/'Goodness of fit'!D380,\"\")","v":""}]
[{"$f":"'Goodness of fit'!F$12/1000+A380","v":6.0800000000000045},{"$error":"#NUM!"},{"$f":"IF(A381>='Goodness of fit'!$F$11,B381,0)","v":{"$error":"#NUM!"}},{"$error":"#NUM!"},{"$f":"IF('Goodness of fit'!D381>0,('Goodness of fit'!C381-'Goodness of fit'!D381)^2/'Goodness of fit'!D381,\"\")","v":""}]
[{"$f":"'Goodness of fit'!F$12/1000+A381","v":6.0960000000000045},{"$error":"#NUM!"},{"$f":"IF(A382>='Goodness of fit'!$F$11,B382,0)","v":{"$error":"#NUM!"}},{"$error":"#NUM!"},{"$f":"IF('Goodness of fit'!D382>0,('Goodness of fit'!C382-'Goodness of fit'!D382)^2/'Goodness of fit'!D382,\"\")","v":""}]
[{"$f":"'Goodness of fit'!F$12/1000+A382","v":6.1120000000000045},{"$error":"#NUM!"},{"$f":"IF(A383>='Goodness of fit'!$F$11,B383,0)","v":{"$error":"#NUM!"}},{"$error":"#NUM!"},{"$f":"IF('Goodness of fit'!D383>0,('Goodness of fit'!C383-'Goodness of fit'!D383)^2/'Goodness of fit'!D383,\"\")","v":""}]
[{"$f":"'Goodness of fit'!F$12/1000+A383","v":6.1280000000000046},{"$error":"#NUM!"},{"$f":"IF(A384>='Goodness of fit'!$F$11,B384,0)","v":{"$error":"#NUM!"}},{"$error":"#NUM!"},{"$f":"IF('Goodness of fit'!D384>0,('Goodness of fit'!C384-'Goodness of fit'!D384)^2/'Goodness of fit'!D384,\"\")","v":""}]
[{"$f":"'Goodness of fit'!F$12/1000+A384","v":6.1440000000000046},{"$error":"#NUM!"},{"$f":"IF(A385>='Goodness of fit'!$F$11,B385,0)","v":{"$error":"#NUM!"}},{"$error":"#NUM!"},{"$f":"IF('Goodness of fit'!D385>0,('Goodness of fit'!C385-'Goodness of fit'!D385)^2/'Goodness of fit'!D385,\"\")","v":""}]
[{"$f":"'Goodness of fit'!F$12/1000+A385","v":6.1600000000000046},{"$error":"#NUM!"},{"$f":"IF(A386>='Goodness of fit'!$F$11,B386,0)","v":{"$error":"#NUM!"}},{"$f":"CHIDIST(A386,F$1)","v":{"$error":"#NUM!"}},{"$f":"IF('Goodness of fit'!D386>0,('Goodness of fit'!C386-'Goodness of fit'!D386)^2/'Goodness of fit'!D386,\"\")","v":""}]
[{"$f":"'Goodness of fit'!F$12/1000+A386","v":6.1760000000000046},{"$f":"_xlfn.CHISQ.DIST(A387,F$1,FALSE)","v":{"$error":"#NUM!"}},{"$f":"IF(A387>='Goodness of fit'!$F$11,B387,0)","v":{"$error":"#NUM!"}},{"$error":"#NUM!"},{"$f":"IF('Goodness of fit'!D387>0,('Goodness of fit'!C387-'Goodness of fit'!D387)^2/'Goodness of fit'!D387,\"\")","v":""}]
[{"$f":"'Goodness of fit'!F$12/1000+A387","v":6.1920000000000046},{"$error":"#NUM!"},{"$f":"IF(A388>='Goodness of fit'!$F$11,B388,0)","v":{"$error":"#NUM!"}},{"$error":"#NUM!"},{"$f":"IF('Goodness of fit'!D388>0,('Goodness of fit'!C388-'Goodness of fit'!D388)^2/'Goodness of fit'!D388,\"\")","v":""}]
[{"$f":"'Goodness of fit'!F$12/1000+A388","v":6.2080000000000046},{"$error":"#NUM!"},{"$f":"IF(A389>='Goodness of fit'!$F$11,B389,0)","v":{"$error":"#NUM!"}},{"$error":"#NUM!"},{"$f":"IF('Goodness of fit'!D389>0,('Goodness of fit'!C389-'Goodness of fit'!D389)^2/'Goodness of fit'!D389,\"\")","v":""}]
[{"$f":"'Goodness of fit'!F$12/1000+A389","v":6.2240000000000046},{"$error":"#NUM!"},{"$f":"IF(A390>='Goodness of fit'!$F$11,B390,0)","v":{"$error":"#NUM!"}},{"$error":"#NUM!"},{"$f":"IF('Goodness of fit'!D390>0,('Goodness of fit'!C390-'Goodness of fit'!D390)^2/'Goodness of fit'!D390,\"\")","v":""}]
[{"$f":"'Goodness of fit'!F$12/1000+A390","v":6.2400000000000047},{"$error":"#NUM!"},{"$f":"IF(A391>='Goodness of fit'!$F$11,B391,0)","v":{"$error":"#NUM!"}},{"$error":"#NUM!"},{"$f":"IF('Goodness of fit'!D391>0,('Goodness of fit'!C391-'Goodness of fit'!D391)^2/'Goodness of fit'!D391,\"\")","v":""}]
[{"$f":"'Goodness of fit'!F$12/1000+A391","v":6.2560000000000047},{"$error":"#NUM!"},{"$f":"IF(A392>='Goodness of fit'!$F$11,B392,0)","v":{"$error":"#NUM!"}},{"$error":"#NUM!"},{"$f":"IF('Goodness of fit'!D392>0,('Goodness of fit'!C392-'Goodness of fit'!D392)^2/'Goodness of fit'!D392,\"\")","v":""}]
[{"$f":"'Goodness of fit'!F$12/1000+A392","v":6.2720000000000047},{"$error":"#NUM!"},{"$f":"IF(A393>='Goodness of fit'!$F$11,B393,0)","v":{"$error":"#NUM!"}},{"$error":"#NUM!"},{"$f":"IF('Goodness of fit'!D393>0,('Goodness of fit'!C393-'Goodness of fit'!D393)^2/'Goodness of fit'!D393,\"\")","v":""}]
[{"$f":"'Goodness of fit'!F$12/1000+A393","v":6.2880000000000047},{"$error":"#NUM!"},{"$f":"IF(A394>='Goodness of fit'!$F$11,B394,0)","v":{"$error":"#NUM!"}},{"$error":"#NUM!"},{"$f":"IF('Goodness of fit'!D394>0,('Goodness of fit'!C394-'Goodness of fit'!D394)^2/'Goodness of fit'!D394,\"\")","v":""}]
[{"$f":"'Goodness of fit'!F$12/1000+A394","v":6.3040000000000047},{"$error":"#NUM!"},{"$f":"IF(A395>='Goodness of fit'!$F$11,B395,0)","v":{"$error":"#NUM!"}},{"$error":"#NUM!"},{"$f":"IF('Goodness of fit'!D395>0,('Goodness of fit'!C395-'Goodness of fit'!D395)^2/'Goodness of fit'!D395,\"\")","v":""}]
[{"$f":"'Goodness of fit'!F$12/1000+A395","v":6.3200000000000047},{"$error":"#NUM!"},{"$f":"IF(A396>='Goodness of fit'!$F$11,B396,0)","v":{"$error":"#NUM!"}},{"$error":"#NUM!"},{"$f":"IF('Goodness of fit'!D396>0,('Goodness of fit'!C396-'Goodness of fit'!D396)^2/'Goodness of fit'!D396,\"\")","v":""}]
[{"$f":"'Goodness of fit'!F$12/1000+A396","v":6.3360000000000047},{"$error":"#NUM!"},{"$f":"IF(A397>='Goodness of fit'!$F$11,B397,0)","v":{"$error":"#NUM!"}},{"$error":"#NUM!"},{"$f":"IF('Goodness of fit'!D397>0,('Goodness of fit'!C397-'Goodness of fit'!D397)^2/'Goodness of fit'!D397,\"\")","v":""}]
[{"$f":"'Goodness of fit'!F$12/1000+A397","v":6.3520000000000048},{"$error":"#NUM!"},{"$f":"IF(A398>='Goodness of fit'!$F$11,B398,0)","v":{"$error":"#NUM!"}},{"$error":"#NUM!"},{"$f":"IF('Goodness of fit'!D398>0,('Goodness of fit'!C398-'Goodness of fit'!D398)^2/'Goodness of fit'!D398,\"\")","v":""}]
[{"$f":"'Goodness of fit'!F$12/1000+A398","v":6.3680000000000048},{"$error":"#NUM!"},{"$f":"IF(A399>='Goodness of fit'!$F$11,B399,0)","v":{"$error":"#NUM!"}},{"$error":"#NUM!"},{"$f":"IF('Goodness of fit'!D399>0,('Goodness of fit'!C399-'Goodness of fit'!D399)^2/'Goodness of fit'!D399,\"\")","v":""}]
[{"$f":"'Goodness of fit'!F$12/1000+A399","v":6.3840000000000048},{"$error":"#NUM!"},{"$f":"IF(A400>='Goodness of fit'!$F$11,B400,0)","v":{"$error":"#NUM!"}},{"$error":"#NUM!"},{"$f":"IF('Goodness of fit'!D400>0,('Goodness of fit'!C400-'Goodness of fit'!D400)^2/'Goodness of fit'!D400,\"\")","v":""}]
[{"$f":"'Goodness of fit'!F$12/1000+A400","v":6.4000000000000048},{"$error":"#NUM!"},{"$f":"IF(A401>='Goodness of fit'!$F$11,B401,0)","v":{"$error":"#NUM!"}},{"$error":"#NUM!"},{"$f":"IF('Goodness of fit'!D401>0,('Goodness of fit'!C401-'Goodness of fit'!D401)^2/'Goodness of fit'!D401,\"\")","v":""}]
[{"$f":"'Goodness of fit'!F$12/1000+A401","v":6.4160000000000048},{"$error":"#NUM!"},{"$f":"IF(A402>='Goodness of fit'!$F$11,B402,0)","v":{"$error":"#NUM!"}},{"$error":"#NUM!"},{"$f":"IF('Goodness of fit'!D402>0,('Goodness of fit'!C402-'Goodness of fit'!D402)^2/'Goodness of fit'!D402,\"\")","v":""}]
[{"$f":"'Goodness of fit'!F$12/1000+A402","v":6.4320000000000048},{"$error":"#NUM!"},{"$f":"IF(A403>='Goodness of fit'!$F$11,B403,0)","v":{"$error":"#NUM!"}},{"$error":"#NUM!"},{"$f":"IF('Goodness of fit'!D403>0,('Goodness of fit'!C403-'Goodness of fit'!D403)^2/'Goodness of fit'!D403,\"\")","v":""}]
[{"$f":"'Goodness of fit'!F$12/1000+A403","v":6.4480000000000048},{"$error":"#NUM!"},{"$f":"IF(A404>='Goodness of fit'!$F$11,B404,0)","v":{"$error":"#NUM!"}},{"$error":"#NUM!"},{"$f":"IF('Goodness of fit'!D404>0,('Goodness of fit'!C404-'Goodness of fit'!D404)^2/'Goodness of fit'!D404,\"\")","v":""}]
[{"$f":"'Goodness of fit'!F$12/1000+A404","v":6.4640000000000049},{"$error":"#NUM!"},{"$f":"IF(A405>='Goodness of fit'!$F$11,B405,0)","v":{"$error":"#NUM!"}},{"$error":"#NUM!"},{"$f":"IF('Goodness of fit'!D405>0,('Goodness of fit'!C405-'Goodness of fit'!D405)^2/'Goodness of fit'!D405,\"\")","v":""}]
[{"$f":"'Goodness of fit'!F$12/1000+A405","v":6.4800000000000049},{"$error":"#NUM!"},{"$f":"IF(A406>='Goodness of fit'!$F$11,B406,0)","v":{"$error":"#NUM!"}},{"$error":"#NUM!"},{"$f":"IF('Goodness of fit'!D406>0,('Goodness of fit'!C406-'Goodness of fit'!D406)^2/'Goodness of fit'!D406,\"\")","v":""}]
[{"$f":"'Goodness of fit'!F$12/1000+A406","v":6.4960000000000049},{"$error":"#NUM!"},{"$f":"IF(A407>='Goodness of fit'!$F$11,B407,0)","v":{"$error":"#NUM!"}},{"$error":"#NUM!"},{"$f":"IF('Goodness of fit'!D407>0,('Goodness of fit'!C407-'Goodness of fit'!D407)^2/'Goodness of fit'!D407,\"\")","v":""}]
[{"$f":"'Goodness of fit'!F$12/1000+A407","v":6.5120000000000049},{"$error":"#NUM!"},{"$f":"IF(A408>='Goodness of fit'!$F$11,B408,0)","v":{"$error":"#NUM!"}},{"$error":"#NUM!"},{"$f":"IF('Goodness of fit'!D408>0,('Goodness of fit'!C408-'Goodness of fit'!D408)^2/'Goodness of fit'!D408,\"\")","v":""}]
[{"$f":"'Goodness of fit'!F$12/1000+A408","v":6.5280000000000049},{"$error":"#NUM!"},{"$f":"IF(A409>='Goodness of fit'!$F$11,B409,0)","v":{"$error":"#NUM!"}},{"$error":"#NUM!"},{"$f":"IF('Goodness of fit'!D409>0,('Goodness of fit'!C409-'Goodness of fit'!D409)^2/'Goodness of fit'!D409,\"\")","v":""}]
[{"$f":"'Goodness of fit'!F$12/1000+A409","v":6.5440000000000049},{"$error":"#NUM!"},{"$f":"IF(A410>='Goodness of fit'!$F$11,B410,0)","v":{"$error":"#NUM!"}},{"$error":"#NUM!"},{"$f":"IF('Goodness of fit'!D410>0,('Goodness of fit'!C410-'Goodness of fit'!D410)^2/'Goodness of fit'!D410,\"\")","v":""}]
[{"$f":"'Goodness of fit'!F$12/1000+A410","v":6.5600000000000049},{"$error":"#NUM!"},{"$f":"IF(A411>='Goodness of fit'!$F$11,B411,0)","v":{"$error":"#NUM!"}},{"$error":"#NUM!"},{"$f":"IF('Goodness of fit'!D411>0,('Goodness of fit'!C411-'Goodness of fit'!D411)^2/'Goodness of fit'!D411,\"\")","v":""}]
[{"$f":"'Goodness of fit'!F$12/1000+A411","v":6.576000000000005},{"$error":"#NUM!"},{"$f":"IF(A412>='Goodness of fit'!$F$11,B412,0)","v":{"$error":"#NUM!"}},{"$error":"#NUM!"},{"$f":"IF('Goodness of fit'!D412>0,('Goodness of fit'!C412-'Goodness of fit'!D412)^2/'Goodness of fit'!D412,\"\")","v":""}]
[{"$f":"'Goodness of fit'!F$12/1000+A412","v":6.592000000000005},{"$error":"#NUM!"},{"$f":"IF(A413>='Goodness of fit'!$F$11,B413,0)","v":{"$error":"#NUM!"}},{"$error":"#NUM!"},{"$f":"IF('Goodness of fit'!D413>0,('Goodness of fit'!C413-'Goodness of fit'!D413)^2/'Goodness of fit'!D413,\"\")","v":""}]
[{"$f":"'Goodness of fit'!F$12/1000+A413","v":6.608000000000005},{"$error":"#NUM!"},{"$f":"IF(A414>='Goodness of fit'!$F$11,B414,0)","v":{"$error":"#NUM!"}},{"$error":"#NUM!"},{"$f":"IF('Goodness of fit'!D414>0,('Goodness of fit'!C414-'Goodness of fit'!D414)^2/'Goodness of fit'!D414,\"\")","v":""}]
[{"$f":"'Goodness of fit'!F$12/1000+A414","v":6.624000000000005},{"$error":"#NUM!"},{"$f":"IF(A415>='Goodness of fit'!$F$11,B415,0)","v":{"$error":"#NUM!"}},{"$error":"#NUM!"},{"$f":"IF('Goodness of fit'!D415>0,('Goodness of fit'!C415-'Goodness of fit'!D415)^2/'Goodness of fit'!D415,\"\")","v":""}]
[{"$f":"'Goodness of fit'!F$12/1000+A415","v":6.640000000000005},{"$error":"#NUM!"},{"$f":"IF(A416>='Goodness of fit'!$F$11,B416,0)","v":{"$error":"#NUM!"}},{"$error":"#NUM!"},{"$f":"IF('Goodness of fit'!D416>0,('Goodness of fit'!C416-'Goodness of fit'!D416)^2/'Goodness of fit'!D416,\"\")","v":""}]
[{"$f":"'Goodness of fit'!F$12/1000+A416","v":6.656000000000005},{"$error":"#NUM!"},{"$f":"IF(A417>='Goodness of fit'!$F$11,B417,0)","v":{"$error":"#NUM!"}},{"$error":"#NUM!"},{"$f":"IF('Goodness of fit'!D417>0,('Goodness of fit'!C417-'Goodness of fit'!D417)^2/'Goodness of fit'!D417,\"\")","v":""}]
[{"$f":"'Goodness of fit'!F$12/1000+A417","v":6.672000000000005},{"$error":"#NUM!"},{"$f":"IF(A418>='Goodness of fit'!$F$11,B418,0)","v":{"$error":"#NUM!"}},{"$error":"#NUM!"},{"$f":"IF('Goodness of fit'!D418>0,('Goodness of fit'!C418-'Goodness of fit'!D418)^2/'Goodness of fit'!D418,\"\")","v":""}]
[{"$f":"'Goodness of fit'!F$12/1000+A418","v":6.6880000000000051},{"$error":"#NUM!"},{"$f":"IF(A419>='Goodness of fit'!$F$11,B419,0)","v":{"$error":"#NUM!"}},{"$error":"#NUM!"},{"$f":"IF('Goodness of fit'!D419>0,('Goodness of fit'!C419-'Goodness of fit'!D419)^2/'Goodness of fit'!D419,\"\")","v":""}]
[{"$f":"'Goodness of fit'!F$12/1000+A419","v":6.7040000000000051},{"$error":"#NUM!"},{"$f":"IF(A420>='Goodness of fit'!$F$11,B420,0)","v":{"$error":"#NUM!"}},{"$error":"#NUM!"},{"$f":"IF('Goodness of fit'!D420>0,('Goodness of fit'!C420-'Goodness of fit'!D420)^2/'Goodness of fit'!D420,\"\")","v":""}]
[{"$f":"'Goodness of fit'!F$12/1000+A420","v":6.7200000000000051},{"$error":"#NUM!"},{"$f":"IF(A421>='Goodness of fit'!$F$11,B421,0)","v":{"$error":"#NUM!"}},{"$error":"#NUM!"},{"$f":"IF('Goodness of fit'!D421>0,('Goodness of fit'!C421-'Goodness of fit'!D421)^2/'Goodness of fit'!D421,\"\")","v":""}]
[{"$f":"'Goodness of fit'!F$12/1000+A421","v":6.7360000000000051},{"$error":"#NUM!"},{"$f":"IF(A422>='Goodness of fit'!$F$11,B422,0)","v":{"$error":"#NUM!"}},{"$error":"#NUM!"},{"$f":"IF('Goodness of fit'!D422>0,('Goodness of fit'!C422-'Goodness of fit'!D422)^2/'Goodness of fit'!D422,\"\")","v":""}]
[{"$f":"'Goodness of fit'!F$12/1000+A422","v":6.7520000000000051},{"$error":"#NUM!"},{"$f":"IF(A423>='Goodness of fit'!$F$11,B423,0)","v":{"$error":"#NUM!"}},{"$error":"#NUM!"},{"$f":"IF('Goodness of fit'!D423>0,('Goodness of fit'!C423-'Goodness of fit'!D423)^2/'Goodness of fit'!D423,\"\")","v":""}]
[{"$f":"'Goodness of fit'!F$12/1000+A423","v":6.7680000000000051},{"$error":"#NUM!"},{"$f":"IF(A424>='Goodness of fit'!$F$11,B424,0)","v":{"$error":"#NUM!"}},{"$error":"#NUM!"},{"$f":"IF('Goodness of fit'!D424>0,('Goodness of fit'!C424-'Goodness of fit'!D424)^2/'Goodness of fit'!D424,\"\")","v":""}]
[{"$f":"'Goodness of fit'!F$12/1000+A424","v":6.7840000000000051},{"$error":"#NUM!"},{"$f":"IF(A425>='Goodness of fit'!$F$11,B425,0)","v":{"$error":"#NUM!"}},{"$error":"#NUM!"},{"$f":"IF('Goodness of fit'!D425>0,('Goodness of fit'!C425-'Goodness of fit'!D425)^2/'Goodness of fit'!D425,\"\")","v":""}]
[{"$f":"'Goodness of fit'!F$12/1000+A425","v":6.8000000000000052},{"$error":"#NUM!"},{"$f":"IF(A426>='Goodness of fit'!$F$11,B426,0)","v":{"$error":"#NUM!"}},{"$error":"#NUM!"},{"$f":"IF('Goodness of fit'!D426>0,('Goodness of fit'!C426-'Goodness of fit'!D426)^2/'Goodness of fit'!D426,\"\")","v":""}]
[{"$f":"'Goodness of fit'!F$12/1000+A426","v":6.8160000000000052},{"$error":"#NUM!"},{"$f":"IF(A427>='Goodness of fit'!$F$11,B427,0)","v":{"$error":"#NUM!"}},{"$error":"#NUM!"},{"$f":"IF('Goodness of fit'!D427>0,('Goodness of fit'!C427-'Goodness of fit'!D427)^2/'Goodness of fit'!D427,\"\")","v":""}]
[{"$f":"'Goodness of fit'!F$12/1000+A427","v":6.8320000000000052},{"$error":"#NUM!"},{"$f":"IF(A428>='Goodness of fit'!$F$11,B428,0)","v":{"$error":"#NUM!"}},{"$error":"#NUM!"},{"$f":"IF('Goodness of fit'!D428>0,('Goodness of fit'!C428-'Goodness of fit'!D428)^2/'Goodness of fit'!D428,\"\")","v":""}]
[{"$f":"'Goodness of fit'!F$12/1000+A428","v":6.8480000000000052},{"$error":"#NUM!"},{"$f":"IF(A429>='Goodness of fit'!$F$11,B429,0)","v":{"$error":"#NUM!"}},{"$error":"#NUM!"},{"$f":"IF('Goodness of fit'!D429>0,('Goodness of fit'!C429-'Goodness of fit'!D429)^2/'Goodness of fit'!D429,\"\")","v":""}]
[{"$f":"'Goodness of fit'!F$12/1000+A429","v":6.8640000000000052},{"$error":"#NUM!"},{"$f":"IF(A430>='Goodness of fit'!$F$11,B430,0)","v":{"$error":"#NUM!"}},{"$error":"#NUM!"},{"$f":"IF('Goodness of fit'!D430>0,('Goodness of fit'!C430-'Goodness of fit'!D430)^2/'Goodness of fit'!D430,\"\")","v":""}]
[{"$f":"'Goodness of fit'!F$12/1000+A430","v":6.8800000000000052},{"$error":"#NUM!"},{"$f":"IF(A431>='Goodness of fit'!$F$11,B431,0)","v":{"$error":"#NUM!"}},{"$error":"#NUM!"},{"$f":"IF('Goodness of fit'!D431>0,('Goodness of fit'!C431-'Goodness of fit'!D431)^2/'Goodness of fit'!D431,\"\")","v":""}]
[{"$f":"'Goodness of fit'!F$12/1000+A431","v":6.8960000000000052},{"$error":"#NUM!"},{"$f":"IF(A432>='Goodness of fit'!$F$11,B432,0)","v":{"$error":"#NUM!"}},{"$error":"#NUM!"},{"$f":"IF('Goodness of fit'!D432>0,('Goodness of fit'!C432-'Goodness of fit'!D432)^2/'Goodness of fit'!D432,\"\")","v":""}]
[{"$f":"'Goodness of fit'!F$12/1000+A432","v":6.9120000000000053},{"$error":"#NUM!"},{"$f":"IF(A433>='Goodness of fit'!$F$11,B433,0)","v":{"$error":"#NUM!"}},{"$error":"#NUM!"},{"$f":"IF('Goodness of fit'!D433>0,('Goodness of fit'!C433-'Goodness of fit'!D433)^2/'Goodness of fit'!D433,\"\")","v":""}]
[{"$f":"'Goodness of fit'!F$12/1000+A433","v":6.9280000000000053},{"$error":"#NUM!"},{"$f":"IF(A434>='Goodness of fit'!$F$11,B434,0)","v":{"$error":"#NUM!"}},{"$error":"#NUM!"},{"$f":"IF('Goodness of fit'!D434>0,('Goodness of fit'!C434-'Goodness of fit'!D434)^2/'Goodness of fit'!D434,\"\")","v":""}]
[{"$f":"'Goodness of fit'!F$12/1000+A434","v":6.9440000000000053},{"$error":"#NUM!"},{"$f":"IF(A435>='Goodness of fit'!$F$11,B435,0)","v":{"$error":"#NUM!"}},{"$error":"#NUM!"},{"$f":"IF('Goodness of fit'!D435>0,('Goodness of fit'!C435-'Goodness of fit'!D435)^2/'Goodness of fit'!D435,\"\")","v":""}]
[{"$f":"'Goodness of fit'!F$12/1000+A435","v":6.9600000000000053},{"$error":"#NUM!"},{"$f":"IF(A436>='Goodness of fit'!$F$11,B436,0)","v":{"$error":"#NUM!"}},{"$error":"#NUM!"},{"$f":"IF('Goodness of fit'!D436>0,('Goodness of fit'!C436-'Goodness of fit'!D436)^2/'Goodness of fit'!D436,\"\")","v":""}]
[{"$f":"'Goodness of fit'!F$12/1000+A436","v":6.9760000000000053},{"$error":"#NUM!"},{"$f":"IF(A437>='Goodness of fit'!$F$11,B437,0)","v":{"$error":"#NUM!"}},{"$error":"#NUM!"},{"$f":"IF('Goodness of fit'!D437>0,('Goodness of fit'!C437-'Goodness of fit'!D437)^2/'Goodness of fit'!D437,\"\")","v":""}]
[{"$f":"'Goodness of fit'!F$12/1000+A437","v":6.9920000000000053},{"$error":"#NUM!"},{"$f":"IF(A438>='Goodness of fit'!$F$11,B438,0)","v":{"$error":"#NUM!"}},{"$error":"#NUM!"},{"$f":"IF('Goodness of fit'!D438>0,('Goodness of fit'!C438-'Goodness of fit'!D438)^2/'Goodness of fit'!D438,\"\")","v":""}]
[{"$f":"'Goodness of fit'!F$12/1000+A438","v":7.0080000000000053},{"$error":"#NUM!"},{"$f":"IF(A439>='Goodness of fit'!$F$11,B439,0)","v":{"$error":"#NUM!"}},{"$error":"#NUM!"},{"$f":"IF('Goodness of fit'!D439>0,('Goodness of fit'!C439-'Goodness of fit'!D439)^2/'Goodness of fit'!D439,\"\")","v":""}]
[{"$f":"'Goodness of fit'!F$12/1000+A439","v":7.0240000000000054},{"$error":"#NUM!"},{"$f":"IF(A440>='Goodness of fit'!$F$11,B440,0)","v":{"$error":"#NUM!"}},{"$error":"#NUM!"},{"$f":"IF('Goodness of fit'!D440>0,('Goodness of fit'!C440-'Goodness of fit'!D440)^2/'Goodness of fit'!D440,\"\")","v":""}]
[{"$f":"'Goodness of fit'!F$12/1000+A440","v":7.0400000000000054},{"$error":"#NUM!"},{"$f":"IF(A441>='Goodness of fit'!$F$11,B441,0)","v":{"$error":"#NUM!"}},{"$error":"#NUM!"},{"$f":"IF('Goodness of fit'!D441>0,('Goodness of fit'!C441-'Goodness of fit'!D441)^2/'Goodness of fit'!D441,\"\")","v":""}]
[{"$f":"'Goodness of fit'!F$12/1000+A441","v":7.0560000000000054},{"$error":"#NUM!"},{"$f":"IF(A442>='Goodness of fit'!$F$11,B442,0)","v":{"$error":"#NUM!"}},{"$error":"#NUM!"},{"$f":"IF('Goodness of fit'!D442>0,('Goodness of fit'!C442-'Goodness of fit'!D442)^2/'Goodness of fit'!D442,\"\")","v":""}]
[{"$f":"'Goodness of fit'!F$12/1000+A442","v":7.0720000000000054},{"$error":"#NUM!"},{"$f":"IF(A443>='Goodness of fit'!$F$11,B443,0)","v":{"$error":"#NUM!"}},{"$error":"#NUM!"},{"$f":"IF('Goodness of fit'!D443>0,('Goodness of fit'!C443-'Goodness of fit'!D443)^2/'Goodness of fit'!D443,\"\")","v":""}]
[{"$f":"'Goodness of fit'!F$12/1000+A443","v":7.0880000000000054},{"$error":"#NUM!"},{"$f":"IF(A444>='Goodness of fit'!$F$11,B444,0)","v":{"$error":"#NUM!"}},{"$error":"#NUM!"},{"$f":"IF('Goodness of fit'!D444>0,('Goodness of fit'!C444-'Goodness of fit'!D444)^2/'Goodness of fit'!D444,\"\")","v":""}]
[{"$f":"'Goodness of fit'!F$12/1000+A444","v":7.1040000000000054},{"$error":"#NUM!"},{"$f":"IF(A445>='Goodness of fit'!$F$11,B445,0)","v":{"$error":"#NUM!"}},{"$error":"#NUM!"},{"$f":"IF('Goodness of fit'!D445>0,('Goodness of fit'!C445-'Goodness of fit'!D445)^2/'Goodness of fit'!D445,\"\")","v":""}]
[{"$f":"'Goodness of fit'!F$12/1000+A445","v":7.1200000000000054},{"$error":"#NUM!"},{"$f":"IF(A446>='Goodness of fit'!$F$11,B446,0)","v":{"$error":"#NUM!"}},{"$error":"#NUM!"},{"$f":"IF('Goodness of fit'!D446>0,('Goodness of fit'!C446-'Goodness of fit'!D446)^2/'Goodness of fit'!D446,\"\")","v":""}]
[{"$f":"'Goodness of fit'!F$12/1000+A446","v":7.1360000000000054},{"$error":"#NUM!"},{"$f":"IF(A447>='Goodness of fit'!$F$11,B447,0)","v":{"$error":"#NUM!"}},{"$error":"#NUM!"},{"$f":"IF('Goodness of fit'!D447>0,('Goodness of fit'!C447-'Goodness of fit'!D447)^2/'Goodness of fit'!D447,\"\")","v":""}]
[{"$f":"'Goodness of fit'!F$12/1000+A447","v":7.1520000000000055},{"$error":"#NUM!"},{"$f":"IF(A448>='Goodness of fit'!$F$11,B448,0)","v":{"$error":"#NUM!"}},{"$error":"#NUM!"},{"$f":"IF('Goodness of fit'!D448>0,('Goodness of fit'!C448-'Goodness of fit'!D448)^2/'Goodness of fit'!D448,\"\")","v":""}]
[{"$f":"'Goodness of fit'!F$12/1000+A448","v":7.1680000000000055},{"$error":"#NUM!"},{"$f":"IF(A449>='Goodness of fit'!$F$11,B449,0)","v":{"$error":"#NUM!"}},{"$error":"#NUM!"},{"$f":"IF('Goodness of fit'!D449>0,('Goodness of fit'!C449-'Goodness of fit'!D449)^2/'Goodness of fit'!D449,\"\")","v":""}]
[{"$f":"'Goodness of fit'!F$12/1000+A449","v":7.1840000000000055},{"$error":"#NUM!"},{"$f":"IF(A450>='Goodness of fit'!$F$11,B450,0)","v":{"$error":"#NUM!"}},{"$f":"CHIDIST(A450,F$1)","v":{"$error":"#NUM!"}},{"$f":"IF('Goodness of fit'!D450>0,('Goodness of fit'!C450-'Goodness of fit'!D450)^2/'Goodness of fit'!D450,\"\")","v":""}]
[{"$f":"'Goodness of fit'!F$12/1000+A450","v":7.2000000000000055},{"$f":"_xlfn.CHISQ.DIST(A451,F$1,FALSE)","v":{"$error":"#NUM!"}},{"$f":"IF(A451>='Goodness of fit'!$F$11,B451,0)","v":{"$error":"#NUM!"}},{"$error":"#NUM!"},{"$f":"IF('Goodness of fit'!D451>0,('Goodness of fit'!C451-'Goodness of fit'!D451)^2/'Goodness of fit'!D451,\"\")","v":""}]
[{"$f":"'Goodness of fit'!F$12/1000+A451","v":7.2160000000000055},{"$error":"#NUM!"},{"$f":"IF(A452>='Goodness of fit'!$F$11,B452,0)","v":{"$error":"#NUM!"}},{"$error":"#NUM!"},{"$f":"IF('Goodness of fit'!D452>0,('Goodness of fit'!C452-'Goodness of fit'!D452)^2/'Goodness of fit'!D452,\"\")","v":""}]
[{"$f":"'Goodness of fit'!F$12/1000+A452","v":7.2320000000000055},{"$error":"#NUM!"},{"$f":"IF(A453>='Goodness of fit'!$F$11,B453,0)","v":{"$error":"#NUM!"}},{"$error":"#NUM!"},{"$f":"IF('Goodness of fit'!D453>0,('Goodness of fit'!C453-'Goodness of fit'!D453)^2/'Goodness of fit'!D453,\"\")","v":""}]
[{"$f":"'Goodness of fit'!F$12/1000+A453","v":7.2480000000000055},{"$error":"#NUM!"},{"$f":"IF(A454>='Goodness of fit'!$F$11,B454,0)","v":{"$error":"#NUM!"}},{"$error":"#NUM!"},{"$f":"IF('Goodness of fit'!D454>0,('Goodness of fit'!C454-'Goodness of fit'!D454)^2/'Goodness of fit'!D454,\"\")","v":""}]
[{"$f":"'Goodness of fit'!F$12/1000+A454","v":7.2640000000000056},{"$error":"#NUM!"},{"$f":"IF(A455>='Goodness of fit'!$F$11,B455,0)","v":{"$error":"#NUM!"}},{"$error":"#NUM!"},{"$f":"IF('Goodness of fit'!D455>0,('Goodness of fit'!C455-'Goodness of fit'!D455)^2/'Goodness of fit'!D455,\"\")","v":""}]
[{"$f":"'Goodness of fit'!F$12/1000+A455","v":7.2800000000000056},{"$error":"#NUM!"},{"$f":"IF(A456>='Goodness of fit'!$F$11,B456,0)","v":{"$error":"#NUM!"}},{"$error":"#NUM!"},{"$f":"IF('Goodness of fit'!D456>0,('Goodness of fit'!C456-'Goodness of fit'!D456)^2/'Goodness of fit'!D456,\"\")","v":""}]
[{"$f":"'Goodness of fit'!F$12/1000+A456","v":7.2960000000000056},{"$error":"#NUM!"},{"$f":"IF(A457>='Goodness of fit'!$F$11,B457,0)","v":{"$error":"#NUM!"}},{"$error":"#NUM!"},{"$f":"IF('Goodness of fit'!D457>0,('Goodness of fit'!C457-'Goodness of fit'!D457)^2/'Goodness of fit'!D457,\"\")","v":""}]
[{"$f":"'Goodness of fit'!F$12/1000+A457","v":7.3120000000000056},{"$error":"#NUM!"},{"$f":"IF(A458>='Goodness of fit'!$F$11,B458,0)","v":{"$error":"#NUM!"}},{"$error":"#NUM!"},{"$f":"IF('Goodness of fit'!D458>0,('Goodness of fit'!C458-'Goodness of fit'!D458)^2/'Goodness of fit'!D458,\"\")","v":""}]
[{"$f":"'Goodness of fit'!F$12/1000+A458","v":7.3280000000000056},{"$error":"#NUM!"},{"$f":"IF(A459>='Goodness of fit'!$F$11,B459,0)","v":{"$error":"#NUM!"}},{"$error":"#NUM!"},{"$f":"IF('Goodness of fit'!D459>0,('Goodness of fit'!C459-'Goodness of fit'!D459)^2/'Goodness of fit'!D459,\"\")","v":""}]
[{"$f":"'Goodness of fit'!F$12/1000+A459","v":7.3440000000000056},{"$error":"#NUM!"},{"$f":"IF(A460>='Goodness of fit'!$F$11,B460,0)","v":{"$error":"#NUM!"}},{"$error":"#NUM!"},{"$f":"IF('Goodness of fit'!D460>0,('Goodness of fit'!C460-'Goodness of fit'!D460)^2/'Goodness of fit'!D460,\"\")","v":""}]
[{"$f":"'Goodness of fit'!F$12/1000+A460","v":7.3600000000000056},{"$error":"#NUM!"},{"$f":"IF(A461>='Goodness of fit'!$F$11,B461,0)","v":{"$error":"#NUM!"}},{"$error":"#NUM!"},{"$f":"IF('Goodness of fit'!D461>0,('Goodness of fit'!C461-'Goodness of fit'!D461)^2/'Goodness of fit'!D461,\"\")","v":""}]
[{"$f":"'Goodness of fit'!F$12/1000+A461","v":7.3760000000000057},{"$error":"#NUM!"},{"$f":"IF(A462>='Goodness of fit'!$F$11,B462,0)","v":{"$error":"#NUM!"}},{"$error":"#NUM!"},{"$f":"IF('Goodness of fit'!D462>0,('Goodness of fit'!C462-'Goodness of fit'!D462)^2/'Goodness of fit'!D462,\"\")","v":""}]
[{"$f":"'Goodness of fit'!F$12/1000+A462","v":7.3920000000000057},{"$error":"#NUM!"},{"$f":"IF(A463>='Goodness of fit'!$F$11,B463,0)","v":{"$error":"#NUM!"}},{"$error":"#NUM!"},{"$f":"IF('Goodness of fit'!D463>0,('Goodness of fit'!C463-'Goodness of fit'!D463)^2/'Goodness of fit'!D463,\"\")","v":""}]
[{"$f":"'Goodness of fit'!F$12/1000+A463","v":7.4080000000000057},{"$error":"#NUM!"},{"$f":"IF(A464>='Goodness of fit'!$F$11,B464,0)","v":{"$error":"#NUM!"}},{"$error":"#NUM!"},{"$f":"IF('Goodness of fit'!D464>0,('Goodness of fit'!C464-'Goodness of fit'!D464)^2/'Goodness of fit'!D464,\"\")","v":""}]
[{"$f":"'Goodness of fit'!F$12/1000+A464","v":7.4240000000000057},{"$error":"#NUM!"},{"$f":"IF(A465>='Goodness of fit'!$F$11,B465,0)","v":{"$error":"#NUM!"}},{"$error":"#NUM!"},{"$f":"IF('Goodness of fit'!D465>0,('Goodness of fit'!C465-'Goodness of fit'!D465)^2/'Goodness of fit'!D465,\"\")","v":""}]
[{"$f":"'Goodness of fit'!F$12/1000+A465","v":7.4400000000000057},{"$error":"#NUM!"},{"$f":"IF(A466>='Goodness of fit'!$F$11,B466,0)","v":{"$error":"#NUM!"}},{"$error":"#NUM!"},{"$f":"IF('Goodness of fit'!D466>0,('Goodness of fit'!C466-'Goodness of fit'!D466)^2/'Goodness of fit'!D466,\"\")","v":""}]
[{"$f":"'Goodness of fit'!F$12/1000+A466","v":7.4560000000000057},{"$error":"#NUM!"},{"$f":"IF(A467>='Goodness of fit'!$F$11,B467,0)","v":{"$error":"#NUM!"}},{"$error":"#NUM!"},{"$f":"IF('Goodness of fit'!D467>0,('Goodness of fit'!C467-'Goodness of fit'!D467)^2/'Goodness of fit'!D467,\"\")","v":""}]
[{"$f":"'Goodness of fit'!F$12/1000+A467","v":7.4720000000000057},{"$error":"#NUM!"},{"$f":"IF(A468>='Goodness of fit'!$F$11,B468,0)","v":{"$error":"#NUM!"}},{"$error":"#NUM!"},{"$f":"IF('Goodness of fit'!D468>0,('Goodness of fit'!C468-'Goodness of fit'!D468)^2/'Goodness of fit'!D468,\"\")","v":""}]
[{"$f":"'Goodness of fit'!F$12/1000+A468","v":7.4880000000000058},{"$error":"#NUM!"},{"$f":"IF(A469>='Goodness of fit'!$F$11,B469,0)","v":{"$error":"#NUM!"}},{"$error":"#NUM!"},{"$f":"IF('Goodness of fit'!D469>0,('Goodness of fit'!C469-'Goodness of fit'!D469)^2/'Goodness of fit'!D469,\"\")","v":""}]
[{"$f":"'Goodness of fit'!F$12/1000+A469","v":7.5040000000000058},{"$error":"#NUM!"},{"$f":"IF(A470>='Goodness of fit'!$F$11,B470,0)","v":{"$error":"#NUM!"}},{"$error":"#NUM!"},{"$f":"IF('Goodness of fit'!D470>0,('Goodness of fit'!C470-'Goodness of fit'!D470)^2/'Goodness of fit'!D470,\"\")","v":""}]
[{"$f":"'Goodness of fit'!F$12/1000+A470","v":7.5200000000000058},{"$error":"#NUM!"},{"$f":"IF(A471>='Goodness of fit'!$F$11,B471,0)","v":{"$error":"#NUM!"}},{"$error":"#NUM!"},{"$f":"IF('Goodness of fit'!D471>0,('Goodness of fit'!C471-'Goodness of fit'!D471)^2/'Goodness of fit'!D471,\"\")","v":""}]
[{"$f":"'Goodness of fit'!F$12/1000+A471","v":7.5360000000000058},{"$error":"#NUM!"},{"$f":"IF(A472>='Goodness of fit'!$F$11,B472,0)","v":{"$error":"#NUM!"}},{"$error":"#NUM!"},{"$f":"IF('Goodness of fit'!D472>0,('Goodness of fit'!C472-'Goodness of fit'!D472)^2/'Goodness of fit'!D472,\"\")","v":""}]
[{"$f":"'Goodness of fit'!F$12/1000+A472","v":7.5520000000000058},{"$error":"#NUM!"},{"$f":"IF(A473>='Goodness of fit'!$F$11,B473,0)","v":{"$error":"#NUM!"}},{"$error":"#NUM!"},{"$f":"IF('Goodness of fit'!D473>0,('Goodness of fit'!C473-'Goodness of fit'!D473)^2/'Goodness of fit'!D473,\"\")","v":""}]
[{"$f":"'Goodness of fit'!F$12/1000+A473","v":7.5680000000000058},{"$error":"#NUM!"},{"$f":"IF(A474>='Goodness of fit'!$F$11,B474,0)","v":{"$error":"#NUM!"}},{"$error":"#NUM!"},{"$f":"IF('Goodness of fit'!D474>0,('Goodness of fit'!C474-'Goodness of fit'!D474)^2/'Goodness of fit'!D474,\"\")","v":""}]
[{"$f":"'Goodness of fit'!F$12/1000+A474","v":7.5840000000000058},{"$error":"#NUM!"},{"$f":"IF(A475>='Goodness of fit'!$F$11,B475,0)","v":{"$error":"#NUM!"}},{"$error":"#NUM!"},{"$f":"IF('Goodness of fit'!D475>0,('Goodness of fit'!C475-'Goodness of fit'!D475)^2/'Goodness of fit'!D475,\"\")","v":""}]
[{"$f":"'Goodness of fit'!F$12/1000+A475","v":7.6000000000000059},{"$error":"#NUM!"},{"$f":"IF(A476>='Goodness of fit'!$F$11,B476,0)","v":{"$error":"#NUM!"}},{"$error":"#NUM!"},{"$f":"IF('Goodness of fit'!D476>0,('Goodness of fit'!C476-'Goodness of fit'!D476)^2/'Goodness of fit'!D476,\"\")","v":""}]
[{"$f":"'Goodness of fit'!F$12/1000+A476","v":7.6160000000000059},{"$error":"#NUM!"},{"$f":"IF(A477>='Goodness of fit'!$F$11,B477,0)","v":{"$error":"#NUM!"}},{"$error":"#NUM!"},{"$f":"IF('Goodness of fit'!D477>0,('Goodness of fit'!C477-'Goodness of fit'!D477)^2/'Goodness of fit'!D477,\"\")","v":""}]
[{"$f":"'Goodness of fit'!F$12/1000+A477","v":7.6320000000000059},{"$error":"#NUM!"},{"$f":"IF(A478>='Goodness of fit'!$F$11,B478,0)","v":{"$error":"#NUM!"}},{"$error":"#NUM!"},{"$f":"IF('Goodness of fit'!D478>0,('Goodness of fit'!C478-'Goodness of fit'!D478)^2/'Goodness of fit'!D478,\"\")","v":""}]
[{"$f":"'Goodness of fit'!F$12/1000+A478","v":7.6480000000000059},{"$error":"#NUM!"},{"$f":"IF(A479>='Goodness of fit'!$F$11,B479,0)","v":{"$error":"#NUM!"}},{"$error":"#NUM!"},{"$f":"IF('Goodness of fit'!D479>0,('Goodness of fit'!C479-'Goodness of fit'!D479)^2/'Goodness of fit'!D479,\"\")","v":""}]
[{"$f":"'Goodness of fit'!F$12/1000+A479","v":7.6640000000000059},{"$error":"#NUM!"},{"$f":"IF(A480>='Goodness of fit'!$F$11,B480,0)","v":{"$error":"#NUM!"}},{"$error":"#NUM!"},{"$f":"IF('Goodness of fit'!D480>0,('Goodness of fit'!C480-'Goodness of fit'!D480)^2/'Goodness of fit'!D480,\"\")","v":""}]
[{"$f":"'Goodness of fit'!F$12/1000+A480","v":7.6800000000000059},{"$error":"#NUM!"},{"$f":"IF(A481>='Goodness of fit'!$F$11,B481,0)","v":{"$error":"#NUM!"}},{"$error":"#NUM!"},{"$f":"IF('Goodness of fit'!D481>0,('Goodness of fit'!C481-'Goodness of fit'!D481)^2/'Goodness of fit'!D481,\"\")","v":""}]
[{"$f":"'Goodness of fit'!F$12/1000+A481","v":7.6960000000000059},{"$error":"#NUM!"},{"$f":"IF(A482>='Goodness of fit'!$F$11,B482,0)","v":{"$error":"#NUM!"}},{"$error":"#NUM!"},{"$f":"IF('Goodness of fit'!D482>0,('Goodness of fit'!C482-'Goodness of fit'!D482)^2/'Goodness of fit'!D482,\"\")","v":""}]
[{"$f":"'Goodness of fit'!F$12/1000+A482","v":7.712000000000006},{"$error":"#NUM!"},{"$f":"IF(A483>='Goodness of fit'!$F$11,B483,0)","v":{"$error":"#NUM!"}},{"$error":"#NUM!"},{"$f":"IF('Goodness of fit'!D483>0,('Goodness of fit'!C483-'Goodness of fit'!D483)^2/'Goodness of fit'!D483,\"\")","v":""}]
[{"$f":"'Goodness of fit'!F$12/1000+A483","v":7.728000000000006},{"$error":"#NUM!"},{"$f":"IF(A484>='Goodness of fit'!$F$11,B484,0)","v":{"$error":"#NUM!"}},{"$error":"#NUM!"},{"$f":"IF('Goodness of fit'!D484>0,('Goodness of fit'!C484-'Goodness of fit'!D484)^2/'Goodness of fit'!D484,\"\")","v":""}]
[{"$f":"'Goodness of fit'!F$12/1000+A484","v":7.744000000000006},{"$error":"#NUM!"},{"$f":"IF(A485>='Goodness of fit'!$F$11,B485,0)","v":{"$error":"#NUM!"}},{"$error":"#NUM!"},{"$f":"IF('Goodness of fit'!D485>0,('Goodness of fit'!C485-'Goodness of fit'!D485)^2/'Goodness of fit'!D485,\"\")","v":""}]
[{"$f":"'Goodness of fit'!F$12/1000+A485","v":7.760000000000006},{"$error":"#NUM!"},{"$f":"IF(A486>='Goodness of fit'!$F$11,B486,0)","v":{"$error":"#NUM!"}},{"$error":"#NUM!"},{"$f":"IF('Goodness of fit'!D486>0,('Goodness of fit'!C486-'Goodness of fit'!D486)^2/'Goodness of fit'!D486,\"\")","v":""}]
[{"$f":"'Goodness of fit'!F$12/1000+A486","v":7.776000000000006},{"$error":"#NUM!"},{"$f":"IF(A487>='Goodness of fit'!$F$11,B487,0)","v":{"$error":"#NUM!"}},{"$error":"#NUM!"},{"$f":"IF('Goodness of fit'!D487>0,('Goodness of fit'!C487-'Goodness of fit'!D487)^2/'Goodness of fit'!D487,\"\")","v":""}]
[{"$f":"'Goodness of fit'!F$12/1000+A487","v":7.792000000000006},{"$error":"#NUM!"},{"$f":"IF(A488>='Goodness of fit'!$F$11,B488,0)","v":{"$error":"#NUM!"}},{"$error":"#NUM!"},{"$f":"IF('Goodness of fit'!D488>0,('Goodness of fit'!C488-'Goodness of fit'!D488)^2/'Goodness of fit'!D488,\"\")","v":""}]
[{"$f":"'Goodness of fit'!F$12/1000+A488","v":7.808000000000006},{"$error":"#NUM!"},{"$f":"IF(A489>='Goodness of fit'!$F$11,B489,0)","v":{"$error":"#NUM!"}},{"$error":"#NUM!"},{"$f":"IF('Goodness of fit'!D489>0,('Goodness of fit'!C489-'Goodness of fit'!D489)^2/'Goodness of fit'!D489,\"\")","v":""}]
[{"$f":"'Goodness of fit'!F$12/1000+A489","v":7.8240000000000061},{"$error":"#NUM!"},{"$f":"IF(A490>='Goodness of fit'!$F$11,B490,0)","v":{"$error":"#NUM!"}},{"$error":"#NUM!"},{"$f":"IF('Goodness of fit'!D490>0,('Goodness of fit'!C490-'Goodness of fit'!D490)^2/'Goodness of fit'!D490,\"\")","v":""}]
[{"$f":"'Goodness of fit'!F$12/1000+A490","v":7.8400000000000061},{"$error":"#NUM!"},{"$f":"IF(A491>='Goodness of fit'!$F$11,B491,0)","v":{"$error":"#NUM!"}},{"$error":"#NUM!"},{"$f":"IF('Goodness of fit'!D491>0,('Goodness of fit'!C491-'Goodness of fit'!D491)^2/'Goodness of fit'!D491,\"\")","v":""}]
[{"$f":"'Goodness of fit'!F$12/1000+A491","v":7.8560000000000061},{"$error":"#NUM!"},{"$f":"IF(A492>='Goodness of fit'!$F$11,B492,0)","v":{"$error":"#NUM!"}},{"$error":"#NUM!"},{"$f":"IF('Goodness of fit'!D492>0,('Goodness of fit'!C492-'Goodness of fit'!D492)^2/'Goodness of fit'!D492,\"\")","v":""}]
[{"$f":"'Goodness of fit'!F$12/1000+A492","v":7.8720000000000061},{"$error":"#NUM!"},{"$f":"IF(A493>='Goodness of fit'!$F$11,B493,0)","v":{"$error":"#NUM!"}},{"$error":"#NUM!"},{"$f":"IF('Goodness of fit'!D493>0,('Goodness of fit'!C493-'Goodness of fit'!D493)^2/'Goodness of fit'!D493,\"\")","v":""}]
[{"$f":"'Goodness of fit'!F$12/1000+A493","v":7.8880000000000061},{"$error":"#NUM!"},{"$f":"IF(A494>='Goodness of fit'!$F$11,B494,0)","v":{"$error":"#NUM!"}},{"$error":"#NUM!"},{"$f":"IF('Goodness of fit'!D494>0,('Goodness of fit'!C494-'Goodness of fit'!D494)^2/'Goodness of fit'!D494,\"\")","v":""}]
[{"$f":"'Goodness of fit'!F$12/1000+A494","v":7.9040000000000061},{"$error":"#NUM!"},{"$f":"IF(A495>='Goodness of fit'!$F$11,B495,0)","v":{"$error":"#NUM!"}},{"$error":"#NUM!"},{"$f":"IF('Goodness of fit'!D495>0,('Goodness of fit'!C495-'Goodness of fit'!D495)^2/'Goodness of fit'!D495,\"\")","v":""}]
[{"$f":"'Goodness of fit'!F$12/1000+A495","v":7.9200000000000061},{"$error":"#NUM!"},{"$f":"IF(A496>='Goodness of fit'!$F$11,B496,0)","v":{"$error":"#NUM!"}},{"$error":"#NUM!"},{"$f":"IF('Goodness of fit'!D496>0,('Goodness of fit'!C496-'Goodness of fit'!D496)^2/'Goodness of fit'!D496,\"\")","v":""}]
[{"$f":"'Goodness of fit'!F$12/1000+A496","v":7.9360000000000062},{"$error":"#NUM!"},{"$f":"IF(A497>='Goodness of fit'!$F$11,B497,0)","v":{"$error":"#NUM!"}},{"$error":"#NUM!"},{"$f":"IF('Goodness of fit'!D497>0,('Goodness of fit'!C497-'Goodness of fit'!D497)^2/'Goodness of fit'!D497,\"\")","v":""}]
[{"$f":"'Goodness of fit'!F$12/1000+A497","v":7.9520000000000062},{"$error":"#NUM!"},{"$f":"IF(A498>='Goodness of fit'!$F$11,B498,0)","v":{"$error":"#NUM!"}},{"$error":"#NUM!"},{"$f":"IF('Goodness of fit'!D498>0,('Goodness of fit'!C498-'Goodness of fit'!D498)^2/'Goodness of fit'!D498,\"\")","v":""}]
[{"$f":"'Goodness of fit'!F$12/1000+A498","v":7.9680000000000062},{"$error":"#NUM!"},{"$f":"IF(A499>='Goodness of fit'!$F$11,B499,0)","v":{"$error":"#NUM!"}},{"$error":"#NUM!"},{"$f":"IF('Goodness of fit'!D499>0,('Goodness of fit'!C499-'Goodness of fit'!D499)^2/'Goodness of fit'!D499,\"\")","v":""}]
[{"$f":"'Goodness of fit'!F$12/1000+A499","v":7.9840000000000062},{"$error":"#NUM!"},{"$f":"IF(A500>='Goodness of fit'!$F$11,B500,0)","v":{"$error":"#NUM!"}},{"$error":"#NUM!"},{"$f":"IF('Goodness of fit'!D500>0,('Goodness of fit'!C500-'Goodness of fit'!D500)^2/'Goodness of fit'!D500,\"\")","v":""}]
[{"$f":"'Goodness of fit'!F$12/1000+A500","v":8.0000000000000053},{"$error":"#NUM!"},{"$f":"IF(A501>='Goodness of fit'!$F$11,B501,0)","v":{"$error":"#NUM!"}},{"$error":"#NUM!"},{"$f":"IF('Goodness of fit'!D501>0,('Goodness of fit'!C501-'Goodness of fit'!D501)^2/'Goodness of fit'!D501,\"\")","v":""}]
[{"$f":"'Goodness of fit'!F$12/1000+A501","v":8.0160000000000053},{"$error":"#NUM!"},{"$f":"IF(A502>='Goodness of fit'!$F$11,B502,0)","v":{"$error":"#NUM!"}},{"$error":"#NUM!"},{"$f":"IF('Goodness of fit'!D502>0,('Goodness of fit'!C502-'Goodness of fit'!D502)^2/'Goodness of fit'!D502,\"\")","v":""}]
[{"$f":"'Goodness of fit'!F$12/1000+A502","v":8.0320000000000054},{"$error":"#NUM!"},{"$f":"IF(A503>='Goodness of fit'!$F$11,B503,0)","v":{"$error":"#NUM!"}},{"$error":"#NUM!"},{"$f":"IF('Goodness of fit'!D503>0,('Goodness of fit'!C503-'Goodness of fit'!D503)^2/'Goodness of fit'!D503,\"\")","v":""}]
[{"$f":"'Goodness of fit'!F$12/1000+A503","v":8.0480000000000054},{"$error":"#NUM!"},{"$f":"IF(A504>='Goodness of fit'!$F$11,B504,0)","v":{"$error":"#NUM!"}},{"$error":"#NUM!"},{"$f":"IF('Goodness of fit'!D504>0,('Goodness of fit'!C504-'Goodness of fit'!D504)^2/'Goodness of fit'!D504,\"\")","v":""}]
[{"$f":"'Goodness of fit'!F$12/1000+A504","v":8.0640000000000054},{"$error":"#NUM!"},{"$f":"IF(A505>='Goodness of fit'!$F$11,B505,0)","v":{"$error":"#NUM!"}},{"$error":"#NUM!"},{"$f":"IF('Goodness of fit'!D505>0,('Goodness of fit'!C505-'Goodness of fit'!D505)^2/'Goodness of fit'!D505,\"\")","v":""}]
[{"$f":"'Goodness of fit'!F$12/1000+A505","v":8.0800000000000054},{"$error":"#NUM!"},{"$f":"IF(A506>='Goodness of fit'!$F$11,B506,0)","v":{"$error":"#NUM!"}},{"$error":"#NUM!"},{"$f":"IF('Goodness of fit'!D506>0,('Goodness of fit'!C506-'Goodness of fit'!D506)^2/'Goodness of fit'!D506,\"\")","v":""}]
[{"$f":"'Goodness of fit'!F$12/1000+A506","v":8.0960000000000054},{"$error":"#NUM!"},{"$f":"IF(A507>='Goodness of fit'!$F$11,B507,0)","v":{"$error":"#NUM!"}},{"$error":"#NUM!"},{"$f":"IF('Goodness of fit'!D507>0,('Goodness of fit'!C507-'Goodness of fit'!D507)^2/'Goodness of fit'!D507,\"\")","v":""}]
[{"$f":"'Goodness of fit'!F$12/1000+A507","v":8.1120000000000054},{"$error":"#NUM!"},{"$f":"IF(A508>='Goodness of fit'!$F$11,B508,0)","v":{"$error":"#NUM!"}},{"$error":"#NUM!"},{"$f":"IF('Goodness of fit'!D508>0,('Goodness of fit'!C508-'Goodness of fit'!D508)^2/'Goodness of fit'!D508,\"\")","v":""}]
[{"$f":"'Goodness of fit'!F$12/1000+A508","v":8.1280000000000054},{"$error":"#NUM!"},{"$f":"IF(A509>='Goodness of fit'!$F$11,B509,0)","v":{"$error":"#NUM!"}},{"$error":"#NUM!"},{"$f":"IF('Goodness of fit'!D509>0,('Goodness of fit'!C509-'Goodness of fit'!D509)^2/'Goodness of fit'!D509,\"\")","v":""}]
[{"$f":"'Goodness of fit'!F$12/1000+A509","v":8.1440000000000055},{"$error":"#NUM!"},{"$f":"IF(A510>='Goodness of fit'!$F$11,B510,0)","v":{"$error":"#NUM!"}},{"$error":"#NUM!"},{"$f":"IF('Goodness of fit'!D510>0,('Goodness of fit'!C510-'Goodness of fit'!D510)^2/'Goodness of fit'!D510,\"\")","v":""}]
[{"$f":"'Goodness of fit'!F$12/1000+A510","v":8.1600000000000055},{"$error":"#NUM!"},{"$f":"IF(A511>='Goodness of fit'!$F$11,B511,0)","v":{"$error":"#NUM!"}},{"$error":"#NUM!"},{"$f":"IF('Goodness of fit'!D511>0,('Goodness of fit'!C511-'Goodness of fit'!D511)^2/'Goodness of fit'!D511,\"\")","v":""}]
[{"$f":"'Goodness of fit'!F$12/1000+A511","v":8.1760000000000055},{"$error":"#NUM!"},{"$f":"IF(A512>='Goodness of fit'!$F$11,B512,0)","v":{"$error":"#NUM!"}},{"$error":"#NUM!"},{"$f":"IF('Goodness of fit'!D512>0,('Goodness of fit'!C512-'Goodness of fit'!D512)^2/'Goodness of fit'!D512,\"\")","v":""}]
[{"$f":"'Goodness of fit'!F$12/1000+A512","v":8.1920000000000055},{"$error":"#NUM!"},{"$f":"IF(A513>='Goodness of fit'!$F$11,B513,0)","v":{"$error":"#NUM!"}},{"$error":"#NUM!"},{"$f":"IF('Goodness of fit'!D513>0,('Goodness of fit'!C513-'Goodness of fit'!D513)^2/'Goodness of fit'!D513,\"\")","v":""}]
[{"$f":"'Goodness of fit'!F$12/1000+A513","v":8.2080000000000055},{"$error":"#NUM!"},{"$f":"IF(A514>='Goodness of fit'!$F$11,B514,0)","v":{"$error":"#NUM!"}},{"$f":"CHIDIST(A514,F$1)","v":{"$error":"#NUM!"}},{"$f":"IF('Goodness of fit'!D514>0,('Goodness of fit'!C514-'Goodness of fit'!D514)^2/'Goodness of fit'!D514,\"\")","v":""}]
[{"$f":"'Goodness of fit'!F$12/1000+A514","v":8.2240000000000055},{"$f":"_xlfn.CHISQ.DIST(A515,F$1,FALSE)","v":{"$error":"#NUM!"}},{"$f":"IF(A515>='Goodness of fit'!$F$11,B515,0)","v":{"$error":"#NUM!"}},{"$error":"#NUM!"},{"$f":"IF('Goodness of fit'!D515>0,('Goodness of fit'!C515-'Goodness of fit'!D515)^2/'Goodness of fit'!D515,\"\")","v":""}]
[{"$f":"'Goodness of fit'!F$12/1000+A515","v":8.2400000000000055},{"$error":"#NUM!"},{"$f":"IF(A516>='Goodness of fit'!$F$11,B516,0)","v":{"$error":"#NUM!"}},{"$error":"#NUM!"},{"$f":"IF('Goodness of fit'!D516>0,('Goodness of fit'!C516-'Goodness of fit'!D516)^2/'Goodness of fit'!D516,\"\")","v":""}]
[{"$f":"'Goodness of fit'!F$12/1000+A516","v":8.2560000000000056},{"$error":"#NUM!"},{"$f":"IF(A517>='Goodness of fit'!$F$11,B517,0)","v":{"$error":"#NUM!"}},{"$error":"#NUM!"},{"$f":"IF('Goodness of fit'!D517>0,('Goodness of fit'!C517-'Goodness of fit'!D517)^2/'Goodness of fit'!D517,\"\")","v":""}]
[{"$f":"'Goodness of fit'!F$12/1000+A517","v":8.2720000000000056},{"$error":"#NUM!"},{"$f":"IF(A518>='Goodness of fit'!$F$11,B518,0)","v":{"$error":"#NUM!"}},{"$error":"#NUM!"},{"$f":"IF('Goodness of fit'!D518>0,('Goodness of fit'!C518-'Goodness of fit'!D518)^2/'Goodness of fit'!D518,\"\")","v":""}]
[{"$f":"'Goodness of fit'!F$12/1000+A518","v":8.2880000000000056},{"$error":"#NUM!"},{"$f":"IF(A519>='Goodness of fit'!$F$11,B519,0)","v":{"$error":"#NUM!"}},{"$error":"#NUM!"},{"$f":"IF('Goodness of fit'!D519>0,('Goodness of fit'!C519-'Goodness of fit'!D519)^2/'Goodness of fit'!D519,\"\")","v":""}]
[{"$f":"'Goodness of fit'!F$12/1000+A519","v":8.3040000000000056},{"$error":"#NUM!"},{"$f":"IF(A520>='Goodness of fit'!$F$11,B520,0)","v":{"$error":"#NUM!"}},{"$error":"#NUM!"},{"$f":"IF('Goodness of fit'!D520>0,('Goodness of fit'!C520-'Goodness of fit'!D520)^2/'Goodness of fit'!D520,\"\")","v":""}]
[{"$f":"'Goodness of fit'!F$12/1000+A520","v":8.3200000000000056},{"$error":"#NUM!"},{"$f":"IF(A521>='Goodness of fit'!$F$11,B521,0)","v":{"$error":"#NUM!"}},{"$error":"#NUM!"},{"$f":"IF('Goodness of fit'!D521>0,('Goodness of fit'!C521-'Goodness of fit'!D521)^2/'Goodness of fit'!D521,\"\")","v":""}]
[{"$f":"'Goodness of fit'!F$12/1000+A521","v":8.3360000000000056},{"$error":"#NUM!"},{"$f":"IF(A522>='Goodness of fit'!$F$11,B522,0)","v":{"$error":"#NUM!"}},{"$error":"#NUM!"},{"$f":"IF('Goodness of fit'!D522>0,('Goodness of fit'!C522-'Goodness of fit'!D522)^2/'Goodness of fit'!D522,\"\")","v":""}]
[{"$f":"'Goodness of fit'!F$12/1000+A522","v":8.3520000000000056},{"$error":"#NUM!"},{"$f":"IF(A523>='Goodness of fit'!$F$11,B523,0)","v":{"$error":"#NUM!"}},{"$error":"#NUM!"},{"$f":"IF('Goodness of fit'!D523>0,('Goodness of fit'!C523-'Goodness of fit'!D523)^2/'Goodness of fit'!D523,\"\")","v":""}]
[{"$f":"'Goodness of fit'!F$12/1000+A523","v":8.3680000000000057},{"$error":"#NUM!"},{"$f":"IF(A524>='Goodness of fit'!$F$11,B524,0)","v":{"$error":"#NUM!"}},{"$error":"#NUM!"},{"$f":"IF('Goodness of fit'!D524>0,('Goodness of fit'!C524-'Goodness of fit'!D524)^2/'Goodness of fit'!D524,\"\")","v":""}]
[{"$f":"'Goodness of fit'!F$12/1000+A524","v":8.3840000000000057},{"$error":"#NUM!"},{"$f":"IF(A525>='Goodness of fit'!$F$11,B525,0)","v":{"$error":"#NUM!"}},{"$error":"#NUM!"},{"$f":"IF('Goodness of fit'!D525>0,('Goodness of fit'!C525-'Goodness of fit'!D525)^2/'Goodness of fit'!D525,\"\")","v":""}]
[{"$f":"'Goodness of fit'!F$12/1000+A525","v":8.4000000000000057},{"$error":"#NUM!"},{"$f":"IF(A526>='Goodness of fit'!$F$11,B526,0)","v":{"$error":"#NUM!"}},{"$error":"#NUM!"},{"$f":"IF('Goodness of fit'!D526>0,('Goodness of fit'!C526-'Goodness of fit'!D526)^2/'Goodness of fit'!D526,\"\")","v":""}]
[{"$f":"'Goodness of fit'!F$12/1000+A526","v":8.4160000000000057},{"$error":"#NUM!"},{"$f":"IF(A527>='Goodness of fit'!$F$11,B527,0)","v":{"$error":"#NUM!"}},{"$error":"#NUM!"},{"$f":"IF('Goodness of fit'!D527>0,('Goodness of fit'!C527-'Goodness of fit'!D527)^2/'Goodness of fit'!D527,\"\")","v":""}]
[{"$f":"'Goodness of fit'!F$12/1000+A527","v":8.4320000000000057},{"$error":"#NUM!"},{"$f":"IF(A528>='Goodness of fit'!$F$11,B528,0)","v":{"$error":"#NUM!"}},{"$error":"#NUM!"},{"$f":"IF('Goodness of fit'!D528>0,('Goodness of fit'!C528-'Goodness of fit'!D528)^2/'Goodness of fit'!D528,\"\")","v":""}]
[{"$f":"'Goodness of fit'!F$12/1000+A528","v":8.4480000000000057},{"$error":"#NUM!"},{"$f":"IF(A529>='Goodness of fit'!$F$11,B529,0)","v":{"$error":"#NUM!"}},{"$error":"#NUM!"},{"$f":"IF('Goodness of fit'!D529>0,('Goodness of fit'!C529-'Goodness of fit'!D529)^2/'Goodness of fit'!D529,\"\")","v":""}]
[{"$f":"'Goodness of fit'!F$12/1000+A529","v":8.4640000000000057},{"$error":"#NUM!"},{"$f":"IF(A530>='Goodness of fit'!$F$11,B530,0)","v":{"$error":"#NUM!"}},{"$error":"#NUM!"},{"$f":"IF('Goodness of fit'!D530>0,('Goodness of fit'!C530-'Goodness of fit'!D530)^2/'Goodness of fit'!D530,\"\")","v":""}]
[{"$f":"'Goodness of fit'!F$12/1000+A530","v":8.4800000000000058},{"$error":"#NUM!"},{"$f":"IF(A531>='Goodness of fit'!$F$11,B531,0)","v":{"$error":"#NUM!"}},{"$error":"#NUM!"},{"$f":"IF('Goodness of fit'!D531>0,('Goodness of fit'!C531-'Goodness of fit'!D531)^2/'Goodness of fit'!D531,\"\")","v":""}]
[{"$f":"'Goodness of fit'!F$12/1000+A531","v":8.4960000000000058},{"$error":"#NUM!"},{"$f":"IF(A532>='Goodness of fit'!$F$11,B532,0)","v":{"$error":"#NUM!"}},{"$error":"#NUM!"},{"$f":"IF('Goodness of fit'!D532>0,('Goodness of fit'!C532-'Goodness of fit'!D532)^2/'Goodness of fit'!D532,\"\")","v":""}]
[{"$f":"'Goodness of fit'!F$12/1000+A532","v":8.5120000000000058},{"$error":"#NUM!"},{"$f":"IF(A533>='Goodness of fit'!$F$11,B533,0)","v":{"$error":"#NUM!"}},{"$error":"#NUM!"},{"$f":"IF('Goodness of fit'!D533>0,('Goodness of fit'!C533-'Goodness of fit'!D533)^2/'Goodness of fit'!D533,\"\")","v":""}]
[{"$f":"'Goodness of fit'!F$12/1000+A533","v":8.5280000000000058},{"$error":"#NUM!"},{"$f":"IF(A534>='Goodness of fit'!$F$11,B534,0)","v":{"$error":"#NUM!"}},{"$error":"#NUM!"},{"$f":"IF('Goodness of fit'!D534>0,('Goodness of fit'!C534-'Goodness of fit'!D534)^2/'Goodness of fit'!D534,\"\")","v":""}]
[{"$f":"'Goodness of fit'!F$12/1000+A534","v":8.5440000000000058},{"$error":"#NUM!"},{"$f":"IF(A535>='Goodness of fit'!$F$11,B535,0)","v":{"$error":"#NUM!"}},{"$error":"#NUM!"},{"$f":"IF('Goodness of fit'!D535>0,('Goodness of fit'!C535-'Goodness of fit'!D535)^2/'Goodness of fit'!D535,\"\")","v":""}]
[{"$f":"'Goodness of fit'!F$12/1000+A535","v":8.5600000000000058},{"$error":"#NUM!"},{"$f":"IF(A536>='Goodness of fit'!$F$11,B536,0)","v":{"$error":"#NUM!"}},{"$error":"#NUM!"},{"$f":"IF('Goodness of fit'!D536>0,('Goodness of fit'!C536-'Goodness of fit'!D536)^2/'Goodness of fit'!D536,\"\")","v":""}]
[{"$f":"'Goodness of fit'!F$12/1000+A536","v":8.5760000000000058},{"$error":"#NUM!"},{"$f":"IF(A537>='Goodness of fit'!$F$11,B537,0)","v":{"$error":"#NUM!"}},{"$error":"#NUM!"},{"$f":"IF('Goodness of fit'!D537>0,('Goodness of fit'!C537-'Goodness of fit'!D537)^2/'Goodness of fit'!D537,\"\")","v":""}]
[{"$f":"'Goodness of fit'!F$12/1000+A537","v":8.5920000000000059},{"$error":"#NUM!"},{"$f":"IF(A538>='Goodness of fit'!$F$11,B538,0)","v":{"$error":"#NUM!"}},{"$error":"#NUM!"},{"$f":"IF('Goodness of fit'!D538>0,('Goodness of fit'!C538-'Goodness of fit'!D538)^2/'Goodness of fit'!D538,\"\")","v":""}]
[{"$f":"'Goodness of fit'!F$12/1000+A538","v":8.6080000000000059},{"$error":"#NUM!"},{"$f":"IF(A539>='Goodness of fit'!$F$11,B539,0)","v":{"$error":"#NUM!"}},{"$error":"#NUM!"},{"$f":"IF('Goodness of fit'!D539>0,('Goodness of fit'!C539-'Goodness of fit'!D539)^2/'Goodness of fit'!D539,\"\")","v":""}]
[{"$f":"'Goodness of fit'!F$12/1000+A539","v":8.6240000000000059},{"$error":"#NUM!"},{"$f":"IF(A540>='Goodness of fit'!$F$11,B540,0)","v":{"$error":"#NUM!"}},{"$error":"#NUM!"},{"$f":"IF('Goodness of fit'!D540>0,('Goodness of fit'!C540-'Goodness of fit'!D540)^2/'Goodness of fit'!D540,\"\")","v":""}]
[{"$f":"'Goodness of fit'!F$12/1000+A540","v":8.6400000000000059},{"$error":"#NUM!"},{"$f":"IF(A541>='Goodness of fit'!$F$11,B541,0)","v":{"$error":"#NUM!"}},{"$error":"#NUM!"},{"$f":"IF('Goodness of fit'!D541>0,('Goodness of fit'!C541-'Goodness of fit'!D541)^2/'Goodness of fit'!D541,\"\")","v":""}]
[{"$f":"'Goodness of fit'!F$12/1000+A541","v":8.6560000000000059},{"$error":"#NUM!"},{"$f":"IF(A542>='Goodness of fit'!$F$11,B542,0)","v":{"$error":"#NUM!"}},{"$error":"#NUM!"},{"$f":"IF('Goodness of fit'!D542>0,('Goodness of fit'!C542-'Goodness of fit'!D542)^2/'Goodness of fit'!D542,\"\")","v":""}]
[{"$f":"'Goodness of fit'!F$12/1000+A542","v":8.6720000000000059},{"$error":"#NUM!"},{"$f":"IF(A543>='Goodness of fit'!$F$11,B543,0)","v":{"$error":"#NUM!"}},{"$error":"#NUM!"},{"$f":"IF('Goodness of fit'!D543>0,('Goodness of fit'!C543-'Goodness of fit'!D543)^2/'Goodness of fit'!D543,\"\")","v":""}]
[{"$f":"'Goodness of fit'!F$12/1000+A543","v":8.6880000000000059},{"$error":"#NUM!"},{"$f":"IF(A544>='Goodness of fit'!$F$11,B544,0)","v":{"$error":"#NUM!"}},{"$error":"#NUM!"},{"$f":"IF('Goodness of fit'!D544>0,('Goodness of fit'!C544-'Goodness of fit'!D544)^2/'Goodness of fit'!D544,\"\")","v":""}]
[{"$f":"'Goodness of fit'!F$12/1000+A544","v":8.704000000000006},{"$error":"#NUM!"},{"$f":"IF(A545>='Goodness of fit'!$F$11,B545,0)","v":{"$error":"#NUM!"}},{"$error":"#NUM!"},{"$f":"IF('Goodness of fit'!D545>0,('Goodness of fit'!C545-'Goodness of fit'!D545)^2/'Goodness of fit'!D545,\"\")","v":""}]
[{"$f":"'Goodness of fit'!F$12/1000+A545","v":8.720000000000006},{"$error":"#NUM!"},{"$f":"IF(A546>='Goodness of fit'!$F$11,B546,0)","v":{"$error":"#NUM!"}},{"$error":"#NUM!"},{"$f":"IF('Goodness of fit'!D546>0,('Goodness of fit'!C546-'Goodness of fit'!D546)^2/'Goodness of fit'!D546,\"\")","v":""}]
[{"$f":"'Goodness of fit'!F$12/1000+A546","v":8.736000000000006},{"$error":"#NUM!"},{"$f":"IF(A547>='Goodness of fit'!$F$11,B547,0)","v":{"$error":"#NUM!"}},{"$error":"#NUM!"},{"$f":"IF('Goodness of fit'!D547>0,('Goodness of fit'!C547-'Goodness of fit'!D547)^2/'Goodness of fit'!D547,\"\")","v":""}]
[{"$f":"'Goodness of fit'!F$12/1000+A547","v":8.752000000000006},{"$error":"#NUM!"},{"$f":"IF(A548>='Goodness of fit'!$F$11,B548,0)","v":{"$error":"#NUM!"}},{"$error":"#NUM!"},{"$f":"IF('Goodness of fit'!D548>0,('Goodness of fit'!C548-'Goodness of fit'!D548)^2/'Goodness of fit'!D548,\"\")","v":""}]
[{"$f":"'Goodness of fit'!F$12/1000+A548","v":8.768000000000006},{"$error":"#NUM!"},{"$f":"IF(A549>='Goodness of fit'!$F$11,B549,0)","v":{"$error":"#NUM!"}},{"$error":"#NUM!"},{"$f":"IF('Goodness of fit'!D549>0,('Goodness of fit'!C549-'Goodness of fit'!D549)^2/'Goodness of fit'!D549,\"\")","v":""}]
[{"$f":"'Goodness of fit'!F$12/1000+A549","v":8.784000000000006},{"$error":"#NUM!"},{"$f":"IF(A550>='Goodness of fit'!$F$11,B550,0)","v":{"$error":"#NUM!"}},{"$error":"#NUM!"},{"$f":"IF('Goodness of fit'!D550>0,('Goodness of fit'!C550-'Goodness of fit'!D550)^2/'Goodness of fit'!D550,\"\")","v":""}]
[{"$f":"'Goodness of fit'!F$12/1000+A550","v":8.800000000000006},{"$error":"#NUM!"},{"$f":"IF(A551>='Goodness of fit'!$F$11,B551,0)","v":{"$error":"#NUM!"}},{"$error":"#NUM!"},{"$f":"IF('Goodness of fit'!D551>0,('Goodness of fit'!C551-'Goodness of fit'!D551)^2/'Goodness of fit'!D551,\"\")","v":""}]
[{"$f":"'Goodness of fit'!F$12/1000+A551","v":8.8160000000000061},{"$error":"#NUM!"},{"$f":"IF(A552>='Goodness of fit'!$F$11,B552,0)","v":{"$error":"#NUM!"}},{"$error":"#NUM!"},{"$f":"IF('Goodness of fit'!D552>0,('Goodness of fit'!C552-'Goodness of fit'!D552)^2/'Goodness of fit'!D552,\"\")","v":""}]
[{"$f":"'Goodness of fit'!F$12/1000+A552","v":8.8320000000000061},{"$error":"#NUM!"},{"$f":"IF(A553>='Goodness of fit'!$F$11,B553,0)","v":{"$error":"#NUM!"}},{"$error":"#NUM!"},{"$f":"IF('Goodness of fit'!D553>0,('Goodness of fit'!C553-'Goodness of fit'!D553)^2/'Goodness of fit'!D553,\"\")","v":""}]
[{"$f":"'Goodness of fit'!F$12/1000+A553","v":8.8480000000000061},{"$error":"#NUM!"},{"$f":"IF(A554>='Goodness of fit'!$F$11,B554,0)","v":{"$error":"#NUM!"}},{"$error":"#NUM!"},{"$f":"IF('Goodness of fit'!D554>0,('Goodness of fit'!C554-'Goodness of fit'!D554)^2/'Goodness of fit'!D554,\"\")","v":""}]
[{"$f":"'Goodness of fit'!F$12/1000+A554","v":8.8640000000000061},{"$error":"#NUM!"},{"$f":"IF(A555>='Goodness of fit'!$F$11,B555,0)","v":{"$error":"#NUM!"}},{"$error":"#NUM!"},{"$f":"IF('Goodness of fit'!D555>0,('Goodness of fit'!C555-'Goodness of fit'!D555)^2/'Goodness of fit'!D555,\"\")","v":""}]
[{"$f":"'Goodness of fit'!F$12/1000+A555","v":8.8800000000000061},{"$error":"#NUM!"},{"$f":"IF(A556>='Goodness of fit'!$F$11,B556,0)","v":{"$error":"#NUM!"}},{"$error":"#NUM!"},{"$f":"IF('Goodness of fit'!D556>0,('Goodness of fit'!C556-'Goodness of fit'!D556)^2/'Goodness of fit'!D556,\"\")","v":""}]
[{"$f":"'Goodness of fit'!F$12/1000+A556","v":8.8960000000000061},{"$error":"#NUM!"},{"$f":"IF(A557>='Goodness of fit'!$F$11,B557,0)","v":{"$error":"#NUM!"}},{"$error":"#NUM!"},{"$f":"IF('Goodness of fit'!D557>0,('Goodness of fit'!C557-'Goodness of fit'!D557)^2/'Goodness of fit'!D557,\"\")","v":""}]
[{"$f":"'Goodness of fit'!F$12/1000+A557","v":8.9120000000000061},{"$error":"#NUM!"},{"$f":"IF(A558>='Goodness of fit'!$F$11,B558,0)","v":{"$error":"#NUM!"}},{"$error":"#NUM!"},{"$f":"IF('Goodness of fit'!D558>0,('Goodness of fit'!C558-'Goodness of fit'!D558)^2/'Goodness of fit'!D558,\"\")","v":""}]
[{"$f":"'Goodness of fit'!F$12/1000+A558","v":8.9280000000000062},{"$error":"#NUM!"},{"$f":"IF(A559>='Goodness of fit'!$F$11,B559,0)","v":{"$error":"#NUM!"}},{"$error":"#NUM!"},{"$f":"IF('Goodness of fit'!D559>0,('Goodness of fit'!C559-'Goodness of fit'!D559)^2/'Goodness of fit'!D559,\"\")","v":""}]
[{"$f":"'Goodness of fit'!F$12/1000+A559","v":8.9440000000000062},{"$error":"#NUM!"},{"$f":"IF(A560>='Goodness of fit'!$F$11,B560,0)","v":{"$error":"#NUM!"}},{"$error":"#NUM!"},{"$f":"IF('Goodness of fit'!D560>0,('Goodness of fit'!C560-'Goodness of fit'!D560)^2/'Goodness of fit'!D560,\"\")","v":""}]
[{"$f":"'Goodness of fit'!F$12/1000+A560","v":8.9600000000000062},{"$error":"#NUM!"},{"$f":"IF(A561>='Goodness of fit'!$F$11,B561,0)","v":{"$error":"#NUM!"}},{"$error":"#NUM!"},{"$f":"IF('Goodness of fit'!D561>0,('Goodness of fit'!C561-'Goodness of fit'!D561)^2/'Goodness of fit'!D561,\"\")","v":""}]
[{"$f":"'Goodness of fit'!F$12/1000+A561","v":8.9760000000000062},{"$error":"#NUM!"},{"$f":"IF(A562>='Goodness of fit'!$F$11,B562,0)","v":{"$error":"#NUM!"}},{"$error":"#NUM!"},{"$f":"IF('Goodness of fit'!D562>0,('Goodness of fit'!C562-'Goodness of fit'!D562)^2/'Goodness of fit'!D562,\"\")","v":""}]
[{"$f":"'Goodness of fit'!F$12/1000+A562","v":8.9920000000000062},{"$error":"#NUM!"},{"$f":"IF(A563>='Goodness of fit'!$F$11,B563,0)","v":{"$error":"#NUM!"}},{"$error":"#NUM!"},{"$f":"IF('Goodness of fit'!D563>0,('Goodness of fit'!C563-'Goodness of fit'!D563)^2/'Goodness of fit'!D563,\"\")","v":""}]
[{"$f":"'Goodness of fit'!F$12/1000+A563","v":9.0080000000000062},{"$error":"#NUM!"},{"$f":"IF(A564>='Goodness of fit'!$F$11,B564,0)","v":{"$error":"#NUM!"}},{"$error":"#NUM!"},{"$f":"IF('Goodness of fit'!D564>0,('Goodness of fit'!C564-'Goodness of fit'!D564)^2/'Goodness of fit'!D564,\"\")","v":""}]
[{"$f":"'Goodness of fit'!F$12/1000+A564","v":9.0240000000000062},{"$error":"#NUM!"},{"$f":"IF(A565>='Goodness of fit'!$F$11,B565,0)","v":{"$error":"#NUM!"}},{"$error":"#NUM!"},{"$f":"IF('Goodness of fit'!D565>0,('Goodness of fit'!C565-'Goodness of fit'!D565)^2/'Goodness of fit'!D565,\"\")","v":""}]
[{"$f":"'Goodness of fit'!F$12/1000+A565","v":9.0400000000000063},{"$error":"#NUM!"},{"$f":"IF(A566>='Goodness of fit'!$F$11,B566,0)","v":{"$error":"#NUM!"}},{"$error":"#NUM!"},{"$f":"IF('Goodness of fit'!D566>0,('Goodness of fit'!C566-'Goodness of fit'!D566)^2/'Goodness of fit'!D566,\"\")","v":""}]
[{"$f":"'Goodness of fit'!F$12/1000+A566","v":9.0560000000000063},{"$error":"#NUM!"},{"$f":"IF(A567>='Goodness of fit'!$F$11,B567,0)","v":{"$error":"#NUM!"}},{"$error":"#NUM!"},{"$f":"IF('Goodness of fit'!D567>0,('Goodness of fit'!C567-'Goodness of fit'!D567)^2/'Goodness of fit'!D567,\"\")","v":""}]
[{"$f":"'Goodness of fit'!F$12/1000+A567","v":9.0720000000000063},{"$error":"#NUM!"},{"$f":"IF(A568>='Goodness of fit'!$F$11,B568,0)","v":{"$error":"#NUM!"}},{"$error":"#NUM!"},{"$f":"IF('Goodness of fit'!D568>0,('Goodness of fit'!C568-'Goodness of fit'!D568)^2/'Goodness of fit'!D568,\"\")","v":""}]
[{"$f":"'Goodness of fit'!F$12/1000+A568","v":9.0880000000000063},{"$error":"#NUM!"},{"$f":"IF(A569>='Goodness of fit'!$F$11,B569,0)","v":{"$error":"#NUM!"}},{"$error":"#NUM!"},{"$f":"IF('Goodness of fit'!D569>0,('Goodness of fit'!C569-'Goodness of fit'!D569)^2/'Goodness of fit'!D569,\"\")","v":""}]
[{"$f":"'Goodness of fit'!F$12/1000+A569","v":9.1040000000000063},{"$error":"#NUM!"},{"$f":"IF(A570>='Goodness of fit'!$F$11,B570,0)","v":{"$error":"#NUM!"}},{"$error":"#NUM!"},{"$f":"IF('Goodness of fit'!D570>0,('Goodness of fit'!C570-'Goodness of fit'!D570)^2/'Goodness of fit'!D570,\"\")","v":""}]
[{"$f":"'Goodness of fit'!F$12/1000+A570","v":9.1200000000000063},{"$error":"#NUM!"},{"$f":"IF(A571>='Goodness of fit'!$F$11,B571,0)","v":{"$error":"#NUM!"}},{"$error":"#NUM!"},{"$f":"IF('Goodness of fit'!D571>0,('Goodness of fit'!C571-'Goodness of fit'!D571)^2/'Goodness of fit'!D571,\"\")","v":""}]
[{"$f":"'Goodness of fit'!F$12/1000+A571","v":9.1360000000000063},{"$error":"#NUM!"},{"$f":"IF(A572>='Goodness of fit'!$F$11,B572,0)","v":{"$error":"#NUM!"}},{"$error":"#NUM!"},{"$f":"IF('Goodness of fit'!D572>0,('Goodness of fit'!C572-'Goodness of fit'!D572)^2/'Goodness of fit'!D572,\"\")","v":""}]
[{"$f":"'Goodness of fit'!F$12/1000+A572","v":9.1520000000000064},{"$error":"#NUM!"},{"$f":"IF(A573>='Goodness of fit'!$F$11,B573,0)","v":{"$error":"#NUM!"}},{"$error":"#NUM!"},{"$f":"IF('Goodness of fit'!D573>0,('Goodness of fit'!C573-'Goodness of fit'!D573)^2/'Goodness of fit'!D573,\"\")","v":""}]
[{"$f":"'Goodness of fit'!F$12/1000+A573","v":9.1680000000000064},{"$error":"#NUM!"},{"$f":"IF(A574>='Goodness of fit'!$F$11,B574,0)","v":{"$error":"#NUM!"}},{"$error":"#NUM!"},{"$f":"IF('Goodness of fit'!D574>0,('Goodness of fit'!C574-'Goodness of fit'!D574)^2/'Goodness of fit'!D574,\"\")","v":""}]
[{"$f":"'Goodness of fit'!F$12/1000+A574","v":9.1840000000000064},{"$error":"#NUM!"},{"$f":"IF(A575>='Goodness of fit'!$F$11,B575,0)","v":{"$error":"#NUM!"}},{"$error":"#NUM!"},{"$f":"IF('Goodness of fit'!D575>0,('Goodness of fit'!C575-'Goodness of fit'!D575)^2/'Goodness of fit'!D575,\"\")","v":""}]
[{"$f":"'Goodness of fit'!F$12/1000+A575","v":9.2000000000000064},{"$error":"#NUM!"},{"$f":"IF(A576>='Goodness of fit'!$F$11,B576,0)","v":{"$error":"#NUM!"}},{"$error":"#NUM!"},{"$f":"IF('Goodness of fit'!D576>0,('Goodness of fit'!C576-'Goodness of fit'!D576)^2/'Goodness of fit'!D576,\"\")","v":""}]
[{"$f":"'Goodness of fit'!F$12/1000+A576","v":9.2160000000000064},{"$error":"#NUM!"},{"$f":"IF(A577>='Goodness of fit'!$F$11,B577,0)","v":{"$error":"#NUM!"}},{"$error":"#NUM!"},{"$f":"IF('Goodness of fit'!D577>0,('Goodness of fit'!C577-'Goodness of fit'!D577)^2/'Goodness of fit'!D577,\"\")","v":""}]
[{"$f":"'Goodness of fit'!F$12/1000+A577","v":9.2320000000000064},{"$error":"#NUM!"},{"$f":"IF(A578>='Goodness of fit'!$F$11,B578,0)","v":{"$error":"#NUM!"}},{"$f":"CHIDIST(A578,F$1)","v":{"$error":"#NUM!"}},{"$f":"IF('Goodness of fit'!D578>0,('Goodness of fit'!C578-'Goodness of fit'!D578)^2/'Goodness of fit'!D578,\"\")","v":""}]
[{"$f":"'Goodness of fit'!F$12/1000+A578","v":9.2480000000000064},{"$f":"_xlfn.CHISQ.DIST(A579,F$1,FALSE)","v":{"$error":"#NUM!"}},{"$f":"IF(A579>='Goodness of fit'!$F$11,B579,0)","v":{"$error":"#NUM!"}},{"$error":"#NUM!"},{"$f":"IF('Goodness of fit'!D579>0,('Goodness of fit'!C579-'Goodness of fit'!D579)^2/'Goodness of fit'!D579,\"\")","v":""}]
[{"$f":"'Goodness of fit'!F$12/1000+A579","v":9.2640000000000065},{"$error":"#NUM!"},{"$f":"IF(A580>='Goodness of fit'!$F$11,B580,0)","v":{"$error":"#NUM!"}},{"$error":"#NUM!"},{"$f":"IF('Goodness of fit'!D580>0,('Goodness of fit'!C580-'Goodness of fit'!D580)^2/'Goodness of fit'!D580,\"\")","v":""}]
[{"$f":"'Goodness of fit'!F$12/1000+A580","v":9.2800000000000065},{"$error":"#NUM!"},{"$f":"IF(A581>='Goodness of fit'!$F$11,B581,0)","v":{"$error":"#NUM!"}},{"$error":"#NUM!"},{"$f":"IF('Goodness of fit'!D581>0,('Goodness of fit'!C581-'Goodness of fit'!D581)^2/'Goodness of fit'!D581,\"\")","v":""}]
[{"$f":"'Goodness of fit'!F$12/1000+A581","v":9.2960000000000065},{"$error":"#NUM!"},{"$f":"IF(A582>='Goodness of fit'!$F$11,B582,0)","v":{"$error":"#NUM!"}},{"$error":"#NUM!"},{"$f":"IF('Goodness of fit'!D582>0,('Goodness of fit'!C582-'Goodness of fit'!D582)^2/'Goodness of fit'!D582,\"\")","v":""}]
[{"$f":"'Goodness of fit'!F$12/1000+A582","v":9.3120000000000065},{"$error":"#NUM!"},{"$f":"IF(A583>='Goodness of fit'!$F$11,B583,0)","v":{"$error":"#NUM!"}},{"$error":"#NUM!"},{"$f":"IF('Goodness of fit'!D583>0,('Goodness of fit'!C583-'Goodness of fit'!D583)^2/'Goodness of fit'!D583,\"\")","v":""}]
[{"$f":"'Goodness of fit'!F$12/1000+A583","v":9.3280000000000065},{"$error":"#NUM!"},{"$f":"IF(A584>='Goodness of fit'!$F$11,B584,0)","v":{"$error":"#NUM!"}},{"$error":"#NUM!"},{"$f":"IF('Goodness of fit'!D584>0,('Goodness of fit'!C584-'Goodness of fit'!D584)^2/'Goodness of fit'!D584,\"\")","v":""}]
[{"$f":"'Goodness of fit'!F$12/1000+A584","v":9.3440000000000065},{"$error":"#NUM!"},{"$f":"IF(A585>='Goodness of fit'!$F$11,B585,0)","v":{"$error":"#NUM!"}},{"$error":"#NUM!"},{"$f":"IF('Goodness of fit'!D585>0,('Goodness of fit'!C585-'Goodness of fit'!D585)^2/'Goodness of fit'!D585,\"\")","v":""}]
[{"$f":"'Goodness of fit'!F$12/1000+A585","v":9.3600000000000065},{"$error":"#NUM!"},{"$f":"IF(A586>='Goodness of fit'!$F$11,B586,0)","v":{"$error":"#NUM!"}},{"$error":"#NUM!"},{"$f":"IF('Goodness of fit'!D586>0,('Goodness of fit'!C586-'Goodness of fit'!D586)^2/'Goodness of fit'!D586,\"\")","v":""}]
[{"$f":"'Goodness of fit'!F$12/1000+A586","v":9.3760000000000066},{"$error":"#NUM!"},{"$f":"IF(A587>='Goodness of fit'!$F$11,B587,0)","v":{"$error":"#NUM!"}},{"$error":"#NUM!"},{"$f":"IF('Goodness of fit'!D587>0,('Goodness of fit'!C587-'Goodness of fit'!D587)^2/'Goodness of fit'!D587,\"\")","v":""}]
[{"$f":"'Goodness of fit'!F$12/1000+A587","v":9.3920000000000066},{"$error":"#NUM!"},{"$f":"IF(A588>='Goodness of fit'!$F$11,B588,0)","v":{"$error":"#NUM!"}},{"$error":"#NUM!"},{"$f":"IF('Goodness of fit'!D588>0,('Goodness of fit'!C588-'Goodness of fit'!D588)^2/'Goodness of fit'!D588,\"\")","v":""}]
[{"$f":"'Goodness of fit'!F$12/1000+A588","v":9.4080000000000066},{"$error":"#NUM!"},{"$f":"IF(A589>='Goodness of fit'!$F$11,B589,0)","v":{"$error":"#NUM!"}},{"$error":"#NUM!"},{"$f":"IF('Goodness of fit'!D589>0,('Goodness of fit'!C589-'Goodness of fit'!D589)^2/'Goodness of fit'!D589,\"\")","v":""}]
[{"$f":"'Goodness of fit'!F$12/1000+A589","v":9.4240000000000066},{"$error":"#NUM!"},{"$f":"IF(A590>='Goodness of fit'!$F$11,B590,0)","v":{"$error":"#NUM!"}},{"$error":"#NUM!"},{"$f":"IF('Goodness of fit'!D590>0,('Goodness of fit'!C590-'Goodness of fit'!D590)^2/'Goodness of fit'!D590,\"\")","v":""}]
[{"$f":"'Goodness of fit'!F$12/1000+A590","v":9.4400000000000066},{"$error":"#NUM!"},{"$f":"IF(A591>='Goodness of fit'!$F$11,B591,0)","v":{"$error":"#NUM!"}},{"$error":"#NUM!"},{"$f":"IF('Goodness of fit'!D591>0,('Goodness of fit'!C591-'Goodness of fit'!D591)^2/'Goodness of fit'!D591,\"\")","v":""}]
[{"$f":"'Goodness of fit'!F$12/1000+A591","v":9.4560000000000066},{"$error":"#NUM!"},{"$f":"IF(A592>='Goodness of fit'!$F$11,B592,0)","v":{"$error":"#NUM!"}},{"$error":"#NUM!"},{"$f":"IF('Goodness of fit'!D592>0,('Goodness of fit'!C592-'Goodness of fit'!D592)^2/'Goodness of fit'!D592,\"\")","v":""}]
[{"$f":"'Goodness of fit'!F$12/1000+A592","v":9.4720000000000066},{"$error":"#NUM!"},{"$f":"IF(A593>='Goodness of fit'!$F$11,B593,0)","v":{"$error":"#NUM!"}},{"$error":"#NUM!"},{"$f":"IF('Goodness of fit'!D593>0,('Goodness of fit'!C593-'Goodness of fit'!D593)^2/'Goodness of fit'!D593,\"\")","v":""}]
[{"$f":"'Goodness of fit'!F$12/1000+A593","v":9.4880000000000067},{"$error":"#NUM!"},{"$f":"IF(A594>='Goodness of fit'!$F$11,B594,0)","v":{"$error":"#NUM!"}},{"$error":"#NUM!"},{"$f":"IF('Goodness of fit'!D594>0,('Goodness of fit'!C594-'Goodness of fit'!D594)^2/'Goodness of fit'!D594,\"\")","v":""}]
[{"$f":"'Goodness of fit'!F$12/1000+A594","v":9.5040000000000067},{"$error":"#NUM!"},{"$f":"IF(A595>='Goodness of fit'!$F$11,B595,0)","v":{"$error":"#NUM!"}},{"$error":"#NUM!"},{"$f":"IF('Goodness of fit'!D595>0,('Goodness of fit'!C595-'Goodness of fit'!D595)^2/'Goodness of fit'!D595,\"\")","v":""}]
[{"$f":"'Goodness of fit'!F$12/1000+A595","v":9.5200000000000067},{"$error":"#NUM!"},{"$f":"IF(A596>='Goodness of fit'!$F$11,B596,0)","v":{"$error":"#NUM!"}},{"$error":"#NUM!"},{"$f":"IF('Goodness of fit'!D596>0,('Goodness of fit'!C596-'Goodness of fit'!D596)^2/'Goodness of fit'!D596,\"\")","v":""}]
[{"$f":"'Goodness of fit'!F$12/1000+A596","v":9.5360000000000067},{"$error":"#NUM!"},{"$f":"IF(A597>='Goodness of fit'!$F$11,B597,0)","v":{"$error":"#NUM!"}},{"$error":"#NUM!"},{"$f":"IF('Goodness of fit'!D597>0,('Goodness of fit'!C597-'Goodness of fit'!D597)^2/'Goodness of fit'!D597,\"\")","v":""}]
[{"$f":"'Goodness of fit'!F$12/1000+A597","v":9.5520000000000067},{"$error":"#NUM!"},{"$f":"IF(A598>='Goodness of fit'!$F$11,B598,0)","v":{"$error":"#NUM!"}},{"$error":"#NUM!"},{"$f":"IF('Goodness of fit'!D598>0,('Goodness of fit'!C598-'Goodness of fit'!D598)^2/'Goodness of fit'!D598,\"\")","v":""}]
[{"$f":"'Goodness of fit'!F$12/1000+A598","v":9.5680000000000067},{"$error":"#NUM!"},{"$f":"IF(A599>='Goodness of fit'!$F$11,B599,0)","v":{"$error":"#NUM!"}},{"$error":"#NUM!"},{"$f":"IF('Goodness of fit'!D599>0,('Goodness of fit'!C599-'Goodness of fit'!D599)^2/'Goodness of fit'!D599,\"\")","v":""}]
[{"$f":"'Goodness of fit'!F$12/1000+A599","v":9.5840000000000067},{"$error":"#NUM!"},{"$f":"IF(A600>='Goodness of fit'!$F$11,B600,0)","v":{"$error":"#NUM!"}},{"$error":"#NUM!"},{"$f":"IF('Goodness of fit'!D600>0,('Goodness of fit'!C600-'Goodness of fit'!D600)^2/'Goodness of fit'!D600,\"\")","v":""}]
[{"$f":"'Goodness of fit'!F$12/1000+A600","v":9.6000000000000068},{"$error":"#NUM!"},{"$f":"IF(A601>='Goodness of fit'!$F$11,B601,0)","v":{"$error":"#NUM!"}},{"$error":"#NUM!"},{"$f":"IF('Goodness of fit'!D601>0,('Goodness of fit'!C601-'Goodness of fit'!D601)^2/'Goodness of fit'!D601,\"\")","v":""}]
[{"$f":"'Goodness of fit'!F$12/1000+A601","v":9.6160000000000068},{"$error":"#NUM!"},{"$f":"IF(A602>='Goodness of fit'!$F$11,B602,0)","v":{"$error":"#NUM!"}},{"$error":"#NUM!"},{"$f":"IF('Goodness of fit'!D602>0,('Goodness of fit'!C602-'Goodness of fit'!D602)^2/'Goodness of fit'!D602,\"\")","v":""}]
[{"$f":"'Goodness of fit'!F$12/1000+A602","v":9.6320000000000068},{"$error":"#NUM!"},{"$f":"IF(A603>='Goodness of fit'!$F$11,B603,0)","v":{"$error":"#NUM!"}},{"$error":"#NUM!"},{"$f":"IF('Goodness of fit'!D603>0,('Goodness of fit'!C603-'Goodness of fit'!D603)^2/'Goodness of fit'!D603,\"\")","v":""}]
[{"$f":"'Goodness of fit'!F$12/1000+A603","v":9.6480000000000068},{"$error":"#NUM!"},{"$f":"IF(A604>='Goodness of fit'!$F$11,B604,0)","v":{"$error":"#NUM!"}},{"$error":"#NUM!"},{"$f":"IF('Goodness of fit'!D604>0,('Goodness of fit'!C604-'Goodness of fit'!D604)^2/'Goodness of fit'!D604,\"\")","v":""}]
[{"$f":"'Goodness of fit'!F$12/1000+A604","v":9.6640000000000068},{"$error":"#NUM!"},{"$f":"IF(A605>='Goodness of fit'!$F$11,B605,0)","v":{"$error":"#NUM!"}},{"$error":"#NUM!"},{"$f":"IF('Goodness of fit'!D605>0,('Goodness of fit'!C605-'Goodness of fit'!D605)^2/'Goodness of fit'!D605,\"\")","v":""}]
[{"$f":"'Goodness of fit'!F$12/1000+A605","v":9.6800000000000068},{"$error":"#NUM!"},{"$f":"IF(A606>='Goodness of fit'!$F$11,B606,0)","v":{"$error":"#NUM!"}},{"$error":"#NUM!"},{"$f":"IF('Goodness of fit'!D606>0,('Goodness of fit'!C606-'Goodness of fit'!D606)^2/'Goodness of fit'!D606,\"\")","v":""}]
[{"$f":"'Goodness of fit'!F$12/1000+A606","v":9.6960000000000068},{"$error":"#NUM!"},{"$f":"IF(A607>='Goodness of fit'!$F$11,B607,0)","v":{"$error":"#NUM!"}},{"$error":"#NUM!"},{"$f":"IF('Goodness of fit'!D607>0,('Goodness of fit'!C607-'Goodness of fit'!D607)^2/'Goodness of fit'!D607,\"\")","v":""}]
[{"$f":"'Goodness of fit'!F$12/1000+A607","v":9.7120000000000068},{"$error":"#NUM!"},{"$f":"IF(A608>='Goodness of fit'!$F$11,B608,0)","v":{"$error":"#NUM!"}},{"$error":"#NUM!"},{"$f":"IF('Goodness of fit'!D608>0,('Goodness of fit'!C608-'Goodness of fit'!D608)^2/'Goodness of fit'!D608,\"\")","v":""}]
[{"$f":"'Goodness of fit'!F$12/1000+A608","v":9.7280000000000069},{"$error":"#NUM!"},{"$f":"IF(A609>='Goodness of fit'!$F$11,B609,0)","v":{"$error":"#NUM!"}},{"$error":"#NUM!"},{"$f":"IF('Goodness of fit'!D609>0,('Goodness of fit'!C609-'Goodness of fit'!D609)^2/'Goodness of fit'!D609,\"\")","v":""}]
[{"$f":"'Goodness of fit'!F$12/1000+A609","v":9.7440000000000069},{"$error":"#NUM!"},{"$f":"IF(A610>='Goodness of fit'!$F$11,B610,0)","v":{"$error":"#NUM!"}},{"$error":"#NUM!"},{"$f":"IF('Goodness of fit'!D610>0,('Goodness of fit'!C610-'Goodness of fit'!D610)^2/'Goodness of fit'!D610,\"\")","v":""}]
[{"$f":"'Goodness of fit'!F$12/1000+A610","v":9.7600000000000069},{"$error":"#NUM!"},{"$f":"IF(A611>='Goodness of fit'!$F$11,B611,0)","v":{"$error":"#NUM!"}},{"$error":"#NUM!"},{"$f":"IF('Goodness of fit'!D611>0,('Goodness of fit'!C611-'Goodness of fit'!D611)^2/'Goodness of fit'!D611,\"\")","v":""}]
[{"$f":"'Goodness of fit'!F$12/1000+A611","v":9.7760000000000069},{"$error":"#NUM!"},{"$f":"IF(A612>='Goodness of fit'!$F$11,B612,0)","v":{"$error":"#NUM!"}},{"$error":"#NUM!"},{"$f":"IF('Goodness of fit'!D612>0,('Goodness of fit'!C612-'Goodness of fit'!D612)^2/'Goodness of fit'!D612,\"\")","v":""}]
[{"$f":"'Goodness of fit'!F$12/1000+A612","v":9.7920000000000069},{"$error":"#NUM!"},{"$f":"IF(A613>='Goodness of fit'!$F$11,B613,0)","v":{"$error":"#NUM!"}},{"$error":"#NUM!"},{"$f":"IF('Goodness of fit'!D613>0,('Goodness of fit'!C613-'Goodness of fit'!D613)^2/'Goodness of fit'!D613,\"\")","v":""}]
[{"$f":"'Goodness of fit'!F$12/1000+A613","v":9.8080000000000069},{"$error":"#NUM!"},{"$f":"IF(A614>='Goodness of fit'!$F$11,B614,0)","v":{"$error":"#NUM!"}},{"$error":"#NUM!"},{"$f":"IF('Goodness of fit'!D614>0,('Goodness of fit'!C614-'Goodness of fit'!D614)^2/'Goodness of fit'!D614,\"\")","v":""}]
[{"$f":"'Goodness of fit'!F$12/1000+A614","v":9.8240000000000069},{"$error":"#NUM!"},{"$f":"IF(A615>='Goodness of fit'!$F$11,B615,0)","v":{"$error":"#NUM!"}},{"$error":"#NUM!"},{"$f":"IF('Goodness of fit'!D615>0,('Goodness of fit'!C615-'Goodness of fit'!D615)^2/'Goodness of fit'!D615,\"\")","v":""}]
[{"$f":"'Goodness of fit'!F$12/1000+A615","v":9.840000000000007},{"$error":"#NUM!"},{"$f":"IF(A616>='Goodness of fit'!$F$11,B616,0)","v":{"$error":"#NUM!"}},{"$error":"#NUM!"},{"$f":"IF('Goodness of fit'!D616>0,('Goodness of fit'!C616-'Goodness of fit'!D616)^2/'Goodness of fit'!D616,\"\")","v":""}]
[{"$f":"'Goodness of fit'!F$12/1000+A616","v":9.856000000000007},{"$error":"#NUM!"},{"$f":"IF(A617>='Goodness of fit'!$F$11,B617,0)","v":{"$error":"#NUM!"}},{"$error":"#NUM!"},{"$f":"IF('Goodness of fit'!D617>0,('Goodness of fit'!C617-'Goodness of fit'!D617)^2/'Goodness of fit'!D617,\"\")","v":""}]
[{"$f":"'Goodness of fit'!F$12/1000+A617","v":9.872000000000007},{"$error":"#NUM!"},{"$f":"IF(A618>='Goodness of fit'!$F$11,B618,0)","v":{"$error":"#NUM!"}},{"$error":"#NUM!"},{"$f":"IF('Goodness of fit'!D618>0,('Goodness of fit'!C618-'Goodness of fit'!D618)^2/'Goodness of fit'!D618,\"\")","v":""}]
[{"$f":"'Goodness of fit'!F$12/1000+A618","v":9.888000000000007},{"$error":"#NUM!"},{"$f":"IF(A619>='Goodness of fit'!$F$11,B619,0)","v":{"$error":"#NUM!"}},{"$error":"#NUM!"},{"$f":"IF('Goodness of fit'!D619>0,('Goodness of fit'!C619-'Goodness of fit'!D619)^2/'Goodness of fit'!D619,\"\")","v":""}]
[{"$f":"'Goodness of fit'!F$12/1000+A619","v":9.904000000000007},{"$error":"#NUM!"},{"$f":"IF(A620>='Goodness of fit'!$F$11,B620,0)","v":{"$error":"#NUM!"}},{"$error":"#NUM!"},{"$f":"IF('Goodness of fit'!D620>0,('Goodness of fit'!C620-'Goodness of fit'!D620)^2/'Goodness of fit'!D620,\"\")","v":""}]
[{"$f":"'Goodness of fit'!F$12/1000+A620","v":9.920000000000007},{"$error":"#NUM!"},{"$f":"IF(A621>='Goodness of fit'!$F$11,B621,0)","v":{"$error":"#NUM!"}},{"$error":"#NUM!"},{"$f":"IF('Goodness of fit'!D621>0,('Goodness of fit'!C621-'Goodness of fit'!D621)^2/'Goodness of fit'!D621,\"\")","v":""}]
[{"$f":"'Goodness of fit'!F$12/1000+A621","v":9.936000000000007},{"$error":"#NUM!"},{"$f":"IF(A622>='Goodness of fit'!$F$11,B622,0)","v":{"$error":"#NUM!"}},{"$error":"#NUM!"},{"$f":"IF('Goodness of fit'!D622>0,('Goodness of fit'!C622-'Goodness of fit'!D622)^2/'Goodness of fit'!D622,\"\")","v":""}]
[{"$f":"'Goodness of fit'!F$12/1000+A622","v":9.9520000000000071},{"$error":"#NUM!"},{"$f":"IF(A623>='Goodness of fit'!$F$11,B623,0)","v":{"$error":"#NUM!"}},{"$error":"#NUM!"},{"$f":"IF('Goodness of fit'!D623>0,('Goodness of fit'!C623-'Goodness of fit'!D623)^2/'Goodness of fit'!D623,\"\")","v":""}]
[{"$f":"'Goodness of fit'!F$12/1000+A623","v":9.9680000000000071},{"$error":"#NUM!"},{"$f":"IF(A624>='Goodness of fit'!$F$11,B624,0)","v":{"$error":"#NUM!"}},{"$error":"#NUM!"},{"$f":"IF('Goodness of fit'!D624>0,('Goodness of fit'!C624-'Goodness of fit'!D624)^2/'Goodness of fit'!D624,\"\")","v":""}]
[{"$f":"'Goodness of fit'!F$12/1000+A624","v":9.9840000000000071},{"$error":"#NUM!"},{"$f":"IF(A625>='Goodness of fit'!$F$11,B625,0)","v":{"$error":"#NUM!"}},{"$error":"#NUM!"},{"$f":"IF('Goodness of fit'!D625>0,('Goodness of fit'!C625-'Goodness of fit'!D625)^2/'Goodness of fit'!D625,\"\")","v":""}]
[{"$f":"'Goodness of fit'!F$12/1000+A625","v":10.000000000000007},{"$error":"#NUM!"},{"$f":"IF(A626>='Goodness of fit'!$F$11,B626,0)","v":{"$error":"#NUM!"}},{"$error":"#NUM!"},{"$f":"IF('Goodness of fit'!D626>0,('Goodness of fit'!C626-'Goodness of fit'!D626)^2/'Goodness of fit'!D626,\"\")","v":""}]
[{"$f":"'Goodness of fit'!F$12/1000+A626","v":10.016000000000007},{"$error":"#NUM!"},{"$f":"IF(A627>='Goodness of fit'!$F$11,B627,0)","v":{"$error":"#NUM!"}},{"$error":"#NUM!"},{"$f":"IF('Goodness of fit'!D627>0,('Goodness of fit'!C627-'Goodness of fit'!D627)^2/'Goodness of fit'!D627,\"\")","v":""}]
[{"$f":"'Goodness of fit'!F$12/1000+A627","v":10.032000000000007},{"$error":"#NUM!"},{"$f":"IF(A628>='Goodness of fit'!$F$11,B628,0)","v":{"$error":"#NUM!"}},{"$error":"#NUM!"},{"$f":"IF('Goodness of fit'!D628>0,('Goodness of fit'!C628-'Goodness of fit'!D628)^2/'Goodness of fit'!D628,\"\")","v":""}]
[{"$f":"'Goodness of fit'!F$12/1000+A628","v":10.048000000000007},{"$error":"#NUM!"},{"$f":"IF(A629>='Goodness of fit'!$F$11,B629,0)","v":{"$error":"#NUM!"}},{"$error":"#NUM!"},{"$f":"IF('Goodness of fit'!D629>0,('Goodness of fit'!C629-'Goodness of fit'!D629)^2/'Goodness of fit'!D629,\"\")","v":""}]
[{"$f":"'Goodness of fit'!F$12/1000+A629","v":10.064000000000007},{"$error":"#NUM!"},{"$f":"IF(A630>='Goodness of fit'!$F$11,B630,0)","v":{"$error":"#NUM!"}},{"$error":"#NUM!"},{"$f":"IF('Goodness of fit'!D630>0,('Goodness of fit'!C630-'Goodness of fit'!D630)^2/'Goodness of fit'!D630,\"\")","v":""}]
[{"$f":"'Goodness of fit'!F$12/1000+A630","v":10.080000000000007},{"$error":"#NUM!"},{"$f":"IF(A631>='Goodness of fit'!$F$11,B631,0)","v":{"$error":"#NUM!"}},{"$error":"#NUM!"},{"$f":"IF('Goodness of fit'!D631>0,('Goodness of fit'!C631-'Goodness of fit'!D631)^2/'Goodness of fit'!D631,\"\")","v":""}]
[{"$f":"'Goodness of fit'!F$12/1000+A631","v":10.096000000000007},{"$error":"#NUM!"},{"$f":"IF(A632>='Goodness of fit'!$F$11,B632,0)","v":{"$error":"#NUM!"}},{"$error":"#NUM!"},{"$f":"IF('Goodness of fit'!D632>0,('Goodness of fit'!C632-'Goodness of fit'!D632)^2/'Goodness of fit'!D632,\"\")","v":""}]
[{"$f":"'Goodness of fit'!F$12/1000+A632","v":10.112000000000007},{"$error":"#NUM!"},{"$f":"IF(A633>='Goodness of fit'!$F$11,B633,0)","v":{"$error":"#NUM!"}},{"$error":"#NUM!"},{"$f":"IF('Goodness of fit'!D633>0,('Goodness of fit'!C633-'Goodness of fit'!D633)^2/'Goodness of fit'!D633,\"\")","v":""}]
[{"$f":"'Goodness of fit'!F$12/1000+A633","v":10.128000000000007},{"$error":"#NUM!"},{"$f":"IF(A634>='Goodness of fit'!$F$11,B634,0)","v":{"$error":"#NUM!"}},{"$error":"#NUM!"},{"$f":"IF('Goodness of fit'!D634>0,('Goodness of fit'!C634-'Goodness of fit'!D634)^2/'Goodness of fit'!D634,\"\")","v":""}]
[{"$f":"'Goodness of fit'!F$12/1000+A634","v":10.144000000000007},{"$error":"#NUM!"},{"$f":"IF(A635>='Goodness of fit'!$F$11,B635,0)","v":{"$error":"#NUM!"}},{"$error":"#NUM!"},{"$f":"IF('Goodness of fit'!D635>0,('Goodness of fit'!C635-'Goodness of fit'!D635)^2/'Goodness of fit'!D635,\"\")","v":""}]
[{"$f":"'Goodness of fit'!F$12/1000+A635","v":10.160000000000007},{"$error":"#NUM!"},{"$f":"IF(A636>='Goodness of fit'!$F$11,B636,0)","v":{"$error":"#NUM!"}},{"$error":"#NUM!"},{"$f":"IF('Goodness of fit'!D636>0,('Goodness of fit'!C636-'Goodness of fit'!D636)^2/'Goodness of fit'!D636,\"\")","v":""}]
[{"$f":"'Goodness of fit'!F$12/1000+A636","v":10.176000000000007},{"$error":"#NUM!"},{"$f":"IF(A637>='Goodness of fit'!$F$11,B637,0)","v":{"$error":"#NUM!"}},{"$error":"#NUM!"},{"$f":"IF('Goodness of fit'!D637>0,('Goodness of fit'!C637-'Goodness of fit'!D637)^2/'Goodness of fit'!D637,\"\")","v":""}]
[{"$f":"'Goodness of fit'!F$12/1000+A637","v":10.192000000000007},{"$error":"#NUM!"},{"$f":"IF(A638>='Goodness of fit'!$F$11,B638,0)","v":{"$error":"#NUM!"}},{"$error":"#NUM!"},{"$f":"IF('Goodness of fit'!D638>0,('Goodness of fit'!C638-'Goodness of fit'!D638)^2/'Goodness of fit'!D638,\"\")","v":""}]
[{"$f":"'Goodness of fit'!F$12/1000+A638","v":10.208000000000007},{"$error":"#NUM!"},{"$f":"IF(A639>='Goodness of fit'!$F$11,B639,0)","v":{"$error":"#NUM!"}},{"$error":"#NUM!"},{"$f":"IF('Goodness of fit'!D639>0,('Goodness of fit'!C639-'Goodness of fit'!D639)^2/'Goodness of fit'!D639,\"\")","v":""}]
[{"$f":"'Goodness of fit'!F$12/1000+A639","v":10.224000000000007},{"$error":"#NUM!"},{"$f":"IF(A640>='Goodness of fit'!$F$11,B640,0)","v":{"$error":"#NUM!"}},{"$error":"#NUM!"},{"$f":"IF('Goodness of fit'!D640>0,('Goodness of fit'!C640-'Goodness of fit'!D640)^2/'Goodness of fit'!D640,\"\")","v":""}]
[{"$f":"'Goodness of fit'!F$12/1000+A640","v":10.240000000000007},{"$error":"#NUM!"},{"$f":"IF(A641>='Goodness of fit'!$F$11,B641,0)","v":{"$error":"#NUM!"}},{"$error":"#NUM!"},{"$f":"IF('Goodness of fit'!D641>0,('Goodness of fit'!C641-'Goodness of fit'!D641)^2/'Goodness of fit'!D641,\"\")","v":""}]
[{"$f":"'Goodness of fit'!F$12/1000+A641","v":10.256000000000007},{"$error":"#NUM!"},{"$f":"IF(A642>='Goodness of fit'!$F$11,B642,0)","v":{"$error":"#NUM!"}},{"$f":"CHIDIST(A642,F$1)","v":{"$error":"#NUM!"}},{"$f":"IF('Goodness of fit'!D642>0,('Goodness of fit'!C642-'Goodness of fit'!D642)^2/'Goodness of fit'!D642,\"\")","v":""}]
[{"$f":"'Goodness of fit'!F$12/1000+A642","v":10.272000000000007},{"$f":"_xlfn.CHISQ.DIST(A643,F$1,FALSE)","v":{"$error":"#NUM!"}},{"$f":"IF(A643>='Goodness of fit'!$F$11,B643,0)","v":{"$error":"#NUM!"}},{"$error":"#NUM!"},{"$f":"IF('Goodness of fit'!D643>0,('Goodness of fit'!C643-'Goodness of fit'!D643)^2/'Goodness of fit'!D643,\"\")","v":""}]
[{"$f":"'Goodness of fit'!F$12/1000+A643","v":10.288000000000007},{"$error":"#NUM!"},{"$f":"IF(A644>='Goodness of fit'!$F$11,B644,0)","v":{"$error":"#NUM!"}},{"$error":"#NUM!"},{"$f":"IF('Goodness of fit'!D644>0,('Goodness of fit'!C644-'Goodness of fit'!D644)^2/'Goodness of fit'!D644,\"\")","v":""}]
[{"$f":"'Goodness of fit'!F$12/1000+A644","v":10.304000000000007},{"$error":"#NUM!"},{"$f":"IF(A645>='Goodness of fit'!$F$11,B645,0)","v":{"$error":"#NUM!"}},{"$error":"#NUM!"},{"$f":"IF('Goodness of fit'!D645>0,('Goodness of fit'!C645-'Goodness of fit'!D645)^2/'Goodness of fit'!D645,\"\")","v":""}]
[{"$f":"'Goodness of fit'!F$12/1000+A645","v":10.320000000000007},{"$error":"#NUM!"},{"$f":"IF(A646>='Goodness of fit'!$F$11,B646,0)","v":{"$error":"#NUM!"}},{"$error":"#NUM!"},{"$f":"IF('Goodness of fit'!D646>0,('Goodness of fit'!C646-'Goodness of fit'!D646)^2/'Goodness of fit'!D646,\"\")","v":""}]
[{"$f":"'Goodness of fit'!F$12/1000+A646","v":10.336000000000007},{"$error":"#NUM!"},{"$f":"IF(A647>='Goodness of fit'!$F$11,B647,0)","v":{"$error":"#NUM!"}},{"$error":"#NUM!"},{"$f":"IF('Goodness of fit'!D647>0,('Goodness of fit'!C647-'Goodness of fit'!D647)^2/'Goodness of fit'!D647,\"\")","v":""}]
[{"$f":"'Goodness of fit'!F$12/1000+A647","v":10.352000000000007},{"$error":"#NUM!"},{"$f":"IF(A648>='Goodness of fit'!$F$11,B648,0)","v":{"$error":"#NUM!"}},{"$error":"#NUM!"},{"$f":"IF('Goodness of fit'!D648>0,('Goodness of fit'!C648-'Goodness of fit'!D648)^2/'Goodness of fit'!D648,\"\")","v":""}]
[{"$f":"'Goodness of fit'!F$12/1000+A648","v":10.368000000000007},{"$error":"#NUM!"},{"$f":"IF(A649>='Goodness of fit'!$F$11,B649,0)","v":{"$error":"#NUM!"}},{"$error":"#NUM!"},{"$f":"IF('Goodness of fit'!D649>0,('Goodness of fit'!C649-'Goodness of fit'!D649)^2/'Goodness of fit'!D649,\"\")","v":""}]
[{"$f":"'Goodness of fit'!F$12/1000+A649","v":10.384000000000007},{"$error":"#NUM!"},{"$f":"IF(A650>='Goodness of fit'!$F$11,B650,0)","v":{"$error":"#NUM!"}},{"$error":"#NUM!"},{"$f":"IF('Goodness of fit'!D650>0,('Goodness of fit'!C650-'Goodness of fit'!D650)^2/'Goodness of fit'!D650,\"\")","v":""}]
[{"$f":"'Goodness of fit'!F$12/1000+A650","v":10.400000000000007},{"$error":"#NUM!"},{"$f":"IF(A651>='Goodness of fit'!$F$11,B651,0)","v":{"$error":"#NUM!"}},{"$error":"#NUM!"},{"$f":"IF('Goodness of fit'!D651>0,('Goodness of fit'!C651-'Goodness of fit'!D651)^2/'Goodness of fit'!D651,\"\")","v":""}]
[{"$f":"'Goodness of fit'!F$12/1000+A651","v":10.416000000000007},{"$error":"#NUM!"},{"$f":"IF(A652>='Goodness of fit'!$F$11,B652,0)","v":{"$error":"#NUM!"}},{"$error":"#NUM!"},{"$f":"IF('Goodness of fit'!D652>0,('Goodness of fit'!C652-'Goodness of fit'!D652)^2/'Goodness of fit'!D652,\"\")","v":""}]
[{"$f":"'Goodness of fit'!F$12/1000+A652","v":10.432000000000007},{"$error":"#NUM!"},{"$f":"IF(A653>='Goodness of fit'!$F$11,B653,0)","v":{"$error":"#NUM!"}},{"$error":"#NUM!"},{"$f":"IF('Goodness of fit'!D653>0,('Goodness of fit'!C653-'Goodness of fit'!D653)^2/'Goodness of fit'!D653,\"\")","v":""}]
[{"$f":"'Goodness of fit'!F$12/1000+A653","v":10.448000000000008},{"$error":"#NUM!"},{"$f":"IF(A654>='Goodness of fit'!$F$11,B654,0)","v":{"$error":"#NUM!"}},{"$error":"#NUM!"},{"$f":"IF('Goodness of fit'!D654>0,('Goodness of fit'!C654-'Goodness of fit'!D654)^2/'Goodness of fit'!D654,\"\")","v":""}]
[{"$f":"'Goodness of fit'!F$12/1000+A654","v":10.464000000000008},{"$error":"#NUM!"},{"$f":"IF(A655>='Goodness of fit'!$F$11,B655,0)","v":{"$error":"#NUM!"}},{"$error":"#NUM!"},{"$f":"IF('Goodness of fit'!D655>0,('Goodness of fit'!C655-'Goodness of fit'!D655)^2/'Goodness of fit'!D655,\"\")","v":""}]
[{"$f":"'Goodness of fit'!F$12/1000+A655","v":10.480000000000008},{"$error":"#NUM!"},{"$f":"IF(A656>='Goodness of fit'!$F$11,B656,0)","v":{"$error":"#NUM!"}},{"$error":"#NUM!"},{"$f":"IF('Goodness of fit'!D656>0,('Goodness of fit'!C656-'Goodness of fit'!D656)^2/'Goodness of fit'!D656,\"\")","v":""}]
[{"$f":"'Goodness of fit'!F$12/1000+A656","v":10.496000000000008},{"$error":"#NUM!"},{"$f":"IF(A657>='Goodness of fit'!$F$11,B657,0)","v":{"$error":"#NUM!"}},{"$error":"#NUM!"},{"$f":"IF('Goodness of fit'!D657>0,('Goodness of fit'!C657-'Goodness of fit'!D657)^2/'Goodness of fit'!D657,\"\")","v":""}]
[{"$f":"'Goodness of fit'!F$12/1000+A657","v":10.512000000000008},{"$error":"#NUM!"},{"$f":"IF(A658>='Goodness of fit'!$F$11,B658,0)","v":{"$error":"#NUM!"}},{"$error":"#NUM!"},{"$f":"IF('Goodness of fit'!D658>0,('Goodness of fit'!C658-'Goodness of fit'!D658)^2/'Goodness of fit'!D658,\"\")","v":""}]
[{"$f":"'Goodness of fit'!F$12/1000+A658","v":10.528000000000008},{"$error":"#NUM!"},{"$f":"IF(A659>='Goodness of fit'!$F$11,B659,0)","v":{"$error":"#NUM!"}},{"$error":"#NUM!"},{"$f":"IF('Goodness of fit'!D659>0,('Goodness of fit'!C659-'Goodness of fit'!D659)^2/'Goodness of fit'!D659,\"\")","v":""}]
[{"$f":"'Goodness of fit'!F$12/1000+A659","v":10.544000000000008},{"$error":"#NUM!"},{"$f":"IF(A660>='Goodness of fit'!$F$11,B660,0)","v":{"$error":"#NUM!"}},{"$error":"#NUM!"},{"$f":"IF('Goodness of fit'!D660>0,('Goodness of fit'!C660-'Goodness of fit'!D660)^2/'Goodness of fit'!D660,\"\")","v":""}]
[{"$f":"'Goodness of fit'!F$12/1000+A660","v":10.560000000000008},{"$error":"#NUM!"},{"$f":"IF(A661>='Goodness of fit'!$F$11,B661,0)","v":{"$error":"#NUM!"}},{"$error":"#NUM!"},{"$f":"IF('Goodness of fit'!D661>0,('Goodness of fit'!C661-'Goodness of fit'!D661)^2/'Goodness of fit'!D661,\"\")","v":""}]
[{"$f":"'Goodness of fit'!F$12/1000+A661","v":10.576000000000008},{"$error":"#NUM!"},{"$f":"IF(A662>='Goodness of fit'!$F$11,B662,0)","v":{"$error":"#NUM!"}},{"$error":"#NUM!"},{"$f":"IF('Goodness of fit'!D662>0,('Goodness of fit'!C662-'Goodness of fit'!D662)^2/'Goodness of fit'!D662,\"\")","v":""}]
[{"$f":"'Goodness of fit'!F$12/1000+A662","v":10.592000000000008},{"$error":"#NUM!"},{"$f":"IF(A663>='Goodness of fit'!$F$11,B663,0)","v":{"$error":"#NUM!"}},{"$error":"#NUM!"},{"$f":"IF('Goodness of fit'!D663>0,('Goodness of fit'!C663-'Goodness of fit'!D663)^2/'Goodness of fit'!D663,\"\")","v":""}]
[{"$f":"'Goodness of fit'!F$12/1000+A663","v":10.608000000000008},{"$error":"#NUM!"},{"$f":"IF(A664>='Goodness of fit'!$F$11,B664,0)","v":{"$error":"#NUM!"}},{"$error":"#NUM!"},{"$f":"IF('Goodness of fit'!D664>0,('Goodness of fit'!C664-'Goodness of fit'!D664)^2/'Goodness of fit'!D664,\"\")","v":""}]
[{"$f":"'Goodness of fit'!F$12/1000+A664","v":10.624000000000008},{"$error":"#NUM!"},{"$f":"IF(A665>='Goodness of fit'!$F$11,B665,0)","v":{"$error":"#NUM!"}},{"$error":"#NUM!"},{"$f":"IF('Goodness of fit'!D665>0,('Goodness of fit'!C665-'Goodness of fit'!D665)^2/'Goodness of fit'!D665,\"\")","v":""}]
[{"$f":"'Goodness of fit'!F$12/1000+A665","v":10.640000000000008},{"$error":"#NUM!"},{"$f":"IF(A666>='Goodness of fit'!$F$11,B666,0)","v":{"$error":"#NUM!"}},{"$error":"#NUM!"},{"$f":"IF('Goodness of fit'!D666>0,('Goodness of fit'!C666-'Goodness of fit'!D666)^2/'Goodness of fit'!D666,\"\")","v":""}]
[{"$f":"'Goodness of fit'!F$12/1000+A666","v":10.656000000000008},{"$error":"#NUM!"},{"$f":"IF(A667>='Goodness of fit'!$F$11,B667,0)","v":{"$error":"#NUM!"}},{"$error":"#NUM!"},{"$f":"IF('Goodness of fit'!D667>0,('Goodness of fit'!C667-'Goodness of fit'!D667)^2/'Goodness of fit'!D667,\"\")","v":""}]
[{"$f":"'Goodness of fit'!F$12/1000+A667","v":10.672000000000008},{"$error":"#NUM!"},{"$f":"IF(A668>='Goodness of fit'!$F$11,B668,0)","v":{"$error":"#NUM!"}},{"$error":"#NUM!"},{"$f":"IF('Goodness of fit'!D668>0,('Goodness of fit'!C668-'Goodness of fit'!D668)^2/'Goodness of fit'!D668,\"\")","v":""}]
[{"$f":"'Goodness of fit'!F$12/1000+A668","v":10.688000000000008},{"$error":"#NUM!"},{"$f":"IF(A669>='Goodness of fit'!$F$11,B669,0)","v":{"$error":"#NUM!"}},{"$error":"#NUM!"},{"$f":"IF('Goodness of fit'!D669>0,('Goodness of fit'!C669-'Goodness of fit'!D669)^2/'Goodness of fit'!D669,\"\")","v":""}]
[{"$f":"'Goodness of fit'!F$12/1000+A669","v":10.704000000000008},{"$error":"#NUM!"},{"$f":"IF(A670>='Goodness of fit'!$F$11,B670,0)","v":{"$error":"#NUM!"}},{"$error":"#NUM!"},{"$f":"IF('Goodness of fit'!D670>0,('Goodness of fit'!C670-'Goodness of fit'!D670)^2/'Goodness of fit'!D670,\"\")","v":""}]
[{"$f":"'Goodness of fit'!F$12/1000+A670","v":10.720000000000008},{"$error":"#NUM!"},{"$f":"IF(A671>='Goodness of fit'!$F$11,B671,0)","v":{"$error":"#NUM!"}},{"$error":"#NUM!"},{"$f":"IF('Goodness of fit'!D671>0,('Goodness of fit'!C671-'Goodness of fit'!D671)^2/'Goodness of fit'!D671,\"\")","v":""}]
[{"$f":"'Goodness of fit'!F$12/1000+A671","v":10.736000000000008},{"$error":"#NUM!"},{"$f":"IF(A672>='Goodness of fit'!$F$11,B672,0)","v":{"$error":"#NUM!"}},{"$error":"#NUM!"},{"$f":"IF('Goodness of fit'!D672>0,('Goodness of fit'!C672-'Goodness of fit'!D672)^2/'Goodness of fit'!D672,\"\")","v":""}]
[{"$f":"'Goodness of fit'!F$12/1000+A672","v":10.752000000000008},{"$error":"#NUM!"},{"$f":"IF(A673>='Goodness of fit'!$F$11,B673,0)","v":{"$error":"#NUM!"}},{"$error":"#NUM!"},{"$f":"IF('Goodness of fit'!D673>0,('Goodness of fit'!C673-'Goodness of fit'!D673)^2/'Goodness of fit'!D673,\"\")","v":""}]
[{"$f":"'Goodness of fit'!F$12/1000+A673","v":10.768000000000008},{"$error":"#NUM!"},{"$f":"IF(A674>='Goodness of fit'!$F$11,B674,0)","v":{"$error":"#NUM!"}},{"$error":"#NUM!"},{"$f":"IF('Goodness of fit'!D674>0,('Goodness of fit'!C674-'Goodness of fit'!D674)^2/'Goodness of fit'!D674,\"\")","v":""}]
[{"$f":"'Goodness of fit'!F$12/1000+A674","v":10.784000000000008},{"$error":"#NUM!"},{"$f":"IF(A675>='Goodness of fit'!$F$11,B675,0)","v":{"$error":"#NUM!"}},{"$error":"#NUM!"},{"$f":"IF('Goodness of fit'!D675>0,('Goodness of fit'!C675-'Goodness of fit'!D675)^2/'Goodness of fit'!D675,\"\")","v":""}]
[{"$f":"'Goodness of fit'!F$12/1000+A675","v":10.800000000000008},{"$error":"#NUM!"},{"$f":"IF(A676>='Goodness of fit'!$F$11,B676,0)","v":{"$error":"#NUM!"}},{"$error":"#NUM!"},{"$f":"IF('Goodness of fit'!D676>0,('Goodness of fit'!C676-'Goodness of fit'!D676)^2/'Goodness of fit'!D676,\"\")","v":""}]
[{"$f":"'Goodness of fit'!F$12/1000+A676","v":10.816000000000008},{"$error":"#NUM!"},{"$f":"IF(A677>='Goodness of fit'!$F$11,B677,0)","v":{"$error":"#NUM!"}},{"$error":"#NUM!"},{"$f":"IF('Goodness of fit'!D677>0,('Goodness of fit'!C677-'Goodness of fit'!D677)^2/'Goodness of fit'!D677,\"\")","v":""}]
[{"$f":"'Goodness of fit'!F$12/1000+A677","v":10.832000000000008},{"$error":"#NUM!"},{"$f":"IF(A678>='Goodness of fit'!$F$11,B678,0)","v":{"$error":"#NUM!"}},{"$error":"#NUM!"},{"$f":"IF('Goodness of fit'!D678>0,('Goodness of fit'!C678-'Goodness of fit'!D678)^2/'Goodness of fit'!D678,\"\")","v":""}]
[{"$f":"'Goodness of fit'!F$12/1000+A678","v":10.848000000000008},{"$error":"#NUM!"},{"$f":"IF(A679>='Goodness of fit'!$F$11,B679,0)","v":{"$error":"#NUM!"}},{"$error":"#NUM!"},{"$f":"IF('Goodness of fit'!D679>0,('Goodness of fit'!C679-'Goodness of fit'!D679)^2/'Goodness of fit'!D679,\"\")","v":""}]
[{"$f":"'Goodness of fit'!F$12/1000+A679","v":10.864000000000008},{"$error":"#NUM!"},{"$f":"IF(A680>='Goodness of fit'!$F$11,B680,0)","v":{"$error":"#NUM!"}},{"$error":"#NUM!"},{"$f":"IF('Goodness of fit'!D680>0,('Goodness of fit'!C680-'Goodness of fit'!D680)^2/'Goodness of fit'!D680,\"\")","v":""}]
[{"$f":"'Goodness of fit'!F$12/1000+A680","v":10.880000000000008},{"$error":"#NUM!"},{"$f":"IF(A681>='Goodness of fit'!$F$11,B681,0)","v":{"$error":"#NUM!"}},{"$error":"#NUM!"},{"$f":"IF('Goodness of fit'!D681>0,('Goodness of fit'!C681-'Goodness of fit'!D681)^2/'Goodness of fit'!D681,\"\")","v":""}]
[{"$f":"'Goodness of fit'!F$12/1000+A681","v":10.896000000000008},{"$error":"#NUM!"},{"$f":"IF(A682>='Goodness of fit'!$F$11,B682,0)","v":{"$error":"#NUM!"}},{"$error":"#NUM!"},{"$f":"IF('Goodness of fit'!D682>0,('Goodness of fit'!C682-'Goodness of fit'!D682)^2/'Goodness of fit'!D682,\"\")","v":""}]
[{"$f":"'Goodness of fit'!F$12/1000+A682","v":10.912000000000008},{"$error":"#NUM!"},{"$f":"IF(A683>='Goodness of fit'!$F$11,B683,0)","v":{"$error":"#NUM!"}},{"$error":"#NUM!"},{"$f":"IF('Goodness of fit'!D683>0,('Goodness of fit'!C683-'Goodness of fit'!D683)^2/'Goodness of fit'!D683,\"\")","v":""}]
[{"$f":"'Goodness of fit'!F$12/1000+A683","v":10.928000000000008},{"$error":"#NUM!"},{"$f":"IF(A684>='Goodness of fit'!$F$11,B684,0)","v":{"$error":"#NUM!"}},{"$error":"#NUM!"},{"$f":"IF('Goodness of fit'!D684>0,('Goodness of fit'!C684-'Goodness of fit'!D684)^2/'Goodness of fit'!D684,\"\")","v":""}]
[{"$f":"'Goodness of fit'!F$12/1000+A684","v":10.944000000000008},{"$error":"#NUM!"},{"$f":"IF(A685>='Goodness of fit'!$F$11,B685,0)","v":{"$error":"#NUM!"}},{"$error":"#NUM!"},{"$f":"IF('Goodness of fit'!D685>0,('Goodness of fit'!C685-'Goodness of fit'!D685)^2/'Goodness of fit'!D685,\"\")","v":""}]
[{"$f":"'Goodness of fit'!F$12/1000+A685","v":10.960000000000008},{"$error":"#NUM!"},{"$f":"IF(A686>='Goodness of fit'!$F$11,B686,0)","v":{"$error":"#NUM!"}},{"$error":"#NUM!"},{"$f":"IF('Goodness of fit'!D686>0,('Goodness of fit'!C686-'Goodness of fit'!D686)^2/'Goodness of fit'!D686,\"\")","v":""}]
[{"$f":"'Goodness of fit'!F$12/1000+A686","v":10.976000000000008},{"$error":"#NUM!"},{"$f":"IF(A687>='Goodness of fit'!$F$11,B687,0)","v":{"$error":"#NUM!"}},{"$error":"#NUM!"},{"$f":"IF('Goodness of fit'!D687>0,('Goodness of fit'!C687-'Goodness of fit'!D687)^2/'Goodness of fit'!D687,\"\")","v":""}]
[{"$f":"'Goodness of fit'!F$12/1000+A687","v":10.992000000000008},{"$error":"#NUM!"},{"$f":"IF(A688>='Goodness of fit'!$F$11,B688,0)","v":{"$error":"#NUM!"}},{"$error":"#NUM!"},{"$f":"IF('Goodness of fit'!D688>0,('Goodness of fit'!C688-'Goodness of fit'!D688)^2/'Goodness of fit'!D688,\"\")","v":""}]
[{"$f":"'Goodness of fit'!F$12/1000+A688","v":11.008000000000008},{"$error":"#NUM!"},{"$f":"IF(A689>='Goodness of fit'!$F$11,B689,0)","v":{"$error":"#NUM!"}},{"$error":"#NUM!"},{"$f":"IF('Goodness of fit'!D689>0,('Goodness of fit'!C689-'Goodness of fit'!D689)^2/'Goodness of fit'!D689,\"\")","v":""}]
[{"$f":"'Goodness of fit'!F$12/1000+A689","v":11.024000000000008},{"$error":"#NUM!"},{"$f":"IF(A690>='Goodness of fit'!$F$11,B690,0)","v":{"$error":"#NUM!"}},{"$error":"#NUM!"},{"$f":"IF('Goodness of fit'!D690>0,('Goodness of fit'!C690-'Goodness of fit'!D690)^2/'Goodness of fit'!D690,\"\")","v":""}]
[{"$f":"'Goodness of fit'!F$12/1000+A690","v":11.040000000000008},{"$error":"#NUM!"},{"$f":"IF(A691>='Goodness of fit'!$F$11,B691,0)","v":{"$error":"#NUM!"}},{"$error":"#NUM!"},{"$f":"IF('Goodness of fit'!D691>0,('Goodness of fit'!C691-'Goodness of fit'!D691)^2/'Goodness of fit'!D691,\"\")","v":""}]
[{"$f":"'Goodness of fit'!F$12/1000+A691","v":11.056000000000008},{"$error":"#NUM!"},{"$f":"IF(A692>='Goodness of fit'!$F$11,B692,0)","v":{"$error":"#NUM!"}},{"$error":"#NUM!"},{"$f":"IF('Goodness of fit'!D692>0,('Goodness of fit'!C692-'Goodness of fit'!D692)^2/'Goodness of fit'!D692,\"\")","v":""}]
[{"$f":"'Goodness of fit'!F$12/1000+A692","v":11.072000000000008},{"$error":"#NUM!"},{"$f":"IF(A693>='Goodness of fit'!$F$11,B693,0)","v":{"$error":"#NUM!"}},{"$error":"#NUM!"},{"$f":"IF('Goodness of fit'!D693>0,('Goodness of fit'!C693-'Goodness of fit'!D693)^2/'Goodness of fit'!D693,\"\")","v":""}]
[{"$f":"'Goodness of fit'!F$12/1000+A693","v":11.088000000000008},{"$error":"#NUM!"},{"$f":"IF(A694>='Goodness of fit'!$F$11,B694,0)","v":{"$error":"#NUM!"}},{"$error":"#NUM!"},{"$f":"IF('Goodness of fit'!D694>0,('Goodness of fit'!C694-'Goodness of fit'!D694)^2/'Goodness of fit'!D694,\"\")","v":""}]
[{"$f":"'Goodness of fit'!F$12/1000+A694","v":11.104000000000008},{"$error":"#NUM!"},{"$f":"IF(A695>='Goodness of fit'!$F$11,B695,0)","v":{"$error":"#NUM!"}},{"$error":"#NUM!"},{"$f":"IF('Goodness of fit'!D695>0,('Goodness of fit'!C695-'Goodness of fit'!D695)^2/'Goodness of fit'!D695,\"\")","v":""}]
[{"$f":"'Goodness of fit'!F$12/1000+A695","v":11.120000000000008},{"$error":"#NUM!"},{"$f":"IF(A696>='Goodness of fit'!$F$11,B696,0)","v":{"$error":"#NUM!"}},{"$error":"#NUM!"},{"$f":"IF('Goodness of fit'!D696>0,('Goodness of fit'!C696-'Goodness of fit'!D696)^2/'Goodness of fit'!D696,\"\")","v":""}]
[{"$f":"'Goodness of fit'!F$12/1000+A696","v":11.136000000000008},{"$error":"#NUM!"},{"$f":"IF(A697>='Goodness of fit'!$F$11,B697,0)","v":{"$error":"#NUM!"}},{"$error":"#NUM!"},{"$f":"IF('Goodness of fit'!D697>0,('Goodness of fit'!C697-'Goodness of fit'!D697)^2/'Goodness of fit'!D697,\"\")","v":""}]
[{"$f":"'Goodness of fit'!F$12/1000+A697","v":11.152000000000008},{"$error":"#NUM!"},{"$f":"IF(A698>='Goodness of fit'!$F$11,B698,0)","v":{"$error":"#NUM!"}},{"$error":"#NUM!"},{"$f":"IF('Goodness of fit'!D698>0,('Goodness of fit'!C698-'Goodness of fit'!D698)^2/'Goodness of fit'!D698,\"\")","v":""}]
[{"$f":"'Goodness of fit'!F$12/1000+A698","v":11.168000000000008},{"$error":"#NUM!"},{"$f":"IF(A699>='Goodness of fit'!$F$11,B699,0)","v":{"$error":"#NUM!"}},{"$error":"#NUM!"},{"$f":"IF('Goodness of fit'!D699>0,('Goodness of fit'!C699-'Goodness of fit'!D699)^2/'Goodness of fit'!D699,\"\")","v":""}]
[{"$f":"'Goodness of fit'!F$12/1000+A699","v":11.184000000000008},{"$error":"#NUM!"},{"$f":"IF(A700>='Goodness of fit'!$F$11,B700,0)","v":{"$error":"#NUM!"}},{"$error":"#NUM!"},{"$f":"IF('Goodness of fit'!D700>0,('Goodness of fit'!C700-'Goodness of fit'!D700)^2/'Goodness of fit'!D700,\"\")","v":""}]
[{"$f":"'Goodness of fit'!F$12/1000+A700","v":11.200000000000008},{"$error":"#NUM!"},{"$f":"IF(A701>='Goodness of fit'!$F$11,B701,0)","v":{"$error":"#NUM!"}},{"$error":"#NUM!"},{"$f":"IF('Goodness of fit'!D701>0,('Goodness of fit'!C701-'Goodness of fit'!D701)^2/'Goodness of fit'!D701,\"\")","v":""}]
[{"$f":"'Goodness of fit'!F$12/1000+A701","v":11.216000000000008},{"$error":"#NUM!"},{"$f":"IF(A702>='Goodness of fit'!$F$11,B702,0)","v":{"$error":"#NUM!"}},{"$error":"#NUM!"},{"$f":"IF('Goodness of fit'!D702>0,('Goodness of fit'!C702-'Goodness of fit'!D702)^2/'Goodness of fit'!D702,\"\")","v":""}]
[{"$f":"'Goodness of fit'!F$12/1000+A702","v":11.232000000000008},{"$error":"#NUM!"},{"$f":"IF(A703>='Goodness of fit'!$F$11,B703,0)","v":{"$error":"#NUM!"}},{"$error":"#NUM!"},{"$f":"IF('Goodness of fit'!D703>0,('Goodness of fit'!C703-'Goodness of fit'!D703)^2/'Goodness of fit'!D703,\"\")","v":""}]
[{"$f":"'Goodness of fit'!F$12/1000+A703","v":11.248000000000008},{"$error":"#NUM!"},{"$f":"IF(A704>='Goodness of fit'!$F$11,B704,0)","v":{"$error":"#NUM!"}},{"$error":"#NUM!"},{"$f":"IF('Goodness of fit'!D704>0,('Goodness of fit'!C704-'Goodness of fit'!D704)^2/'Goodness of fit'!D704,\"\")","v":""}]
[{"$f":"'Goodness of fit'!F$12/1000+A704","v":11.264000000000008},{"$error":"#NUM!"},{"$f":"IF(A705>='Goodness of fit'!$F$11,B705,0)","v":{"$error":"#NUM!"}},{"$error":"#NUM!"},{"$f":"IF('Goodness of fit'!D705>0,('Goodness of fit'!C705-'Goodness of fit'!D705)^2/'Goodness of fit'!D705,\"\")","v":""}]
[{"$f":"'Goodness of fit'!F$12/1000+A705","v":11.280000000000008},{"$error":"#NUM!"},{"$f":"IF(A706>='Goodness of fit'!$F$11,B706,0)","v":{"$error":"#NUM!"}},{"$f":"CHIDIST(A706,F$1)","v":{"$error":"#NUM!"}},{"$f":"IF('Goodness of fit'!D706>0,('Goodness of fit'!C706-'Goodness of fit'!D706)^2/'Goodness of fit'!D706,\"\")","v":""}]
[{"$f":"'Goodness of fit'!F$12/1000+A706","v":11.296000000000008},{"$f":"_xlfn.CHISQ.DIST(A707,F$1,FALSE)","v":{"$error":"#NUM!"}},{"$f":"IF(A707>='Goodness of fit'!$F$11,B707,0)","v":{"$error":"#NUM!"}},{"$error":"#NUM!"},{"$f":"IF('Goodness of fit'!D707>0,('Goodness of fit'!C707-'Goodness of fit'!D707)^2/'Goodness of fit'!D707,\"\")","v":""}]
[{"$f":"'Goodness of fit'!F$12/1000+A707","v":11.312000000000008},{"$error":"#NUM!"},{"$f":"IF(A708>='Goodness of fit'!$F$11,B708,0)","v":{"$error":"#NUM!"}},{"$error":"#NUM!"},{"$f":"IF('Goodness of fit'!D708>0,('Goodness of fit'!C708-'Goodness of fit'!D708)^2/'Goodness of fit'!D708,\"\")","v":""}]
[{"$f":"'Goodness of fit'!F$12/1000+A708","v":11.328000000000008},{"$error":"#NUM!"},{"$f":"IF(A709>='Goodness of fit'!$F$11,B709,0)","v":{"$error":"#NUM!"}},{"$error":"#NUM!"},{"$f":"IF('Goodness of fit'!D709>0,('Goodness of fit'!C709-'Goodness of fit'!D709)^2/'Goodness of fit'!D709,\"\")","v":""}]
[{"$f":"'Goodness of fit'!F$12/1000+A709","v":11.344000000000008},{"$error":"#NUM!"},{"$f":"IF(A710>='Goodness of fit'!$F$11,B710,0)","v":{"$error":"#NUM!"}},{"$error":"#NUM!"},{"$f":"IF('Goodness of fit'!D710>0,('Goodness of fit'!C710-'Goodness of fit'!D710)^2/'Goodness of fit'!D710,\"\")","v":""}]
[{"$f":"'Goodness of fit'!F$12/1000+A710","v":11.360000000000008},{"$error":"#NUM!"},{"$f":"IF(A711>='Goodness of fit'!$F$11,B711,0)","v":{"$error":"#NUM!"}},{"$error":"#NUM!"},{"$f":"IF('Goodness of fit'!D711>0,('Goodness of fit'!C711-'Goodness of fit'!D711)^2/'Goodness of fit'!D711,\"\")","v":""}]
[{"$f":"'Goodness of fit'!F$12/1000+A711","v":11.376000000000008},{"$error":"#NUM!"},{"$f":"IF(A712>='Goodness of fit'!$F$11,B712,0)","v":{"$error":"#NUM!"}},{"$error":"#NUM!"},{"$f":"IF('Goodness of fit'!D712>0,('Goodness of fit'!C712-'Goodness of fit'!D712)^2/'Goodness of fit'!D712,\"\")","v":""}]
[{"$f":"'Goodness of fit'!F$12/1000+A712","v":11.392000000000008},{"$error":"#NUM!"},{"$f":"IF(A713>='Goodness of fit'!$F$11,B713,0)","v":{"$error":"#NUM!"}},{"$error":"#NUM!"},{"$f":"IF('Goodness of fit'!D713>0,('Goodness of fit'!C713-'Goodness of fit'!D713)^2/'Goodness of fit'!D713,\"\")","v":""}]
[{"$f":"'Goodness of fit'!F$12/1000+A713","v":11.408000000000008},{"$error":"#NUM!"},{"$f":"IF(A714>='Goodness of fit'!$F$11,B714,0)","v":{"$error":"#NUM!"}},{"$error":"#NUM!"},{"$f":"IF('Goodness of fit'!D714>0,('Goodness of fit'!C714-'Goodness of fit'!D714)^2/'Goodness of fit'!D714,\"\")","v":""}]
[{"$f":"'Goodness of fit'!F$12/1000+A714","v":11.424000000000008},{"$error":"#NUM!"},{"$f":"IF(A715>='Goodness of fit'!$F$11,B715,0)","v":{"$error":"#NUM!"}},{"$error":"#NUM!"},{"$f":"IF('Goodness of fit'!D715>0,('Goodness of fit'!C715-'Goodness of fit'!D715)^2/'Goodness of fit'!D715,\"\")","v":""}]
[{"$f":"'Goodness of fit'!F$12/1000+A715","v":11.440000000000008},{"$error":"#NUM!"},{"$f":"IF(A716>='Goodness of fit'!$F$11,B716,0)","v":{"$error":"#NUM!"}},{"$error":"#NUM!"},{"$f":"IF('Goodness of fit'!D716>0,('Goodness of fit'!C716-'Goodness of fit'!D716)^2/'Goodness of fit'!D716,\"\")","v":""}]
[{"$f":"'Goodness of fit'!F$12/1000+A716","v":11.456000000000008},{"$error":"#NUM!"},{"$f":"IF(A717>='Goodness of fit'!$F$11,B717,0)","v":{"$error":"#NUM!"}},{"$error":"#NUM!"},{"$f":"IF('Goodness of fit'!D717>0,('Goodness of fit'!C717-'Goodness of fit'!D717)^2/'Goodness of fit'!D717,\"\")","v":""}]
[{"$f":"'Goodness of fit'!F$12/1000+A717","v":11.472000000000008},{"$error":"#NUM!"},{"$f":"IF(A718>='Goodness of fit'!$F$11,B718,0)","v":{"$error":"#NUM!"}},{"$error":"#NUM!"},{"$f":"IF('Goodness of fit'!D718>0,('Goodness of fit'!C718-'Goodness of fit'!D718)^2/'Goodness of fit'!D718,\"\")","v":""}]
[{"$f":"'Goodness of fit'!F$12/1000+A718","v":11.488000000000008},{"$error":"#NUM!"},{"$f":"IF(A719>='Goodness of fit'!$F$11,B719,0)","v":{"$error":"#NUM!"}},{"$error":"#NUM!"},{"$f":"IF('Goodness of fit'!D719>0,('Goodness of fit'!C719-'Goodness of fit'!D719)^2/'Goodness of fit'!D719,\"\")","v":""}]
[{"$f":"'Goodness of fit'!F$12/1000+A719","v":11.504000000000008},{"$error":"#NUM!"},{"$f":"IF(A720>='Goodness of fit'!$F$11,B720,0)","v":{"$error":"#NUM!"}},{"$error":"#NUM!"},{"$f":"IF('Goodness of fit'!D720>0,('Goodness of fit'!C720-'Goodness of fit'!D720)^2/'Goodness of fit'!D720,\"\")","v":""}]
[{"$f":"'Goodness of fit'!F$12/1000+A720","v":11.520000000000008},{"$error":"#NUM!"},{"$f":"IF(A721>='Goodness of fit'!$F$11,B721,0)","v":{"$error":"#NUM!"}},{"$error":"#NUM!"},{"$f":"IF('Goodness of fit'!D721>0,('Goodness of fit'!C721-'Goodness of fit'!D721)^2/'Goodness of fit'!D721,\"\")","v":""}]
[{"$f":"'Goodness of fit'!F$12/1000+A721","v":11.536000000000008},{"$error":"#NUM!"},{"$f":"IF(A722>='Goodness of fit'!$F$11,B722,0)","v":{"$error":"#NUM!"}},{"$error":"#NUM!"},{"$f":"IF('Goodness of fit'!D722>0,('Goodness of fit'!C722-'Goodness of fit'!D722)^2/'Goodness of fit'!D722,\"\")","v":""}]
[{"$f":"'Goodness of fit'!F$12/1000+A722","v":11.552000000000008},{"$error":"#NUM!"},{"$f":"IF(A723>='Goodness of fit'!$F$11,B723,0)","v":{"$error":"#NUM!"}},{"$error":"#NUM!"},{"$f":"IF('Goodness of fit'!D723>0,('Goodness of fit'!C723-'Goodness of fit'!D723)^2/'Goodness of fit'!D723,\"\")","v":""}]
[{"$f":"'Goodness of fit'!F$12/1000+A723","v":11.568000000000008},{"$error":"#NUM!"},{"$f":"IF(A724>='Goodness of fit'!$F$11,B724,0)","v":{"$error":"#NUM!"}},{"$error":"#NUM!"},{"$f":"IF('Goodness of fit'!D724>0,('Goodness of fit'!C724-'Goodness of fit'!D724)^2/'Goodness of fit'!D724,\"\")","v":""}]
[{"$f":"'Goodness of fit'!F$12/1000+A724","v":11.584000000000009},{"$error":"#NUM!"},{"$f":"IF(A725>='Goodness of fit'!$F$11,B725,0)","v":{"$error":"#NUM!"}},{"$error":"#NUM!"},{"$f":"IF('Goodness of fit'!D725>0,('Goodness of fit'!C725-'Goodness of fit'!D725)^2/'Goodness of fit'!D725,\"\")","v":""}]
[{"$f":"'Goodness of fit'!F$12/1000+A725","v":11.600000000000009},{"$error":"#NUM!"},{"$f":"IF(A726>='Goodness of fit'!$F$11,B726,0)","v":{"$error":"#NUM!"}},{"$error":"#NUM!"},{"$f":"IF('Goodness of fit'!D726>0,('Goodness of fit'!C726-'Goodness of fit'!D726)^2/'Goodness of fit'!D726,\"\")","v":""}]
[{"$f":"'Goodness of fit'!F$12/1000+A726","v":11.616000000000009},{"$error":"#NUM!"},{"$f":"IF(A727>='Goodness of fit'!$F$11,B727,0)","v":{"$error":"#NUM!"}},{"$error":"#NUM!"},{"$f":"IF('Goodness of fit'!D727>0,('Goodness of fit'!C727-'Goodness of fit'!D727)^2/'Goodness of fit'!D727,\"\")","v":""}]
[{"$f":"'Goodness of fit'!F$12/1000+A727","v":11.632000000000009},{"$error":"#NUM!"},{"$f":"IF(A728>='Goodness of fit'!$F$11,B728,0)","v":{"$error":"#NUM!"}},{"$error":"#NUM!"},{"$f":"IF('Goodness of fit'!D728>0,('Goodness of fit'!C728-'Goodness of fit'!D728)^2/'Goodness of fit'!D728,\"\")","v":""}]
[{"$f":"'Goodness of fit'!F$12/1000+A728","v":11.648000000000009},{"$error":"#NUM!"},{"$f":"IF(A729>='Goodness of fit'!$F$11,B729,0)","v":{"$error":"#NUM!"}},{"$error":"#NUM!"},{"$f":"IF('Goodness of fit'!D729>0,('Goodness of fit'!C729-'Goodness of fit'!D729)^2/'Goodness of fit'!D729,\"\")","v":""}]
[{"$f":"'Goodness of fit'!F$12/1000+A729","v":11.664000000000009},{"$error":"#NUM!"},{"$f":"IF(A730>='Goodness of fit'!$F$11,B730,0)","v":{"$error":"#NUM!"}},{"$error":"#NUM!"},{"$f":"IF('Goodness of fit'!D730>0,('Goodness of fit'!C730-'Goodness of fit'!D730)^2/'Goodness of fit'!D730,\"\")","v":""}]
[{"$f":"'Goodness of fit'!F$12/1000+A730","v":11.680000000000009},{"$error":"#NUM!"},{"$f":"IF(A731>='Goodness of fit'!$F$11,B731,0)","v":{"$error":"#NUM!"}},{"$error":"#NUM!"},{"$f":"IF('Goodness of fit'!D731>0,('Goodness of fit'!C731-'Goodness of fit'!D731)^2/'Goodness of fit'!D731,\"\")","v":""}]
[{"$f":"'Goodness of fit'!F$12/1000+A731","v":11.696000000000009},{"$error":"#NUM!"},{"$f":"IF(A732>='Goodness of fit'!$F$11,B732,0)","v":{"$error":"#NUM!"}},{"$error":"#NUM!"},{"$f":"IF('Goodness of fit'!D732>0,('Goodness of fit'!C732-'Goodness of fit'!D732)^2/'Goodness of fit'!D732,\"\")","v":""}]
[{"$f":"'Goodness of fit'!F$12/1000+A732","v":11.712000000000009},{"$error":"#NUM!"},{"$f":"IF(A733>='Goodness of fit'!$F$11,B733,0)","v":{"$error":"#NUM!"}},{"$error":"#NUM!"},{"$f":"IF('Goodness of fit'!D733>0,('Goodness of fit'!C733-'Goodness of fit'!D733)^2/'Goodness of fit'!D733,\"\")","v":""}]
[{"$f":"'Goodness of fit'!F$12/1000+A733","v":11.728000000000009},{"$error":"#NUM!"},{"$f":"IF(A734>='Goodness of fit'!$F$11,B734,0)","v":{"$error":"#NUM!"}},{"$error":"#NUM!"},{"$f":"IF('Goodness of fit'!D734>0,('Goodness of fit'!C734-'Goodness of fit'!D734)^2/'Goodness of fit'!D734,\"\")","v":""}]
[{"$f":"'Goodness of fit'!F$12/1000+A734","v":11.744000000000009},{"$error":"#NUM!"},{"$f":"IF(A735>='Goodness of fit'!$F$11,B735,0)","v":{"$error":"#NUM!"}},{"$error":"#NUM!"},{"$f":"IF('Goodness of fit'!D735>0,('Goodness of fit'!C735-'Goodness of fit'!D735)^2/'Goodness of fit'!D735,\"\")","v":""}]
[{"$f":"'Goodness of fit'!F$12/1000+A735","v":11.760000000000009},{"$error":"#NUM!"},{"$f":"IF(A736>='Goodness of fit'!$F$11,B736,0)","v":{"$error":"#NUM!"}},{"$error":"#NUM!"},{"$f":"IF('Goodness of fit'!D736>0,('Goodness of fit'!C736-'Goodness of fit'!D736)^2/'Goodness of fit'!D736,\"\")","v":""}]
[{"$f":"'Goodness of fit'!F$12/1000+A736","v":11.776000000000009},{"$error":"#NUM!"},{"$f":"IF(A737>='Goodness of fit'!$F$11,B737,0)","v":{"$error":"#NUM!"}},{"$error":"#NUM!"},{"$f":"IF('Goodness of fit'!D737>0,('Goodness of fit'!C737-'Goodness of fit'!D737)^2/'Goodness of fit'!D737,\"\")","v":""}]
[{"$f":"'Goodness of fit'!F$12/1000+A737","v":11.792000000000009},{"$error":"#NUM!"},{"$f":"IF(A738>='Goodness of fit'!$F$11,B738,0)","v":{"$error":"#NUM!"}},{"$error":"#NUM!"},{"$f":"IF('Goodness of fit'!D738>0,('Goodness of fit'!C738-'Goodness of fit'!D738)^2/'Goodness of fit'!D738,\"\")","v":""}]
[{"$f":"'Goodness of fit'!F$12/1000+A738","v":11.808000000000009},{"$error":"#NUM!"},{"$f":"IF(A739>='Goodness of fit'!$F$11,B739,0)","v":{"$error":"#NUM!"}},{"$error":"#NUM!"},{"$f":"IF('Goodness of fit'!D739>0,('Goodness of fit'!C739-'Goodness of fit'!D739)^2/'Goodness of fit'!D739,\"\")","v":""}]
[{"$f":"'Goodness of fit'!F$12/1000+A739","v":11.824000000000009},{"$error":"#NUM!"},{"$f":"IF(A740>='Goodness of fit'!$F$11,B740,0)","v":{"$error":"#NUM!"}},{"$error":"#NUM!"},{"$f":"IF('Goodness of fit'!D740>0,('Goodness of fit'!C740-'Goodness of fit'!D740)^2/'Goodness of fit'!D740,\"\")","v":""}]
[{"$f":"'Goodness of fit'!F$12/1000+A740","v":11.840000000000009},{"$error":"#NUM!"},{"$f":"IF(A741>='Goodness of fit'!$F$11,B741,0)","v":{"$error":"#NUM!"}},{"$error":"#NUM!"},{"$f":"IF('Goodness of fit'!D741>0,('Goodness of fit'!C741-'Goodness of fit'!D741)^2/'Goodness of fit'!D741,\"\")","v":""}]
[{"$f":"'Goodness of fit'!F$12/1000+A741","v":11.856000000000009},{"$error":"#NUM!"},{"$f":"IF(A742>='Goodness of fit'!$F$11,B742,0)","v":{"$error":"#NUM!"}},{"$error":"#NUM!"},{"$f":"IF('Goodness of fit'!D742>0,('Goodness of fit'!C742-'Goodness of fit'!D742)^2/'Goodness of fit'!D742,\"\")","v":""}]
[{"$f":"'Goodness of fit'!F$12/1000+A742","v":11.872000000000009},{"$error":"#NUM!"},{"$f":"IF(A743>='Goodness of fit'!$F$11,B743,0)","v":{"$error":"#NUM!"}},{"$error":"#NUM!"},{"$f":"IF('Goodness of fit'!D743>0,('Goodness of fit'!C743-'Goodness of fit'!D743)^2/'Goodness of fit'!D743,\"\")","v":""}]
[{"$f":"'Goodness of fit'!F$12/1000+A743","v":11.888000000000009},{"$error":"#NUM!"},{"$f":"IF(A744>='Goodness of fit'!$F$11,B744,0)","v":{"$error":"#NUM!"}},{"$error":"#NUM!"},{"$f":"IF('Goodness of fit'!D744>0,('Goodness of fit'!C744-'Goodness of fit'!D744)^2/'Goodness of fit'!D744,\"\")","v":""}]
[{"$f":"'Goodness of fit'!F$12/1000+A744","v":11.904000000000009},{"$error":"#NUM!"},{"$f":"IF(A745>='Goodness of fit'!$F$11,B745,0)","v":{"$error":"#NUM!"}},{"$error":"#NUM!"},{"$f":"IF('Goodness of fit'!D745>0,('Goodness of fit'!C745-'Goodness of fit'!D745)^2/'Goodness of fit'!D745,\"\")","v":""}]
[{"$f":"'Goodness of fit'!F$12/1000+A745","v":11.920000000000009},{"$error":"#NUM!"},{"$f":"IF(A746>='Goodness of fit'!$F$11,B746,0)","v":{"$error":"#NUM!"}},{"$error":"#NUM!"},{"$f":"IF('Goodness of fit'!D746>0,('Goodness of fit'!C746-'Goodness of fit'!D746)^2/'Goodness of fit'!D746,\"\")","v":""}]
[{"$f":"'Goodness of fit'!F$12/1000+A746","v":11.936000000000009},{"$error":"#NUM!"},{"$f":"IF(A747>='Goodness of fit'!$F$11,B747,0)","v":{"$error":"#NUM!"}},{"$error":"#NUM!"},{"$f":"IF('Goodness of fit'!D747>0,('Goodness of fit'!C747-'Goodness of fit'!D747)^2/'Goodness of fit'!D747,\"\")","v":""}]
[{"$f":"'Goodness of fit'!F$12/1000+A747","v":11.952000000000009},{"$error":"#NUM!"},{"$f":"IF(A748>='Goodness of fit'!$F$11,B748,0)","v":{"$error":"#NUM!"}},{"$error":"#NUM!"},{"$f":"IF('Goodness of fit'!D748>0,('Goodness of fit'!C748-'Goodness of fit'!D748)^2/'Goodness of fit'!D748,\"\")","v":""}]
[{"$f":"'Goodness of fit'!F$12/1000+A748","v":11.968000000000009},{"$error":"#NUM!"},{"$f":"IF(A749>='Goodness of fit'!$F$11,B749,0)","v":{"$error":"#NUM!"}},{"$error":"#NUM!"},{"$f":"IF('Goodness of fit'!D749>0,('Goodness of fit'!C749-'Goodness of fit'!D749)^2/'Goodness of fit'!D749,\"\")","v":""}]
[{"$f":"'Goodness of fit'!F$12/1000+A749","v":11.984000000000009},{"$error":"#NUM!"},{"$f":"IF(A750>='Goodness of fit'!$F$11,B750,0)","v":{"$error":"#NUM!"}},{"$error":"#NUM!"},{"$f":"IF('Goodness of fit'!D750>0,('Goodness of fit'!C750-'Goodness of fit'!D750)^2/'Goodness of fit'!D750,\"\")","v":""}]
[{"$f":"'Goodness of fit'!F$12/1000+A750","v":12.000000000000009},{"$error":"#NUM!"},{"$f":"IF(A751>='Goodness of fit'!$F$11,B751,0)","v":{"$error":"#NUM!"}},{"$error":"#NUM!"},{"$f":"IF('Goodness of fit'!D751>0,('Goodness of fit'!C751-'Goodness of fit'!D751)^2/'Goodness of fit'!D751,\"\")","v":""}]
[{"$f":"'Goodness of fit'!F$12/1000+A751","v":12.016000000000009},{"$error":"#NUM!"},{"$f":"IF(A752>='Goodness of fit'!$F$11,B752,0)","v":{"$error":"#NUM!"}},{"$error":"#NUM!"},{"$f":"IF('Goodness of fit'!D752>0,('Goodness of fit'!C752-'Goodness of fit'!D752)^2/'Goodness of fit'!D752,\"\")","v":""}]
[{"$f":"'Goodness of fit'!F$12/1000+A752","v":12.032000000000009},{"$error":"#NUM!"},{"$f":"IF(A753>='Goodness of fit'!$F$11,B753,0)","v":{"$error":"#NUM!"}},{"$error":"#NUM!"},{"$f":"IF('Goodness of fit'!D753>0,('Goodness of fit'!C753-'Goodness of fit'!D753)^2/'Goodness of fit'!D753,\"\")","v":""}]
[{"$f":"'Goodness of fit'!F$12/1000+A753","v":12.048000000000009},{"$error":"#NUM!"},{"$f":"IF(A754>='Goodness of fit'!$F$11,B754,0)","v":{"$error":"#NUM!"}},{"$error":"#NUM!"},{"$f":"IF('Goodness of fit'!D754>0,('Goodness of fit'!C754-'Goodness of fit'!D754)^2/'Goodness of fit'!D754,\"\")","v":""}]
[{"$f":"'Goodness of fit'!F$12/1000+A754","v":12.064000000000009},{"$error":"#NUM!"},{"$f":"IF(A755>='Goodness of fit'!$F$11,B755,0)","v":{"$error":"#NUM!"}},{"$error":"#NUM!"},{"$f":"IF('Goodness of fit'!D755>0,('Goodness of fit'!C755-'Goodness of fit'!D755)^2/'Goodness of fit'!D755,\"\")","v":""}]
[{"$f":"'Goodness of fit'!F$12/1000+A755","v":12.080000000000009},{"$error":"#NUM!"},{"$f":"IF(A756>='Goodness of fit'!$F$11,B756,0)","v":{"$error":"#NUM!"}},{"$error":"#NUM!"},{"$f":"IF('Goodness of fit'!D756>0,('Goodness of fit'!C756-'Goodness of fit'!D756)^2/'Goodness of fit'!D756,\"\")","v":""}]
[{"$f":"'Goodness of fit'!F$12/1000+A756","v":12.096000000000009},{"$error":"#NUM!"},{"$f":"IF(A757>='Goodness of fit'!$F$11,B757,0)","v":{"$error":"#NUM!"}},{"$error":"#NUM!"},{"$f":"IF('Goodness of fit'!D757>0,('Goodness of fit'!C757-'Goodness of fit'!D757)^2/'Goodness of fit'!D757,\"\")","v":""}]
[{"$f":"'Goodness of fit'!F$12/1000+A757","v":12.112000000000009},{"$error":"#NUM!"},{"$f":"IF(A758>='Goodness of fit'!$F$11,B758,0)","v":{"$error":"#NUM!"}},{"$error":"#NUM!"},{"$f":"IF('Goodness of fit'!D758>0,('Goodness of fit'!C758-'Goodness of fit'!D758)^2/'Goodness of fit'!D758,\"\")","v":""}]
[{"$f":"'Goodness of fit'!F$12/1000+A758","v":12.128000000000009},{"$error":"#NUM!"},{"$f":"IF(A759>='Goodness of fit'!$F$11,B759,0)","v":{"$error":"#NUM!"}},{"$error":"#NUM!"},{"$f":"IF('Goodness of fit'!D759>0,('Goodness of fit'!C759-'Goodness of fit'!D759)^2/'Goodness of fit'!D759,\"\")","v":""}]
[{"$f":"'Goodness of fit'!F$12/1000+A759","v":12.144000000000009},{"$error":"#NUM!"},{"$f":"IF(A760>='Goodness of fit'!$F$11,B760,0)","v":{"$error":"#NUM!"}},{"$error":"#NUM!"},{"$f":"IF('Goodness of fit'!D760>0,('Goodness of fit'!C760-'Goodness of fit'!D760)^2/'Goodness of fit'!D760,\"\")","v":""}]
[{"$f":"'Goodness of fit'!F$12/1000+A760","v":12.160000000000009},{"$error":"#NUM!"},{"$f":"IF(A761>='Goodness of fit'!$F$11,B761,0)","v":{"$error":"#NUM!"}},{"$error":"#NUM!"},{"$f":"IF('Goodness of fit'!D761>0,('Goodness of fit'!C761-'Goodness of fit'!D761)^2/'Goodness of fit'!D761,\"\")","v":""}]
[{"$f":"'Goodness of fit'!F$12/1000+A761","v":12.176000000000009},{"$error":"#NUM!"},{"$f":"IF(A762>='Goodness of fit'!$F$11,B762,0)","v":{"$error":"#NUM!"}},{"$error":"#NUM!"},{"$f":"IF('Goodness of fit'!D762>0,('Goodness of fit'!C762-'Goodness of fit'!D762)^2/'Goodness of fit'!D762,\"\")","v":""}]
[{"$f":"'Goodness of fit'!F$12/1000+A762","v":12.192000000000009},{"$error":"#NUM!"},{"$f":"IF(A763>='Goodness of fit'!$F$11,B763,0)","v":{"$error":"#NUM!"}},{"$error":"#NUM!"},{"$f":"IF('Goodness of fit'!D763>0,('Goodness of fit'!C763-'Goodness of fit'!D763)^2/'Goodness of fit'!D763,\"\")","v":""}]
[{"$f":"'Goodness of fit'!F$12/1000+A763","v":12.208000000000009},{"$error":"#NUM!"},{"$f":"IF(A764>='Goodness of fit'!$F$11,B764,0)","v":{"$error":"#NUM!"}},{"$error":"#NUM!"},{"$f":"IF('Goodness of fit'!D764>0,('Goodness of fit'!C764-'Goodness of fit'!D764)^2/'Goodness of fit'!D764,\"\")","v":""}]
[{"$f":"'Goodness of fit'!F$12/1000+A764","v":12.224000000000009},{"$error":"#NUM!"},{"$f":"IF(A765>='Goodness of fit'!$F$11,B765,0)","v":{"$error":"#NUM!"}},{"$error":"#NUM!"},{"$f":"IF('Goodness of fit'!D765>0,('Goodness of fit'!C765-'Goodness of fit'!D765)^2/'Goodness of fit'!D765,\"\")","v":""}]
[{"$f":"'Goodness of fit'!F$12/1000+A765","v":12.240000000000009},{"$error":"#NUM!"},{"$f":"IF(A766>='Goodness of fit'!$F$11,B766,0)","v":{"$error":"#NUM!"}},{"$error":"#NUM!"},{"$f":"IF('Goodness of fit'!D766>0,('Goodness of fit'!C766-'Goodness of fit'!D766)^2/'Goodness of fit'!D766,\"\")","v":""}]
[{"$f":"'Goodness of fit'!F$12/1000+A766","v":12.256000000000009},{"$error":"#NUM!"},{"$f":"IF(A767>='Goodness of fit'!$F$11,B767,0)","v":{"$error":"#NUM!"}},{"$error":"#NUM!"},{"$f":"IF('Goodness of fit'!D767>0,('Goodness of fit'!C767-'Goodness of fit'!D767)^2/'Goodness of fit'!D767,\"\")","v":""}]
[{"$f":"'Goodness of fit'!F$12/1000+A767","v":12.272000000000009},{"$error":"#NUM!"},{"$f":"IF(A768>='Goodness of fit'!$F$11,B768,0)","v":{"$error":"#NUM!"}},{"$error":"#NUM!"},{"$f":"IF('Goodness of fit'!D768>0,('Goodness of fit'!C768-'Goodness of fit'!D768)^2/'Goodness of fit'!D768,\"\")","v":""}]
[{"$f":"'Goodness of fit'!F$12/1000+A768","v":12.288000000000009},{"$error":"#NUM!"},{"$f":"IF(A769>='Goodness of fit'!$F$11,B769,0)","v":{"$error":"#NUM!"}},{"$error":"#NUM!"},{"$f":"IF('Goodness of fit'!D769>0,('Goodness of fit'!C769-'Goodness of fit'!D769)^2/'Goodness of fit'!D769,\"\")","v":""}]
[{"$f":"'Goodness of fit'!F$12/1000+A769","v":12.304000000000009},{"$error":"#NUM!"},{"$f":"IF(A770>='Goodness of fit'!$F$11,B770,0)","v":{"$error":"#NUM!"}},{"$f":"CHIDIST(A770,F$1)","v":{"$error":"#NUM!"}},{"$f":"IF('Goodness of fit'!D770>0,('Goodness of fit'!C770-'Goodness of fit'!D770)^2/'Goodness of fit'!D770,\"\")","v":""}]
[{"$f":"'Goodness of fit'!F$12/1000+A770","v":12.320000000000009},{"$f":"_xlfn.CHISQ.DIST(A771,F$1,FALSE)","v":{"$error":"#NUM!"}},{"$f":"IF(A771>='Goodness of fit'!$F$11,B771,0)","v":{"$error":"#NUM!"}},{"$error":"#NUM!"},{"$f":"IF('Goodness of fit'!D771>0,('Goodness of fit'!C771-'Goodness of fit'!D771)^2/'Goodness of fit'!D771,\"\")","v":""}]
[{"$f":"'Goodness of fit'!F$12/1000+A771","v":12.336000000000009},{"$error":"#NUM!"},{"$f":"IF(A772>='Goodness of fit'!$F$11,B772,0)","v":{"$error":"#NUM!"}},{"$error":"#NUM!"},{"$f":"IF('Goodness of fit'!D772>0,('Goodness of fit'!C772-'Goodness of fit'!D772)^2/'Goodness of fit'!D772,\"\")","v":""}]
[{"$f":"'Goodness of fit'!F$12/1000+A772","v":12.352000000000009},{"$error":"#NUM!"},{"$f":"IF(A773>='Goodness of fit'!$F$11,B773,0)","v":{"$error":"#NUM!"}},{"$error":"#NUM!"},{"$f":"IF('Goodness of fit'!D773>0,('Goodness of fit'!C773-'Goodness of fit'!D773)^2/'Goodness of fit'!D773,\"\")","v":""}]
[{"$f":"'Goodness of fit'!F$12/1000+A773","v":12.368000000000009},{"$error":"#NUM!"},{"$f":"IF(A774>='Goodness of fit'!$F$11,B774,0)","v":{"$error":"#NUM!"}},{"$error":"#NUM!"},{"$f":"IF('Goodness of fit'!D774>0,('Goodness of fit'!C774-'Goodness of fit'!D774)^2/'Goodness of fit'!D774,\"\")","v":""}]
[{"$f":"'Goodness of fit'!F$12/1000+A774","v":12.384000000000009},{"$error":"#NUM!"},{"$f":"IF(A775>='Goodness of fit'!$F$11,B775,0)","v":{"$error":"#NUM!"}},{"$error":"#NUM!"},{"$f":"IF('Goodness of fit'!D775>0,('Goodness of fit'!C775-'Goodness of fit'!D775)^2/'Goodness of fit'!D775,\"\")","v":""}]
[{"$f":"'Goodness of fit'!F$12/1000+A775","v":12.400000000000009},{"$error":"#NUM!"},{"$f":"IF(A776>='Goodness of fit'!$F$11,B776,0)","v":{"$error":"#NUM!"}},{"$error":"#NUM!"},{"$f":"IF('Goodness of fit'!D776>0,('Goodness of fit'!C776-'Goodness of fit'!D776)^2/'Goodness of fit'!D776,\"\")","v":""}]
[{"$f":"'Goodness of fit'!F$12/1000+A776","v":12.416000000000009},{"$error":"#NUM!"},{"$f":"IF(A777>='Goodness of fit'!$F$11,B777,0)","v":{"$error":"#NUM!"}},{"$error":"#NUM!"},{"$f":"IF('Goodness of fit'!D777>0,('Goodness of fit'!C777-'Goodness of fit'!D777)^2/'Goodness of fit'!D777,\"\")","v":""}]
[{"$f":"'Goodness of fit'!F$12/1000+A777","v":12.432000000000009},{"$error":"#NUM!"},{"$f":"IF(A778>='Goodness of fit'!$F$11,B778,0)","v":{"$error":"#NUM!"}},{"$error":"#NUM!"},{"$f":"IF('Goodness of fit'!D778>0,('Goodness of fit'!C778-'Goodness of fit'!D778)^2/'Goodness of fit'!D778,\"\")","v":""}]
[{"$f":"'Goodness of fit'!F$12/1000+A778","v":12.448000000000009},{"$error":"#NUM!"},{"$f":"IF(A779>='Goodness of fit'!$F$11,B779,0)","v":{"$error":"#NUM!"}},{"$error":"#NUM!"},{"$f":"IF('Goodness of fit'!D779>0,('Goodness of fit'!C779-'Goodness of fit'!D779)^2/'Goodness of fit'!D779,\"\")","v":""}]
[{"$f":"'Goodness of fit'!F$12/1000+A779","v":12.464000000000009},{"$error":"#NUM!"},{"$f":"IF(A780>='Goodness of fit'!$F$11,B780,0)","v":{"$error":"#NUM!"}},{"$error":"#NUM!"},{"$f":"IF('Goodness of fit'!D780>0,('Goodness of fit'!C780-'Goodness of fit'!D780)^2/'Goodness of fit'!D780,\"\")","v":""}]
[{"$f":"'Goodness of fit'!F$12/1000+A780","v":12.480000000000009},{"$error":"#NUM!"},{"$f":"IF(A781>='Goodness of fit'!$F$11,B781,0)","v":{"$error":"#NUM!"}},{"$error":"#NUM!"},{"$f":"IF('Goodness of fit'!D781>0,('Goodness of fit'!C781-'Goodness of fit'!D781)^2/'Goodness of fit'!D781,\"\")","v":""}]
[{"$f":"'Goodness of fit'!F$12/1000+A781","v":12.496000000000009},{"$error":"#NUM!"},{"$f":"IF(A782>='Goodness of fit'!$F$11,B782,0)","v":{"$error":"#NUM!"}},{"$error":"#NUM!"},{"$f":"IF('Goodness of fit'!D782>0,('Goodness of fit'!C782-'Goodness of fit'!D782)^2/'Goodness of fit'!D782,\"\")","v":""}]
[{"$f":"'Goodness of fit'!F$12/1000+A782","v":12.512000000000009},{"$error":"#NUM!"},{"$f":"IF(A783>='Goodness of fit'!$F$11,B783,0)","v":{"$error":"#NUM!"}},{"$error":"#NUM!"},{"$f":"IF('Goodness of fit'!D783>0,('Goodness of fit'!C783-'Goodness of fit'!D783)^2/'Goodness of fit'!D783,\"\")","v":""}]
[{"$f":"'Goodness of fit'!F$12/1000+A783","v":12.528000000000009},{"$error":"#NUM!"},{"$f":"IF(A784>='Goodness of fit'!$F$11,B784,0)","v":{"$error":"#NUM!"}},{"$error":"#NUM!"},{"$f":"IF('Goodness of fit'!D784>0,('Goodness of fit'!C784-'Goodness of fit'!D784)^2/'Goodness of fit'!D784,\"\")","v":""}]
[{"$f":"'Goodness of fit'!F$12/1000+A784","v":12.544000000000009},{"$error":"#NUM!"},{"$f":"IF(A785>='Goodness of fit'!$F$11,B785,0)","v":{"$error":"#NUM!"}},{"$error":"#NUM!"},{"$f":"IF('Goodness of fit'!D785>0,('Goodness of fit'!C785-'Goodness of fit'!D785)^2/'Goodness of fit'!D785,\"\")","v":""}]
[{"$f":"'Goodness of fit'!F$12/1000+A785","v":12.560000000000009},{"$error":"#NUM!"},{"$f":"IF(A786>='Goodness of fit'!$F$11,B786,0)","v":{"$error":"#NUM!"}},{"$error":"#NUM!"},{"$f":"IF('Goodness of fit'!D786>0,('Goodness of fit'!C786-'Goodness of fit'!D786)^2/'Goodness of fit'!D786,\"\")","v":""}]
[{"$f":"'Goodness of fit'!F$12/1000+A786","v":12.576000000000009},{"$error":"#NUM!"},{"$f":"IF(A787>='Goodness of fit'!$F$11,B787,0)","v":{"$error":"#NUM!"}},{"$error":"#NUM!"},{"$f":"IF('Goodness of fit'!D787>0,('Goodness of fit'!C787-'Goodness of fit'!D787)^2/'Goodness of fit'!D787,\"\")","v":""}]
[{"$f":"'Goodness of fit'!F$12/1000+A787","v":12.592000000000009},{"$error":"#NUM!"},{"$f":"IF(A788>='Goodness of fit'!$F$11,B788,0)","v":{"$error":"#NUM!"}},{"$error":"#NUM!"},{"$f":"IF('Goodness of fit'!D788>0,('Goodness of fit'!C788-'Goodness of fit'!D788)^2/'Goodness of fit'!D788,\"\")","v":""}]
[{"$f":"'Goodness of fit'!F$12/1000+A788","v":12.608000000000009},{"$error":"#NUM!"},{"$f":"IF(A789>='Goodness of fit'!$F$11,B789,0)","v":{"$error":"#NUM!"}},{"$error":"#NUM!"},{"$f":"IF('Goodness of fit'!D789>0,('Goodness of fit'!C789-'Goodness of fit'!D789)^2/'Goodness of fit'!D789,\"\")","v":""}]
[{"$f":"'Goodness of fit'!F$12/1000+A789","v":12.624000000000009},{"$error":"#NUM!"},{"$f":"IF(A790>='Goodness of fit'!$F$11,B790,0)","v":{"$error":"#NUM!"}},{"$error":"#NUM!"},{"$f":"IF('Goodness of fit'!D790>0,('Goodness of fit'!C790-'Goodness of fit'!D790)^2/'Goodness of fit'!D790,\"\")","v":""}]
[{"$f":"'Goodness of fit'!F$12/1000+A790","v":12.640000000000009},{"$error":"#NUM!"},{"$f":"IF(A791>='Goodness of fit'!$F$11,B791,0)","v":{"$error":"#NUM!"}},{"$error":"#NUM!"},{"$f":"IF('Goodness of fit'!D791>0,('Goodness of fit'!C791-'Goodness of fit'!D791)^2/'Goodness of fit'!D791,\"\")","v":""}]
[{"$f":"'Goodness of fit'!F$12/1000+A791","v":12.656000000000009},{"$error":"#NUM!"},{"$f":"IF(A792>='Goodness of fit'!$F$11,B792,0)","v":{"$error":"#NUM!"}},{"$error":"#NUM!"},{"$f":"IF('Goodness of fit'!D792>0,('Goodness of fit'!C792-'Goodness of fit'!D792)^2/'Goodness of fit'!D792,\"\")","v":""}]
[{"$f":"'Goodness of fit'!F$12/1000+A792","v":12.672000000000009},{"$error":"#NUM!"},{"$f":"IF(A793>='Goodness of fit'!$F$11,B793,0)","v":{"$error":"#NUM!"}},{"$error":"#NUM!"},{"$f":"IF('Goodness of fit'!D793>0,('Goodness of fit'!C793-'Goodness of fit'!D793)^2/'Goodness of fit'!D793,\"\")","v":""}]
[{"$f":"'Goodness of fit'!F$12/1000+A793","v":12.688000000000009},{"$error":"#NUM!"},{"$f":"IF(A794>='Goodness of fit'!$F$11,B794,0)","v":{"$error":"#NUM!"}},{"$error":"#NUM!"},{"$f":"IF('Goodness of fit'!D794>0,('Goodness of fit'!C794-'Goodness of fit'!D794)^2/'Goodness of fit'!D794,\"\")","v":""}]
[{"$f":"'Goodness of fit'!F$12/1000+A794","v":12.70400000000001},{"$error":"#NUM!"},{"$f":"IF(A795>='Goodness of fit'!$F$11,B795,0)","v":{"$error":"#NUM!"}},{"$error":"#NUM!"},{"$f":"IF('Goodness of fit'!D795>0,('Goodness of fit'!C795-'Goodness of fit'!D795)^2/'Goodness of fit'!D795,\"\")","v":""}]
[{"$f":"'Goodness of fit'!F$12/1000+A795","v":12.72000000000001},{"$error":"#NUM!"},{"$f":"IF(A796>='Goodness of fit'!$F$11,B796,0)","v":{"$error":"#NUM!"}},{"$error":"#NUM!"},{"$f":"IF('Goodness of fit'!D796>0,('Goodness of fit'!C796-'Goodness of fit'!D796)^2/'Goodness of fit'!D796,\"\")","v":""}]
[{"$f":"'Goodness of fit'!F$12/1000+A796","v":12.73600000000001},{"$error":"#NUM!"},{"$f":"IF(A797>='Goodness of fit'!$F$11,B797,0)","v":{"$error":"#NUM!"}},{"$error":"#NUM!"},{"$f":"IF('Goodness of fit'!D797>0,('Goodness of fit'!C797-'Goodness of fit'!D797)^2/'Goodness of fit'!D797,\"\")","v":""}]
[{"$f":"'Goodness of fit'!F$12/1000+A797","v":12.75200000000001},{"$error":"#NUM!"},{"$f":"IF(A798>='Goodness of fit'!$F$11,B798,0)","v":{"$error":"#NUM!"}},{"$error":"#NUM!"},{"$f":"IF('Goodness of fit'!D798>0,('Goodness of fit'!C798-'Goodness of fit'!D798)^2/'Goodness of fit'!D798,\"\")","v":""}]
[{"$f":"'Goodness of fit'!F$12/1000+A798","v":12.76800000000001},{"$error":"#NUM!"},{"$f":"IF(A799>='Goodness of fit'!$F$11,B799,0)","v":{"$error":"#NUM!"}},{"$error":"#NUM!"},{"$f":"IF('Goodness of fit'!D799>0,('Goodness of fit'!C799-'Goodness of fit'!D799)^2/'Goodness of fit'!D799,\"\")","v":""}]
[{"$f":"'Goodness of fit'!F$12/1000+A799","v":12.78400000000001},{"$error":"#NUM!"},{"$f":"IF(A800>='Goodness of fit'!$F$11,B800,0)","v":{"$error":"#NUM!"}},{"$error":"#NUM!"},{"$f":"IF('Goodness of fit'!D800>0,('Goodness of fit'!C800-'Goodness of fit'!D800)^2/'Goodness of fit'!D800,\"\")","v":""}]
[{"$f":"'Goodness of fit'!F$12/1000+A800","v":12.80000000000001},{"$error":"#NUM!"},{"$f":"IF(A801>='Goodness of fit'!$F$11,B801,0)","v":{"$error":"#NUM!"}},{"$error":"#NUM!"},{"$f":"IF('Goodness of fit'!D801>0,('Goodness of fit'!C801-'Goodness of fit'!D801)^2/'Goodness of fit'!D801,\"\")","v":""}]
[{"$f":"'Goodness of fit'!F$12/1000+A801","v":12.81600000000001},{"$error":"#NUM!"},{"$f":"IF(A802>='Goodness of fit'!$F$11,B802,0)","v":{"$error":"#NUM!"}},{"$error":"#NUM!"},{"$f":"IF('Goodness of fit'!D802>0,('Goodness of fit'!C802-'Goodness of fit'!D802)^2/'Goodness of fit'!D802,\"\")","v":""}]
[{"$f":"'Goodness of fit'!F$12/1000+A802","v":12.83200000000001},{"$error":"#NUM!"},{"$f":"IF(A803>='Goodness of fit'!$F$11,B803,0)","v":{"$error":"#NUM!"}},{"$error":"#NUM!"},{"$f":"IF('Goodness of fit'!D803>0,('Goodness of fit'!C803-'Goodness of fit'!D803)^2/'Goodness of fit'!D803,\"\")","v":""}]
[{"$f":"'Goodness of fit'!F$12/1000+A803","v":12.84800000000001},{"$error":"#NUM!"},{"$f":"IF(A804>='Goodness of fit'!$F$11,B804,0)","v":{"$error":"#NUM!"}},{"$error":"#NUM!"},{"$f":"IF('Goodness of fit'!D804>0,('Goodness of fit'!C804-'Goodness of fit'!D804)^2/'Goodness of fit'!D804,\"\")","v":""}]
[{"$f":"'Goodness of fit'!F$12/1000+A804","v":12.86400000000001},{"$error":"#NUM!"},{"$f":"IF(A805>='Goodness of fit'!$F$11,B805,0)","v":{"$error":"#NUM!"}},{"$error":"#NUM!"},{"$f":"IF('Goodness of fit'!D805>0,('Goodness of fit'!C805-'Goodness of fit'!D805)^2/'Goodness of fit'!D805,\"\")","v":""}]
[{"$f":"'Goodness of fit'!F$12/1000+A805","v":12.88000000000001},{"$error":"#NUM!"},{"$f":"IF(A806>='Goodness of fit'!$F$11,B806,0)","v":{"$error":"#NUM!"}},{"$error":"#NUM!"},{"$f":"IF('Goodness of fit'!D806>0,('Goodness of fit'!C806-'Goodness of fit'!D806)^2/'Goodness of fit'!D806,\"\")","v":""}]
[{"$f":"'Goodness of fit'!F$12/1000+A806","v":12.89600000000001},{"$error":"#NUM!"},{"$f":"IF(A807>='Goodness of fit'!$F$11,B807,0)","v":{"$error":"#NUM!"}},{"$error":"#NUM!"},{"$f":"IF('Goodness of fit'!D807>0,('Goodness of fit'!C807-'Goodness of fit'!D807)^2/'Goodness of fit'!D807,\"\")","v":""}]
[{"$f":"'Goodness of fit'!F$12/1000+A807","v":12.91200000000001},{"$error":"#NUM!"},{"$f":"IF(A808>='Goodness of fit'!$F$11,B808,0)","v":{"$error":"#NUM!"}},{"$error":"#NUM!"},{"$f":"IF('Goodness of fit'!D808>0,('Goodness of fit'!C808-'Goodness of fit'!D808)^2/'Goodness of fit'!D808,\"\")","v":""}]
[{"$f":"'Goodness of fit'!F$12/1000+A808","v":12.92800000000001},{"$error":"#NUM!"},{"$f":"IF(A809>='Goodness of fit'!$F$11,B809,0)","v":{"$error":"#NUM!"}},{"$error":"#NUM!"},{"$f":"IF('Goodness of fit'!D809>0,('Goodness of fit'!C809-'Goodness of fit'!D809)^2/'Goodness of fit'!D809,\"\")","v":""}]
[{"$f":"'Goodness of fit'!F$12/1000+A809","v":12.94400000000001},{"$error":"#NUM!"},{"$f":"IF(A810>='Goodness of fit'!$F$11,B810,0)","v":{"$error":"#NUM!"}},{"$error":"#NUM!"},{"$f":"IF('Goodness of fit'!D810>0,('Goodness of fit'!C810-'Goodness of fit'!D810)^2/'Goodness of fit'!D810,\"\")","v":""}]
[{"$f":"'Goodness of fit'!F$12/1000+A810","v":12.96000000000001},{"$error":"#NUM!"},{"$f":"IF(A811>='Goodness of fit'!$F$11,B811,0)","v":{"$error":"#NUM!"}},{"$error":"#NUM!"},{"$f":"IF('Goodness of fit'!D811>0,('Goodness of fit'!C811-'Goodness of fit'!D811)^2/'Goodness of fit'!D811,\"\")","v":""}]
[{"$f":"'Goodness of fit'!F$12/1000+A811","v":12.97600000000001},{"$error":"#NUM!"},{"$f":"IF(A812>='Goodness of fit'!$F$11,B812,0)","v":{"$error":"#NUM!"}},{"$error":"#NUM!"},{"$f":"IF('Goodness of fit'!D812>0,('Goodness of fit'!C812-'Goodness of fit'!D812)^2/'Goodness of fit'!D812,\"\")","v":""}]
[{"$f":"'Goodness of fit'!F$12/1000+A812","v":12.99200000000001},{"$error":"#NUM!"},{"$f":"IF(A813>='Goodness of fit'!$F$11,B813,0)","v":{"$error":"#NUM!"}},{"$error":"#NUM!"},{"$f":"IF('Goodness of fit'!D813>0,('Goodness of fit'!C813-'Goodness of fit'!D813)^2/'Goodness of fit'!D813,\"\")","v":""}]
[{"$f":"'Goodness of fit'!F$12/1000+A813","v":13.00800000000001},{"$error":"#NUM!"},{"$f":"IF(A814>='Goodness of fit'!$F$11,B814,0)","v":{"$error":"#NUM!"}},{"$error":"#NUM!"},{"$f":"IF('Goodness of fit'!D814>0,('Goodness of fit'!C814-'Goodness of fit'!D814)^2/'Goodness of fit'!D814,\"\")","v":""}]
[{"$f":"'Goodness of fit'!F$12/1000+A814","v":13.02400000000001},{"$error":"#NUM!"},{"$f":"IF(A815>='Goodness of fit'!$F$11,B815,0)","v":{"$error":"#NUM!"}},{"$error":"#NUM!"},{"$f":"IF('Goodness of fit'!D815>0,('Goodness of fit'!C815-'Goodness of fit'!D815)^2/'Goodness of fit'!D815,\"\")","v":""}]
[{"$f":"'Goodness of fit'!F$12/1000+A815","v":13.04000000000001},{"$error":"#NUM!"},{"$f":"IF(A816>='Goodness of fit'!$F$11,B816,0)","v":{"$error":"#NUM!"}},{"$error":"#NUM!"},{"$f":"IF('Goodness of fit'!D816>0,('Goodness of fit'!C816-'Goodness of fit'!D816)^2/'Goodness of fit'!D816,\"\")","v":""}]
[{"$f":"'Goodness of fit'!F$12/1000+A816","v":13.05600000000001},{"$error":"#NUM!"},{"$f":"IF(A817>='Goodness of fit'!$F$11,B817,0)","v":{"$error":"#NUM!"}},{"$error":"#NUM!"},{"$f":"IF('Goodness of fit'!D817>0,('Goodness of fit'!C817-'Goodness of fit'!D817)^2/'Goodness of fit'!D817,\"\")","v":""}]
[{"$f":"'Goodness of fit'!F$12/1000+A817","v":13.07200000000001},{"$error":"#NUM!"},{"$f":"IF(A818>='Goodness of fit'!$F$11,B818,0)","v":{"$error":"#NUM!"}},{"$error":"#NUM!"},{"$f":"IF('Goodness of fit'!D818>0,('Goodness of fit'!C818-'Goodness of fit'!D818)^2/'Goodness of fit'!D818,\"\")","v":""}]
[{"$f":"'Goodness of fit'!F$12/1000+A818","v":13.08800000000001},{"$error":"#NUM!"},{"$f":"IF(A819>='Goodness of fit'!$F$11,B819,0)","v":{"$error":"#NUM!"}},{"$error":"#NUM!"},{"$f":"IF('Goodness of fit'!D819>0,('Goodness of fit'!C819-'Goodness of fit'!D819)^2/'Goodness of fit'!D819,\"\")","v":""}]
[{"$f":"'Goodness of fit'!F$12/1000+A819","v":13.10400000000001},{"$error":"#NUM!"},{"$f":"IF(A820>='Goodness of fit'!$F$11,B820,0)","v":{"$error":"#NUM!"}},{"$error":"#NUM!"},{"$f":"IF('Goodness of fit'!D820>0,('Goodness of fit'!C820-'Goodness of fit'!D820)^2/'Goodness of fit'!D820,\"\")","v":""}]
[{"$f":"'Goodness of fit'!F$12/1000+A820","v":13.12000000000001},{"$error":"#NUM!"},{"$f":"IF(A821>='Goodness of fit'!$F$11,B821,0)","v":{"$error":"#NUM!"}},{"$error":"#NUM!"},{"$f":"IF('Goodness of fit'!D821>0,('Goodness of fit'!C821-'Goodness of fit'!D821)^2/'Goodness of fit'!D821,\"\")","v":""}]
[{"$f":"'Goodness of fit'!F$12/1000+A821","v":13.13600000000001},{"$error":"#NUM!"},{"$f":"IF(A822>='Goodness of fit'!$F$11,B822,0)","v":{"$error":"#NUM!"}},{"$error":"#NUM!"},{"$f":"IF('Goodness of fit'!D822>0,('Goodness of fit'!C822-'Goodness of fit'!D822)^2/'Goodness of fit'!D822,\"\")","v":""}]
[{"$f":"'Goodness of fit'!F$12/1000+A822","v":13.15200000000001},{"$error":"#NUM!"},{"$f":"IF(A823>='Goodness of fit'!$F$11,B823,0)","v":{"$error":"#NUM!"}},{"$error":"#NUM!"},{"$f":"IF('Goodness of fit'!D823>0,('Goodness of fit'!C823-'Goodness of fit'!D823)^2/'Goodness of fit'!D823,\"\")","v":""}]
[{"$f":"'Goodness of fit'!F$12/1000+A823","v":13.16800000000001},{"$error":"#NUM!"},{"$f":"IF(A824>='Goodness of fit'!$F$11,B824,0)","v":{"$error":"#NUM!"}},{"$error":"#NUM!"},{"$f":"IF('Goodness of fit'!D824>0,('Goodness of fit'!C824-'Goodness of fit'!D824)^2/'Goodness of fit'!D824,\"\")","v":""}]
[{"$f":"'Goodness of fit'!F$12/1000+A824","v":13.18400000000001},{"$error":"#NUM!"},{"$f":"IF(A825>='Goodness of fit'!$F$11,B825,0)","v":{"$error":"#NUM!"}},{"$error":"#NUM!"},{"$f":"IF('Goodness of fit'!D825>0,('Goodness of fit'!C825-'Goodness of fit'!D825)^2/'Goodness of fit'!D825,\"\")","v":""}]
[{"$f":"'Goodness of fit'!F$12/1000+A825","v":13.20000000000001},{"$error":"#NUM!"},{"$f":"IF(A826>='Goodness of fit'!$F$11,B826,0)","v":{"$error":"#NUM!"}},{"$error":"#NUM!"},{"$f":"IF('Goodness of fit'!D826>0,('Goodness of fit'!C826-'Goodness of fit'!D826)^2/'Goodness of fit'!D826,\"\")","v":""}]
[{"$f":"'Goodness of fit'!F$12/1000+A826","v":13.21600000000001},{"$error":"#NUM!"},{"$f":"IF(A827>='Goodness of fit'!$F$11,B827,0)","v":{"$error":"#NUM!"}},{"$error":"#NUM!"},{"$f":"IF('Goodness of fit'!D827>0,('Goodness of fit'!C827-'Goodness of fit'!D827)^2/'Goodness of fit'!D827,\"\")","v":""}]
[{"$f":"'Goodness of fit'!F$12/1000+A827","v":13.23200000000001},{"$error":"#NUM!"},{"$f":"IF(A828>='Goodness of fit'!$F$11,B828,0)","v":{"$error":"#NUM!"}},{"$error":"#NUM!"},{"$f":"IF('Goodness of fit'!D828>0,('Goodness of fit'!C828-'Goodness of fit'!D828)^2/'Goodness of fit'!D828,\"\")","v":""}]
[{"$f":"'Goodness of fit'!F$12/1000+A828","v":13.24800000000001},{"$error":"#NUM!"},{"$f":"IF(A829>='Goodness of fit'!$F$11,B829,0)","v":{"$error":"#NUM!"}},{"$error":"#NUM!"},{"$f":"IF('Goodness of fit'!D829>0,('Goodness of fit'!C829-'Goodness of fit'!D829)^2/'Goodness of fit'!D829,\"\")","v":""}]
[{"$f":"'Goodness of fit'!F$12/1000+A829","v":13.26400000000001},{"$error":"#NUM!"},{"$f":"IF(A830>='Goodness of fit'!$F$11,B830,0)","v":{"$error":"#NUM!"}},{"$error":"#NUM!"},{"$f":"IF('Goodness of fit'!D830>0,('Goodness of fit'!C830-'Goodness of fit'!D830)^2/'Goodness of fit'!D830,\"\")","v":""}]
[{"$f":"'Goodness of fit'!F$12/1000+A830","v":13.28000000000001},{"$error":"#NUM!"},{"$f":"IF(A831>='Goodness of fit'!$F$11,B831,0)","v":{"$error":"#NUM!"}},{"$error":"#NUM!"},{"$f":"IF('Goodness of fit'!D831>0,('Goodness of fit'!C831-'Goodness of fit'!D831)^2/'Goodness of fit'!D831,\"\")","v":""}]
[{"$f":"'Goodness of fit'!F$12/1000+A831","v":13.29600000000001},{"$error":"#NUM!"},{"$f":"IF(A832>='Goodness of fit'!$F$11,B832,0)","v":{"$error":"#NUM!"}},{"$error":"#NUM!"},{"$f":"IF('Goodness of fit'!D832>0,('Goodness of fit'!C832-'Goodness of fit'!D832)^2/'Goodness of fit'!D832,\"\")","v":""}]
[{"$f":"'Goodness of fit'!F$12/1000+A832","v":13.31200000000001},{"$error":"#NUM!"},{"$f":"IF(A833>='Goodness of fit'!$F$11,B833,0)","v":{"$error":"#NUM!"}},{"$error":"#NUM!"},{"$f":"IF('Goodness of fit'!D833>0,('Goodness of fit'!C833-'Goodness of fit'!D833)^2/'Goodness of fit'!D833,\"\")","v":""}]
[{"$f":"'Goodness of fit'!F$12/1000+A833","v":13.32800000000001},{"$error":"#NUM!"},{"$f":"IF(A834>='Goodness of fit'!$F$11,B834,0)","v":{"$error":"#NUM!"}},{"$f":"CHIDIST(A834,F$1)","v":{"$error":"#NUM!"}},{"$f":"IF('Goodness of fit'!D834>0,('Goodness of fit'!C834-'Goodness of fit'!D834)^2/'Goodness of fit'!D834,\"\")","v":""}]
[{"$f":"'Goodness of fit'!F$12/1000+A834","v":13.34400000000001},{"$f":"_xlfn.CHISQ.DIST(A835,F$1,FALSE)","v":{"$error":"#NUM!"}},{"$f":"IF(A835>='Goodness of fit'!$F$11,B835,0)","v":{"$error":"#NUM!"}},{"$error":"#NUM!"},{"$f":"IF('Goodness of fit'!D835>0,('Goodness of fit'!C835-'Goodness of fit'!D835)^2/'Goodness of fit'!D835,\"\")","v":""}]
[{"$f":"'Goodness of fit'!F$12/1000+A835","v":13.36000000000001},{"$error":"#NUM!"},{"$f":"IF(A836>='Goodness of fit'!$F$11,B836,0)","v":{"$error":"#NUM!"}},{"$error":"#NUM!"},{"$f":"IF('Goodness of fit'!D836>0,('Goodness of fit'!C836-'Goodness of fit'!D836)^2/'Goodness of fit'!D836,\"\")","v":""}]
[{"$f":"'Goodness of fit'!F$12/1000+A836","v":13.37600000000001},{"$error":"#NUM!"},{"$f":"IF(A837>='Goodness of fit'!$F$11,B837,0)","v":{"$error":"#NUM!"}},{"$error":"#NUM!"},{"$f":"IF('Goodness of fit'!D837>0,('Goodness of fit'!C837-'Goodness of fit'!D837)^2/'Goodness of fit'!D837,\"\")","v":""}]
[{"$f":"'Goodness of fit'!F$12/1000+A837","v":13.39200000000001},{"$error":"#NUM!"},{"$f":"IF(A838>='Goodness of fit'!$F$11,B838,0)","v":{"$error":"#NUM!"}},{"$error":"#NUM!"},{"$f":"IF('Goodness of fit'!D838>0,('Goodness of fit'!C838-'Goodness of fit'!D838)^2/'Goodness of fit'!D838,\"\")","v":""}]
[{"$f":"'Goodness of fit'!F$12/1000+A838","v":13.40800000000001},{"$error":"#NUM!"},{"$f":"IF(A839>='Goodness of fit'!$F$11,B839,0)","v":{"$error":"#NUM!"}},{"$error":"#NUM!"},{"$f":"IF('Goodness of fit'!D839>0,('Goodness of fit'!C839-'Goodness of fit'!D839)^2/'Goodness of fit'!D839,\"\")","v":""}]
[{"$f":"'Goodness of fit'!F$12/1000+A839","v":13.42400000000001},{"$error":"#NUM!"},{"$f":"IF(A840>='Goodness of fit'!$F$11,B840,0)","v":{"$error":"#NUM!"}},{"$error":"#NUM!"},{"$f":"IF('Goodness of fit'!D840>0,('Goodness of fit'!C840-'Goodness of fit'!D840)^2/'Goodness of fit'!D840,\"\")","v":""}]
[{"$f":"'Goodness of fit'!F$12/1000+A840","v":13.44000000000001},{"$error":"#NUM!"},{"$f":"IF(A841>='Goodness of fit'!$F$11,B841,0)","v":{"$error":"#NUM!"}},{"$error":"#NUM!"},{"$f":"IF('Goodness of fit'!D841>0,('Goodness of fit'!C841-'Goodness of fit'!D841)^2/'Goodness of fit'!D841,\"\")","v":""}]
[{"$f":"'Goodness of fit'!F$12/1000+A841","v":13.45600000000001},{"$error":"#NUM!"},{"$f":"IF(A842>='Goodness of fit'!$F$11,B842,0)","v":{"$error":"#NUM!"}},{"$error":"#NUM!"},{"$f":"IF('Goodness of fit'!D842>0,('Goodness of fit'!C842-'Goodness of fit'!D842)^2/'Goodness of fit'!D842,\"\")","v":""}]
[{"$f":"'Goodness of fit'!F$12/1000+A842","v":13.47200000000001},{"$error":"#NUM!"},{"$f":"IF(A843>='Goodness of fit'!$F$11,B843,0)","v":{"$error":"#NUM!"}},{"$error":"#NUM!"},{"$f":"IF('Goodness of fit'!D843>0,('Goodness of fit'!C843-'Goodness of fit'!D843)^2/'Goodness of fit'!D843,\"\")","v":""}]
[{"$f":"'Goodness of fit'!F$12/1000+A843","v":13.48800000000001},{"$error":"#NUM!"},{"$f":"IF(A844>='Goodness of fit'!$F$11,B844,0)","v":{"$error":"#NUM!"}},{"$error":"#NUM!"},{"$f":"IF('Goodness of fit'!D844>0,('Goodness of fit'!C844-'Goodness of fit'!D844)^2/'Goodness of fit'!D844,\"\")","v":""}]
[{"$f":"'Goodness of fit'!F$12/1000+A844","v":13.50400000000001},{"$error":"#NUM!"},{"$f":"IF(A845>='Goodness of fit'!$F$11,B845,0)","v":{"$error":"#NUM!"}},{"$error":"#NUM!"},{"$f":"IF('Goodness of fit'!D845>0,('Goodness of fit'!C845-'Goodness of fit'!D845)^2/'Goodness of fit'!D845,\"\")","v":""}]
[{"$f":"'Goodness of fit'!F$12/1000+A845","v":13.52000000000001},{"$error":"#NUM!"},{"$f":"IF(A846>='Goodness of fit'!$F$11,B846,0)","v":{"$error":"#NUM!"}},{"$error":"#NUM!"},{"$f":"IF('Goodness of fit'!D846>0,('Goodness of fit'!C846-'Goodness of fit'!D846)^2/'Goodness of fit'!D846,\"\")","v":""}]
[{"$f":"'Goodness of fit'!F$12/1000+A846","v":13.53600000000001},{"$error":"#NUM!"},{"$f":"IF(A847>='Goodness of fit'!$F$11,B847,0)","v":{"$error":"#NUM!"}},{"$error":"#NUM!"},{"$f":"IF('Goodness of fit'!D847>0,('Goodness of fit'!C847-'Goodness of fit'!D847)^2/'Goodness of fit'!D847,\"\")","v":""}]
[{"$f":"'Goodness of fit'!F$12/1000+A847","v":13.55200000000001},{"$error":"#NUM!"},{"$f":"IF(A848>='Goodness of fit'!$F$11,B848,0)","v":{"$error":"#NUM!"}},{"$error":"#NUM!"},{"$f":"IF('Goodness of fit'!D848>0,('Goodness of fit'!C848-'Goodness of fit'!D848)^2/'Goodness of fit'!D848,\"\")","v":""}]
[{"$f":"'Goodness of fit'!F$12/1000+A848","v":13.56800000000001},{"$error":"#NUM!"},{"$f":"IF(A849>='Goodness of fit'!$F$11,B849,0)","v":{"$error":"#NUM!"}},{"$error":"#NUM!"},{"$f":"IF('Goodness of fit'!D849>0,('Goodness of fit'!C849-'Goodness of fit'!D849)^2/'Goodness of fit'!D849,\"\")","v":""}]
[{"$f":"'Goodness of fit'!F$12/1000+A849","v":13.58400000000001},{"$error":"#NUM!"},{"$f":"IF(A850>='Goodness of fit'!$F$11,B850,0)","v":{"$error":"#NUM!"}},{"$error":"#NUM!"},{"$f":"IF('Goodness of fit'!D850>0,('Goodness of fit'!C850-'Goodness of fit'!D850)^2/'Goodness of fit'!D850,\"\")","v":""}]
[{"$f":"'Goodness of fit'!F$12/1000+A850","v":13.60000000000001},{"$error":"#NUM!"},{"$f":"IF(A851>='Goodness of fit'!$F$11,B851,0)","v":{"$error":"#NUM!"}},{"$error":"#NUM!"},{"$f":"IF('Goodness of fit'!D851>0,('Goodness of fit'!C851-'Goodness of fit'!D851)^2/'Goodness of fit'!D851,\"\")","v":""}]
[{"$f":"'Goodness of fit'!F$12/1000+A851","v":13.61600000000001},{"$error":"#NUM!"},{"$f":"IF(A852>='Goodness of fit'!$F$11,B852,0)","v":{"$error":"#NUM!"}},{"$error":"#NUM!"},{"$f":"IF('Goodness of fit'!D852>0,('Goodness of fit'!C852-'Goodness of fit'!D852)^2/'Goodness of fit'!D852,\"\")","v":""}]
[{"$f":"'Goodness of fit'!F$12/1000+A852","v":13.63200000000001},{"$error":"#NUM!"},{"$f":"IF(A853>='Goodness of fit'!$F$11,B853,0)","v":{"$error":"#NUM!"}},{"$error":"#NUM!"},{"$f":"IF('Goodness of fit'!D853>0,('Goodness of fit'!C853-'Goodness of fit'!D853)^2/'Goodness of fit'!D853,\"\")","v":""}]
[{"$f":"'Goodness of fit'!F$12/1000+A853","v":13.64800000000001},{"$error":"#NUM!"},{"$f":"IF(A854>='Goodness of fit'!$F$11,B854,0)","v":{"$error":"#NUM!"}},{"$error":"#NUM!"},{"$f":"IF('Goodness of fit'!D854>0,('Goodness of fit'!C854-'Goodness of fit'!D854)^2/'Goodness of fit'!D854,\"\")","v":""}]
[{"$f":"'Goodness of fit'!F$12/1000+A854","v":13.66400000000001},{"$error":"#NUM!"},{"$f":"IF(A855>='Goodness of fit'!$F$11,B855,0)","v":{"$error":"#NUM!"}},{"$error":"#NUM!"},{"$f":"IF('Goodness of fit'!D855>0,('Goodness of fit'!C855-'Goodness of fit'!D855)^2/'Goodness of fit'!D855,\"\")","v":""}]
[{"$f":"'Goodness of fit'!F$12/1000+A855","v":13.68000000000001},{"$error":"#NUM!"},{"$f":"IF(A856>='Goodness of fit'!$F$11,B856,0)","v":{"$error":"#NUM!"}},{"$error":"#NUM!"},{"$f":"IF('Goodness of fit'!D856>0,('Goodness of fit'!C856-'Goodness of fit'!D856)^2/'Goodness of fit'!D856,\"\")","v":""}]
[{"$f":"'Goodness of fit'!F$12/1000+A856","v":13.69600000000001},{"$error":"#NUM!"},{"$f":"IF(A857>='Goodness of fit'!$F$11,B857,0)","v":{"$error":"#NUM!"}},{"$error":"#NUM!"},{"$f":"IF('Goodness of fit'!D857>0,('Goodness of fit'!C857-'Goodness of fit'!D857)^2/'Goodness of fit'!D857,\"\")","v":""}]
[{"$f":"'Goodness of fit'!F$12/1000+A857","v":13.71200000000001},{"$error":"#NUM!"},{"$f":"IF(A858>='Goodness of fit'!$F$11,B858,0)","v":{"$error":"#NUM!"}},{"$error":"#NUM!"},{"$f":"IF('Goodness of fit'!D858>0,('Goodness of fit'!C858-'Goodness of fit'!D858)^2/'Goodness of fit'!D858,\"\")","v":""}]
[{"$f":"'Goodness of fit'!F$12/1000+A858","v":13.72800000000001},{"$error":"#NUM!"},{"$f":"IF(A859>='Goodness of fit'!$F$11,B859,0)","v":{"$error":"#NUM!"}},{"$error":"#NUM!"},{"$f":"IF('Goodness of fit'!D859>0,('Goodness of fit'!C859-'Goodness of fit'!D859)^2/'Goodness of fit'!D859,\"\")","v":""}]
[{"$f":"'Goodness of fit'!F$12/1000+A859","v":13.74400000000001},{"$error":"#NUM!"},{"$f":"IF(A860>='Goodness of fit'!$F$11,B860,0)","v":{"$error":"#NUM!"}},{"$error":"#NUM!"},{"$f":"IF('Goodness of fit'!D860>0,('Goodness of fit'!C860-'Goodness of fit'!D860)^2/'Goodness of fit'!D860,\"\")","v":""}]
[{"$f":"'Goodness of fit'!F$12/1000+A860","v":13.76000000000001},{"$error":"#NUM!"},{"$f":"IF(A861>='Goodness of fit'!$F$11,B861,0)","v":{"$error":"#NUM!"}},{"$error":"#NUM!"},{"$f":"IF('Goodness of fit'!D861>0,('Goodness of fit'!C861-'Goodness of fit'!D861)^2/'Goodness of fit'!D861,\"\")","v":""}]
[{"$f":"'Goodness of fit'!F$12/1000+A861","v":13.77600000000001},{"$error":"#NUM!"},{"$f":"IF(A862>='Goodness of fit'!$F$11,B862,0)","v":{"$error":"#NUM!"}},{"$error":"#NUM!"},{"$f":"IF('Goodness of fit'!D862>0,('Goodness of fit'!C862-'Goodness of fit'!D862)^2/'Goodness of fit'!D862,\"\")","v":""}]
[{"$f":"'Goodness of fit'!F$12/1000+A862","v":13.79200000000001},{"$error":"#NUM!"},{"$f":"IF(A863>='Goodness of fit'!$F$11,B863,0)","v":{"$error":"#NUM!"}},{"$error":"#NUM!"},{"$f":"IF('Goodness of fit'!D863>0,('Goodness of fit'!C863-'Goodness of fit'!D863)^2/'Goodness of fit'!D863,\"\")","v":""}]
[{"$f":"'Goodness of fit'!F$12/1000+A863","v":13.80800000000001},{"$error":"#NUM!"},{"$f":"IF(A864>='Goodness of fit'!$F$11,B864,0)","v":{"$error":"#NUM!"}},{"$error":"#NUM!"},{"$f":"IF('Goodness of fit'!D864>0,('Goodness of fit'!C864-'Goodness of fit'!D864)^2/'Goodness of fit'!D864,\"\")","v":""}]
[{"$f":"'Goodness of fit'!F$12/1000+A864","v":13.824000000000011},{"$error":"#NUM!"},{"$f":"IF(A865>='Goodness of fit'!$F$11,B865,0)","v":{"$error":"#NUM!"}},{"$error":"#NUM!"},{"$f":"IF('Goodness of fit'!D865>0,('Goodness of fit'!C865-'Goodness of fit'!D865)^2/'Goodness of fit'!D865,\"\")","v":""}]
[{"$f":"'Goodness of fit'!F$12/1000+A865","v":13.840000000000011},{"$error":"#NUM!"},{"$f":"IF(A866>='Goodness of fit'!$F$11,B866,0)","v":{"$error":"#NUM!"}},{"$error":"#NUM!"},{"$f":"IF('Goodness of fit'!D866>0,('Goodness of fit'!C866-'Goodness of fit'!D866)^2/'Goodness of fit'!D866,\"\")","v":""}]
[{"$f":"'Goodness of fit'!F$12/1000+A866","v":13.856000000000011},{"$error":"#NUM!"},{"$f":"IF(A867>='Goodness of fit'!$F$11,B867,0)","v":{"$error":"#NUM!"}},{"$error":"#NUM!"},{"$f":"IF('Goodness of fit'!D867>0,('Goodness of fit'!C867-'Goodness of fit'!D867)^2/'Goodness of fit'!D867,\"\")","v":""}]
[{"$f":"'Goodness of fit'!F$12/1000+A867","v":13.872000000000011},{"$error":"#NUM!"},{"$f":"IF(A868>='Goodness of fit'!$F$11,B868,0)","v":{"$error":"#NUM!"}},{"$error":"#NUM!"},{"$f":"IF('Goodness of fit'!D868>0,('Goodness of fit'!C868-'Goodness of fit'!D868)^2/'Goodness of fit'!D868,\"\")","v":""}]
[{"$f":"'Goodness of fit'!F$12/1000+A868","v":13.888000000000011},{"$error":"#NUM!"},{"$f":"IF(A869>='Goodness of fit'!$F$11,B869,0)","v":{"$error":"#NUM!"}},{"$error":"#NUM!"},{"$f":"IF('Goodness of fit'!D869>0,('Goodness of fit'!C869-'Goodness of fit'!D869)^2/'Goodness of fit'!D869,\"\")","v":""}]
[{"$f":"'Goodness of fit'!F$12/1000+A869","v":13.904000000000011},{"$error":"#NUM!"},{"$f":"IF(A870>='Goodness of fit'!$F$11,B870,0)","v":{"$error":"#NUM!"}},{"$error":"#NUM!"},{"$f":"IF('Goodness of fit'!D870>0,('Goodness of fit'!C870-'Goodness of fit'!D870)^2/'Goodness of fit'!D870,\"\")","v":""}]
[{"$f":"'Goodness of fit'!F$12/1000+A870","v":13.920000000000011},{"$error":"#NUM!"},{"$f":"IF(A871>='Goodness of fit'!$F$11,B871,0)","v":{"$error":"#NUM!"}},{"$error":"#NUM!"},{"$f":"IF('Goodness of fit'!D871>0,('Goodness of fit'!C871-'Goodness of fit'!D871)^2/'Goodness of fit'!D871,\"\")","v":""}]
[{"$f":"'Goodness of fit'!F$12/1000+A871","v":13.936000000000011},{"$error":"#NUM!"},{"$f":"IF(A872>='Goodness of fit'!$F$11,B872,0)","v":{"$error":"#NUM!"}},{"$error":"#NUM!"},{"$f":"IF('Goodness of fit'!D872>0,('Goodness of fit'!C872-'Goodness of fit'!D872)^2/'Goodness of fit'!D872,\"\")","v":""}]
[{"$f":"'Goodness of fit'!F$12/1000+A872","v":13.952000000000011},{"$error":"#NUM!"},{"$f":"IF(A873>='Goodness of fit'!$F$11,B873,0)","v":{"$error":"#NUM!"}},{"$error":"#NUM!"},{"$f":"IF('Goodness of fit'!D873>0,('Goodness of fit'!C873-'Goodness of fit'!D873)^2/'Goodness of fit'!D873,\"\")","v":""}]
[{"$f":"'Goodness of fit'!F$12/1000+A873","v":13.968000000000011},{"$error":"#NUM!"},{"$f":"IF(A874>='Goodness of fit'!$F$11,B874,0)","v":{"$error":"#NUM!"}},{"$error":"#NUM!"},{"$f":"IF('Goodness of fit'!D874>0,('Goodness of fit'!C874-'Goodness of fit'!D874)^2/'Goodness of fit'!D874,\"\")","v":""}]
[{"$f":"'Goodness of fit'!F$12/1000+A874","v":13.984000000000011},{"$error":"#NUM!"},{"$f":"IF(A875>='Goodness of fit'!$F$11,B875,0)","v":{"$error":"#NUM!"}},{"$error":"#NUM!"},{"$f":"IF('Goodness of fit'!D875>0,('Goodness of fit'!C875-'Goodness of fit'!D875)^2/'Goodness of fit'!D875,\"\")","v":""}]
[{"$f":"'Goodness of fit'!F$12/1000+A875","v":14.000000000000011},{"$error":"#NUM!"},{"$f":"IF(A876>='Goodness of fit'!$F$11,B876,0)","v":{"$error":"#NUM!"}},{"$error":"#NUM!"},{"$f":"IF('Goodness of fit'!D876>0,('Goodness of fit'!C876-'Goodness of fit'!D876)^2/'Goodness of fit'!D876,\"\")","v":""}]
[{"$f":"'Goodness of fit'!F$12/1000+A876","v":14.016000000000011},{"$error":"#NUM!"},{"$f":"IF(A877>='Goodness of fit'!$F$11,B877,0)","v":{"$error":"#NUM!"}},{"$error":"#NUM!"},{"$f":"IF('Goodness of fit'!D877>0,('Goodness of fit'!C877-'Goodness of fit'!D877)^2/'Goodness of fit'!D877,\"\")","v":""}]
[{"$f":"'Goodness of fit'!F$12/1000+A877","v":14.032000000000011},{"$error":"#NUM!"},{"$f":"IF(A878>='Goodness of fit'!$F$11,B878,0)","v":{"$error":"#NUM!"}},{"$error":"#NUM!"},{"$f":"IF('Goodness of fit'!D878>0,('Goodness of fit'!C878-'Goodness of fit'!D878)^2/'Goodness of fit'!D878,\"\")","v":""}]
[{"$f":"'Goodness of fit'!F$12/1000+A878","v":14.048000000000011},{"$error":"#NUM!"},{"$f":"IF(A879>='Goodness of fit'!$F$11,B879,0)","v":{"$error":"#NUM!"}},{"$error":"#NUM!"},{"$f":"IF('Goodness of fit'!D879>0,('Goodness of fit'!C879-'Goodness of fit'!D879)^2/'Goodness of fit'!D879,\"\")","v":""}]
[{"$f":"'Goodness of fit'!F$12/1000+A879","v":14.064000000000011},{"$error":"#NUM!"},{"$f":"IF(A880>='Goodness of fit'!$F$11,B880,0)","v":{"$error":"#NUM!"}},{"$error":"#NUM!"},{"$f":"IF('Goodness of fit'!D880>0,('Goodness of fit'!C880-'Goodness of fit'!D880)^2/'Goodness of fit'!D880,\"\")","v":""}]
[{"$f":"'Goodness of fit'!F$12/1000+A880","v":14.080000000000011},{"$error":"#NUM!"},{"$f":"IF(A881>='Goodness of fit'!$F$11,B881,0)","v":{"$error":"#NUM!"}},{"$error":"#NUM!"},{"$f":"IF('Goodness of fit'!D881>0,('Goodness of fit'!C881-'Goodness of fit'!D881)^2/'Goodness of fit'!D881,\"\")","v":""}]
[{"$f":"'Goodness of fit'!F$12/1000+A881","v":14.096000000000011},{"$error":"#NUM!"},{"$f":"IF(A882>='Goodness of fit'!$F$11,B882,0)","v":{"$error":"#NUM!"}},{"$error":"#NUM!"},{"$f":"IF('Goodness of fit'!D882>0,('Goodness of fit'!C882-'Goodness of fit'!D882)^2/'Goodness of fit'!D882,\"\")","v":""}]
[{"$f":"'Goodness of fit'!F$12/1000+A882","v":14.112000000000011},{"$error":"#NUM!"},{"$f":"IF(A883>='Goodness of fit'!$F$11,B883,0)","v":{"$error":"#NUM!"}},{"$error":"#NUM!"},{"$f":"IF('Goodness of fit'!D883>0,('Goodness of fit'!C883-'Goodness of fit'!D883)^2/'Goodness of fit'!D883,\"\")","v":""}]
[{"$f":"'Goodness of fit'!F$12/1000+A883","v":14.128000000000011},{"$error":"#NUM!"},{"$f":"IF(A884>='Goodness of fit'!$F$11,B884,0)","v":{"$error":"#NUM!"}},{"$error":"#NUM!"},{"$f":"IF('Goodness of fit'!D884>0,('Goodness of fit'!C884-'Goodness of fit'!D884)^2/'Goodness of fit'!D884,\"\")","v":""}]
[{"$f":"'Goodness of fit'!F$12/1000+A884","v":14.144000000000011},{"$error":"#NUM!"},{"$f":"IF(A885>='Goodness of fit'!$F$11,B885,0)","v":{"$error":"#NUM!"}},{"$error":"#NUM!"},{"$f":"IF('Goodness of fit'!D885>0,('Goodness of fit'!C885-'Goodness of fit'!D885)^2/'Goodness of fit'!D885,\"\")","v":""}]
[{"$f":"'Goodness of fit'!F$12/1000+A885","v":14.160000000000011},{"$error":"#NUM!"},{"$f":"IF(A886>='Goodness of fit'!$F$11,B886,0)","v":{"$error":"#NUM!"}},{"$error":"#NUM!"},{"$f":"IF('Goodness of fit'!D886>0,('Goodness of fit'!C886-'Goodness of fit'!D886)^2/'Goodness of fit'!D886,\"\")","v":""}]
[{"$f":"'Goodness of fit'!F$12/1000+A886","v":14.176000000000011},{"$error":"#NUM!"},{"$f":"IF(A887>='Goodness of fit'!$F$11,B887,0)","v":{"$error":"#NUM!"}},{"$error":"#NUM!"},{"$f":"IF('Goodness of fit'!D887>0,('Goodness of fit'!C887-'Goodness of fit'!D887)^2/'Goodness of fit'!D887,\"\")","v":""}]
[{"$f":"'Goodness of fit'!F$12/1000+A887","v":14.192000000000011},{"$error":"#NUM!"},{"$f":"IF(A888>='Goodness of fit'!$F$11,B888,0)","v":{"$error":"#NUM!"}},{"$error":"#NUM!"},{"$f":"IF('Goodness of fit'!D888>0,('Goodness of fit'!C888-'Goodness of fit'!D888)^2/'Goodness of fit'!D888,\"\")","v":""}]
[{"$f":"'Goodness of fit'!F$12/1000+A888","v":14.208000000000011},{"$error":"#NUM!"},{"$f":"IF(A889>='Goodness of fit'!$F$11,B889,0)","v":{"$error":"#NUM!"}},{"$error":"#NUM!"},{"$f":"IF('Goodness of fit'!D889>0,('Goodness of fit'!C889-'Goodness of fit'!D889)^2/'Goodness of fit'!D889,\"\")","v":""}]
[{"$f":"'Goodness of fit'!F$12/1000+A889","v":14.224000000000011},{"$error":"#NUM!"},{"$f":"IF(A890>='Goodness of fit'!$F$11,B890,0)","v":{"$error":"#NUM!"}},{"$error":"#NUM!"},{"$f":"IF('Goodness of fit'!D890>0,('Goodness of fit'!C890-'Goodness of fit'!D890)^2/'Goodness of fit'!D890,\"\")","v":""}]
[{"$f":"'Goodness of fit'!F$12/1000+A890","v":14.240000000000011},{"$error":"#NUM!"},{"$f":"IF(A891>='Goodness of fit'!$F$11,B891,0)","v":{"$error":"#NUM!"}},{"$error":"#NUM!"},{"$f":"IF('Goodness of fit'!D891>0,('Goodness of fit'!C891-'Goodness of fit'!D891)^2/'Goodness of fit'!D891,\"\")","v":""}]
[{"$f":"'Goodness of fit'!F$12/1000+A891","v":14.256000000000011},{"$error":"#NUM!"},{"$f":"IF(A892>='Goodness of fit'!$F$11,B892,0)","v":{"$error":"#NUM!"}},{"$error":"#NUM!"},{"$f":"IF('Goodness of fit'!D892>0,('Goodness of fit'!C892-'Goodness of fit'!D892)^2/'Goodness of fit'!D892,\"\")","v":""}]
[{"$f":"'Goodness of fit'!F$12/1000+A892","v":14.272000000000011},{"$error":"#NUM!"},{"$f":"IF(A893>='Goodness of fit'!$F$11,B893,0)","v":{"$error":"#NUM!"}},{"$error":"#NUM!"},{"$f":"IF('Goodness of fit'!D893>0,('Goodness of fit'!C893-'Goodness of fit'!D893)^2/'Goodness of fit'!D893,\"\")","v":""}]
[{"$f":"'Goodness of fit'!F$12/1000+A893","v":14.288000000000011},{"$error":"#NUM!"},{"$f":"IF(A894>='Goodness of fit'!$F$11,B894,0)","v":{"$error":"#NUM!"}},{"$error":"#NUM!"},{"$f":"IF('Goodness of fit'!D894>0,('Goodness of fit'!C894-'Goodness of fit'!D894)^2/'Goodness of fit'!D894,\"\")","v":""}]
[{"$f":"'Goodness of fit'!F$12/1000+A894","v":14.304000000000011},{"$error":"#NUM!"},{"$f":"IF(A895>='Goodness of fit'!$F$11,B895,0)","v":{"$error":"#NUM!"}},{"$error":"#NUM!"},{"$f":"IF('Goodness of fit'!D895>0,('Goodness of fit'!C895-'Goodness of fit'!D895)^2/'Goodness of fit'!D895,\"\")","v":""}]
[{"$f":"'Goodness of fit'!F$12/1000+A895","v":14.320000000000011},{"$error":"#NUM!"},{"$f":"IF(A896>='Goodness of fit'!$F$11,B896,0)","v":{"$error":"#NUM!"}},{"$error":"#NUM!"},{"$f":"IF('Goodness of fit'!D896>0,('Goodness of fit'!C896-'Goodness of fit'!D896)^2/'Goodness of fit'!D896,\"\")","v":""}]
[{"$f":"'Goodness of fit'!F$12/1000+A896","v":14.336000000000011},{"$error":"#NUM!"},{"$f":"IF(A897>='Goodness of fit'!$F$11,B897,0)","v":{"$error":"#NUM!"}},{"$error":"#NUM!"},{"$f":"IF('Goodness of fit'!D897>0,('Goodness of fit'!C897-'Goodness of fit'!D897)^2/'Goodness of fit'!D897,\"\")","v":""}]
[{"$f":"'Goodness of fit'!F$12/1000+A897","v":14.352000000000011},{"$error":"#NUM!"},{"$f":"IF(A898>='Goodness of fit'!$F$11,B898,0)","v":{"$error":"#NUM!"}},{"$f":"CHIDIST(A898,F$1)","v":{"$error":"#NUM!"}},{"$f":"IF('Goodness of fit'!D898>0,('Goodness of fit'!C898-'Goodness of fit'!D898)^2/'Goodness of fit'!D898,\"\")","v":""}]
[{"$f":"'Goodness of fit'!F$12/1000+A898","v":14.368000000000011},{"$f":"_xlfn.CHISQ.DIST(A899,F$1,FALSE)","v":{"$error":"#NUM!"}},{"$f":"IF(A899>='Goodness of fit'!$F$11,B899,0)","v":{"$error":"#NUM!"}},{"$error":"#NUM!"},{"$f":"IF('Goodness of fit'!D899>0,('Goodness of fit'!C899-'Goodness of fit'!D899)^2/'Goodness of fit'!D899,\"\")","v":""}]
[{"$f":"'Goodness of fit'!F$12/1000+A899","v":14.384000000000011},{"$error":"#NUM!"},{"$f":"IF(A900>='Goodness of fit'!$F$11,B900,0)","v":{"$error":"#NUM!"}},{"$error":"#NUM!"},{"$f":"IF('Goodness of fit'!D900>0,('Goodness of fit'!C900-'Goodness of fit'!D900)^2/'Goodness of fit'!D900,\"\")","v":""}]
[{"$f":"'Goodness of fit'!F$12/1000+A900","v":14.400000000000011},{"$error":"#NUM!"},{"$f":"IF(A901>='Goodness of fit'!$F$11,B901,0)","v":{"$error":"#NUM!"}},{"$error":"#NUM!"},{"$f":"IF('Goodness of fit'!D901>0,('Goodness of fit'!C901-'Goodness of fit'!D901)^2/'Goodness of fit'!D901,\"\")","v":""}]
[{"$f":"'Goodness of fit'!F$12/1000+A901","v":14.416000000000011},{"$error":"#NUM!"},{"$f":"IF(A902>='Goodness of fit'!$F$11,B902,0)","v":{"$error":"#NUM!"}},{"$error":"#NUM!"},{"$f":"IF('Goodness of fit'!D902>0,('Goodness of fit'!C902-'Goodness of fit'!D902)^2/'Goodness of fit'!D902,\"\")","v":""}]
[{"$f":"'Goodness of fit'!F$12/1000+A902","v":14.432000000000011},{"$error":"#NUM!"},{"$f":"IF(A903>='Goodness of fit'!$F$11,B903,0)","v":{"$error":"#NUM!"}},{"$error":"#NUM!"},{"$f":"IF('Goodness of fit'!D903>0,('Goodness of fit'!C903-'Goodness of fit'!D903)^2/'Goodness of fit'!D903,\"\")","v":""}]
[{"$f":"'Goodness of fit'!F$12/1000+A903","v":14.448000000000011},{"$error":"#NUM!"},{"$f":"IF(A904>='Goodness of fit'!$F$11,B904,0)","v":{"$error":"#NUM!"}},{"$error":"#NUM!"},{"$f":"IF('Goodness of fit'!D904>0,('Goodness of fit'!C904-'Goodness of fit'!D904)^2/'Goodness of fit'!D904,\"\")","v":""}]
[{"$f":"'Goodness of fit'!F$12/1000+A904","v":14.464000000000011},{"$error":"#NUM!"},{"$f":"IF(A905>='Goodness of fit'!$F$11,B905,0)","v":{"$error":"#NUM!"}},{"$error":"#NUM!"},{"$f":"IF('Goodness of fit'!D905>0,('Goodness of fit'!C905-'Goodness of fit'!D905)^2/'Goodness of fit'!D905,\"\")","v":""}]
[{"$f":"'Goodness of fit'!F$12/1000+A905","v":14.480000000000011},{"$error":"#NUM!"},{"$f":"IF(A906>='Goodness of fit'!$F$11,B906,0)","v":{"$error":"#NUM!"}},{"$error":"#NUM!"},{"$f":"IF('Goodness of fit'!D906>0,('Goodness of fit'!C906-'Goodness of fit'!D906)^2/'Goodness of fit'!D906,\"\")","v":""}]
[{"$f":"'Goodness of fit'!F$12/1000+A906","v":14.496000000000011},{"$error":"#NUM!"},{"$f":"IF(A907>='Goodness of fit'!$F$11,B907,0)","v":{"$error":"#NUM!"}},{"$error":"#NUM!"},{"$f":"IF('Goodness of fit'!D907>0,('Goodness of fit'!C907-'Goodness of fit'!D907)^2/'Goodness of fit'!D907,\"\")","v":""}]
[{"$f":"'Goodness of fit'!F$12/1000+A907","v":14.512000000000011},{"$error":"#NUM!"},{"$f":"IF(A908>='Goodness of fit'!$F$11,B908,0)","v":{"$error":"#NUM!"}},{"$error":"#NUM!"},{"$f":"IF('Goodness of fit'!D908>0,('Goodness of fit'!C908-'Goodness of fit'!D908)^2/'Goodness of fit'!D908,\"\")","v":""}]
[{"$f":"'Goodness of fit'!F$12/1000+A908","v":14.528000000000011},{"$error":"#NUM!"},{"$f":"IF(A909>='Goodness of fit'!$F$11,B909,0)","v":{"$error":"#NUM!"}},{"$error":"#NUM!"},{"$f":"IF('Goodness of fit'!D909>0,('Goodness of fit'!C909-'Goodness of fit'!D909)^2/'Goodness of fit'!D909,\"\")","v":""}]
[{"$f":"'Goodness of fit'!F$12/1000+A909","v":14.544000000000011},{"$error":"#NUM!"},{"$f":"IF(A910>='Goodness of fit'!$F$11,B910,0)","v":{"$error":"#NUM!"}},{"$error":"#NUM!"},{"$f":"IF('Goodness of fit'!D910>0,('Goodness of fit'!C910-'Goodness of fit'!D910)^2/'Goodness of fit'!D910,\"\")","v":""}]
[{"$f":"'Goodness of fit'!F$12/1000+A910","v":14.560000000000011},{"$error":"#NUM!"},{"$f":"IF(A911>='Goodness of fit'!$F$11,B911,0)","v":{"$error":"#NUM!"}},{"$error":"#NUM!"},{"$f":"IF('Goodness of fit'!D911>0,('Goodness of fit'!C911-'Goodness of fit'!D911)^2/'Goodness of fit'!D911,\"\")","v":""}]
[{"$f":"'Goodness of fit'!F$12/1000+A911","v":14.576000000000011},{"$error":"#NUM!"},{"$f":"IF(A912>='Goodness of fit'!$F$11,B912,0)","v":{"$error":"#NUM!"}},{"$error":"#NUM!"},{"$f":"IF('Goodness of fit'!D912>0,('Goodness of fit'!C912-'Goodness of fit'!D912)^2/'Goodness of fit'!D912,\"\")","v":""}]
[{"$f":"'Goodness of fit'!F$12/1000+A912","v":14.592000000000011},{"$error":"#NUM!"},{"$f":"IF(A913>='Goodness of fit'!$F$11,B913,0)","v":{"$error":"#NUM!"}},{"$error":"#NUM!"},{"$f":"IF('Goodness of fit'!D913>0,('Goodness of fit'!C913-'Goodness of fit'!D913)^2/'Goodness of fit'!D913,\"\")","v":""}]
[{"$f":"'Goodness of fit'!F$12/1000+A913","v":14.608000000000011},{"$error":"#NUM!"},{"$f":"IF(A914>='Goodness of fit'!$F$11,B914,0)","v":{"$error":"#NUM!"}},{"$error":"#NUM!"},{"$f":"IF('Goodness of fit'!D914>0,('Goodness of fit'!C914-'Goodness of fit'!D914)^2/'Goodness of fit'!D914,\"\")","v":""}]
[{"$f":"'Goodness of fit'!F$12/1000+A914","v":14.624000000000011},{"$error":"#NUM!"},{"$f":"IF(A915>='Goodness of fit'!$F$11,B915,0)","v":{"$error":"#NUM!"}},{"$error":"#NUM!"},{"$f":"IF('Goodness of fit'!D915>0,('Goodness of fit'!C915-'Goodness of fit'!D915)^2/'Goodness of fit'!D915,\"\")","v":""}]
[{"$f":"'Goodness of fit'!F$12/1000+A915","v":14.640000000000011},{"$error":"#NUM!"},{"$f":"IF(A916>='Goodness of fit'!$F$11,B916,0)","v":{"$error":"#NUM!"}},{"$error":"#NUM!"},{"$f":"IF('Goodness of fit'!D916>0,('Goodness of fit'!C916-'Goodness of fit'!D916)^2/'Goodness of fit'!D916,\"\")","v":""}]
[{"$f":"'Goodness of fit'!F$12/1000+A916","v":14.656000000000011},{"$error":"#NUM!"},{"$f":"IF(A917>='Goodness of fit'!$F$11,B917,0)","v":{"$error":"#NUM!"}},{"$error":"#NUM!"},{"$f":"IF('Goodness of fit'!D917>0,('Goodness of fit'!C917-'Goodness of fit'!D917)^2/'Goodness of fit'!D917,\"\")","v":""}]
[{"$f":"'Goodness of fit'!F$12/1000+A917","v":14.672000000000011},{"$error":"#NUM!"},{"$f":"IF(A918>='Goodness of fit'!$F$11,B918,0)","v":{"$error":"#NUM!"}},{"$error":"#NUM!"},{"$f":"IF('Goodness of fit'!D918>0,('Goodness of fit'!C918-'Goodness of fit'!D918)^2/'Goodness of fit'!D918,\"\")","v":""}]
[{"$f":"'Goodness of fit'!F$12/1000+A918","v":14.688000000000011},{"$error":"#NUM!"},{"$f":"IF(A919>='Goodness of fit'!$F$11,B919,0)","v":{"$error":"#NUM!"}},{"$error":"#NUM!"},{"$f":"IF('Goodness of fit'!D919>0,('Goodness of fit'!C919-'Goodness of fit'!D919)^2/'Goodness of fit'!D919,\"\")","v":""}]
[{"$f":"'Goodness of fit'!F$12/1000+A919","v":14.704000000000011},{"$error":"#NUM!"},{"$f":"IF(A920>='Goodness of fit'!$F$11,B920,0)","v":{"$error":"#NUM!"}},{"$error":"#NUM!"},{"$f":"IF('Goodness of fit'!D920>0,('Goodness of fit'!C920-'Goodness of fit'!D920)^2/'Goodness of fit'!D920,\"\")","v":""}]
[{"$f":"'Goodness of fit'!F$12/1000+A920","v":14.720000000000011},{"$error":"#NUM!"},{"$f":"IF(A921>='Goodness of fit'!$F$11,B921,0)","v":{"$error":"#NUM!"}},{"$error":"#NUM!"},{"$f":"IF('Goodness of fit'!D921>0,('Goodness of fit'!C921-'Goodness of fit'!D921)^2/'Goodness of fit'!D921,\"\")","v":""}]
[{"$f":"'Goodness of fit'!F$12/1000+A921","v":14.736000000000011},{"$error":"#NUM!"},{"$f":"IF(A922>='Goodness of fit'!$F$11,B922,0)","v":{"$error":"#NUM!"}},{"$error":"#NUM!"},{"$f":"IF('Goodness of fit'!D922>0,('Goodness of fit'!C922-'Goodness of fit'!D922)^2/'Goodness of fit'!D922,\"\")","v":""}]
[{"$f":"'Goodness of fit'!F$12/1000+A922","v":14.752000000000011},{"$error":"#NUM!"},{"$f":"IF(A923>='Goodness of fit'!$F$11,B923,0)","v":{"$error":"#NUM!"}},{"$error":"#NUM!"},{"$f":"IF('Goodness of fit'!D923>0,('Goodness of fit'!C923-'Goodness of fit'!D923)^2/'Goodness of fit'!D923,\"\")","v":""}]
[{"$f":"'Goodness of fit'!F$12/1000+A923","v":14.768000000000011},{"$error":"#NUM!"},{"$f":"IF(A924>='Goodness of fit'!$F$11,B924,0)","v":{"$error":"#NUM!"}},{"$error":"#NUM!"},{"$f":"IF('Goodness of fit'!D924>0,('Goodness of fit'!C924-'Goodness of fit'!D924)^2/'Goodness of fit'!D924,\"\")","v":""}]
[{"$f":"'Goodness of fit'!F$12/1000+A924","v":14.784000000000011},{"$error":"#NUM!"},{"$f":"IF(A925>='Goodness of fit'!$F$11,B925,0)","v":{"$error":"#NUM!"}},{"$error":"#NUM!"},{"$f":"IF('Goodness of fit'!D925>0,('Goodness of fit'!C925-'Goodness of fit'!D925)^2/'Goodness of fit'!D925,\"\")","v":""}]
[{"$f":"'Goodness of fit'!F$12/1000+A925","v":14.800000000000011},{"$error":"#NUM!"},{"$f":"IF(A926>='Goodness of fit'!$F$11,B926,0)","v":{"$error":"#NUM!"}},{"$error":"#NUM!"},{"$f":"IF('Goodness of fit'!D926>0,('Goodness of fit'!C926-'Goodness of fit'!D926)^2/'Goodness of fit'!D926,\"\")","v":""}]
[{"$f":"'Goodness of fit'!F$12/1000+A926","v":14.816000000000011},{"$error":"#NUM!"},{"$f":"IF(A927>='Goodness of fit'!$F$11,B927,0)","v":{"$error":"#NUM!"}},{"$error":"#NUM!"},{"$f":"IF('Goodness of fit'!D927>0,('Goodness of fit'!C927-'Goodness of fit'!D927)^2/'Goodness of fit'!D927,\"\")","v":""}]
[{"$f":"'Goodness of fit'!F$12/1000+A927","v":14.832000000000011},{"$error":"#NUM!"},{"$f":"IF(A928>='Goodness of fit'!$F$11,B928,0)","v":{"$error":"#NUM!"}},{"$error":"#NUM!"},{"$f":"IF('Goodness of fit'!D928>0,('Goodness of fit'!C928-'Goodness of fit'!D928)^2/'Goodness of fit'!D928,\"\")","v":""}]
[{"$f":"'Goodness of fit'!F$12/1000+A928","v":14.848000000000011},{"$error":"#NUM!"},{"$f":"IF(A929>='Goodness of fit'!$F$11,B929,0)","v":{"$error":"#NUM!"}},{"$error":"#NUM!"},{"$f":"IF('Goodness of fit'!D929>0,('Goodness of fit'!C929-'Goodness of fit'!D929)^2/'Goodness of fit'!D929,\"\")","v":""}]
[{"$f":"'Goodness of fit'!F$12/1000+A929","v":14.864000000000011},{"$error":"#NUM!"},{"$f":"IF(A930>='Goodness of fit'!$F$11,B930,0)","v":{"$error":"#NUM!"}},{"$error":"#NUM!"},{"$f":"IF('Goodness of fit'!D930>0,('Goodness of fit'!C930-'Goodness of fit'!D930)^2/'Goodness of fit'!D930,\"\")","v":""}]
[{"$f":"'Goodness of fit'!F$12/1000+A930","v":14.880000000000011},{"$error":"#NUM!"},{"$f":"IF(A931>='Goodness of fit'!$F$11,B931,0)","v":{"$error":"#NUM!"}},{"$error":"#NUM!"},{"$f":"IF('Goodness of fit'!D931>0,('Goodness of fit'!C931-'Goodness of fit'!D931)^2/'Goodness of fit'!D931,\"\")","v":""}]
[{"$f":"'Goodness of fit'!F$12/1000+A931","v":14.896000000000011},{"$error":"#NUM!"},{"$f":"IF(A932>='Goodness of fit'!$F$11,B932,0)","v":{"$error":"#NUM!"}},{"$error":"#NUM!"},{"$f":"IF('Goodness of fit'!D932>0,('Goodness of fit'!C932-'Goodness of fit'!D932)^2/'Goodness of fit'!D932,\"\")","v":""}]
[{"$f":"'Goodness of fit'!F$12/1000+A932","v":14.912000000000011},{"$error":"#NUM!"},{"$f":"IF(A933>='Goodness of fit'!$F$11,B933,0)","v":{"$error":"#NUM!"}},{"$error":"#NUM!"},{"$f":"IF('Goodness of fit'!D933>0,('Goodness of fit'!C933-'Goodness of fit'!D933)^2/'Goodness of fit'!D933,\"\")","v":""}]
[{"$f":"'Goodness of fit'!F$12/1000+A933","v":14.928000000000011},{"$error":"#NUM!"},{"$f":"IF(A934>='Goodness of fit'!$F$11,B934,0)","v":{"$error":"#NUM!"}},{"$error":"#NUM!"},{"$f":"IF('Goodness of fit'!D934>0,('Goodness of fit'!C934-'Goodness of fit'!D934)^2/'Goodness of fit'!D934,\"\")","v":""}]
[{"$f":"'Goodness of fit'!F$12/1000+A934","v":14.944000000000011},{"$error":"#NUM!"},{"$f":"IF(A935>='Goodness of fit'!$F$11,B935,0)","v":{"$error":"#NUM!"}},{"$error":"#NUM!"},{"$f":"IF('Goodness of fit'!D935>0,('Goodness of fit'!C935-'Goodness of fit'!D935)^2/'Goodness of fit'!D935,\"\")","v":""}]
[{"$f":"'Goodness of fit'!F$12/1000+A935","v":14.960000000000012},{"$error":"#NUM!"},{"$f":"IF(A936>='Goodness of fit'!$F$11,B936,0)","v":{"$error":"#NUM!"}},{"$error":"#NUM!"},{"$f":"IF('Goodness of fit'!D936>0,('Goodness of fit'!C936-'Goodness of fit'!D936)^2/'Goodness of fit'!D936,\"\")","v":""}]
[{"$f":"'Goodness of fit'!F$12/1000+A936","v":14.976000000000012},{"$error":"#NUM!"},{"$f":"IF(A937>='Goodness of fit'!$F$11,B937,0)","v":{"$error":"#NUM!"}},{"$error":"#NUM!"},{"$f":"IF('Goodness of fit'!D937>0,('Goodness of fit'!C937-'Goodness of fit'!D937)^2/'Goodness of fit'!D937,\"\")","v":""}]
[{"$f":"'Goodness of fit'!F$12/1000+A937","v":14.992000000000012},{"$error":"#NUM!"},{"$f":"IF(A938>='Goodness of fit'!$F$11,B938,0)","v":{"$error":"#NUM!"}},{"$error":"#NUM!"},{"$f":"IF('Goodness of fit'!D938>0,('Goodness of fit'!C938-'Goodness of fit'!D938)^2/'Goodness of fit'!D938,\"\")","v":""}]
[{"$f":"'Goodness of fit'!F$12/1000+A938","v":15.008000000000012},{"$error":"#NUM!"},{"$f":"IF(A939>='Goodness of fit'!$F$11,B939,0)","v":{"$error":"#NUM!"}},{"$error":"#NUM!"},{"$f":"IF('Goodness of fit'!D939>0,('Goodness of fit'!C939-'Goodness of fit'!D939)^2/'Goodness of fit'!D939,\"\")","v":""}]
[{"$f":"'Goodness of fit'!F$12/1000+A939","v":15.024000000000012},{"$error":"#NUM!"},{"$f":"IF(A940>='Goodness of fit'!$F$11,B940,0)","v":{"$error":"#NUM!"}},{"$error":"#NUM!"},{"$f":"IF('Goodness of fit'!D940>0,('Goodness of fit'!C940-'Goodness of fit'!D940)^2/'Goodness of fit'!D940,\"\")","v":""}]
[{"$f":"'Goodness of fit'!F$12/1000+A940","v":15.040000000000012},{"$error":"#NUM!"},{"$f":"IF(A941>='Goodness of fit'!$F$11,B941,0)","v":{"$error":"#NUM!"}},{"$error":"#NUM!"},{"$f":"IF('Goodness of fit'!D941>0,('Goodness of fit'!C941-'Goodness of fit'!D941)^2/'Goodness of fit'!D941,\"\")","v":""}]
[{"$f":"'Goodness of fit'!F$12/1000+A941","v":15.056000000000012},{"$error":"#NUM!"},{"$f":"IF(A942>='Goodness of fit'!$F$11,B942,0)","v":{"$error":"#NUM!"}},{"$error":"#NUM!"},{"$f":"IF('Goodness of fit'!D942>0,('Goodness of fit'!C942-'Goodness of fit'!D942)^2/'Goodness of fit'!D942,\"\")","v":""}]
[{"$f":"'Goodness of fit'!F$12/1000+A942","v":15.072000000000012},{"$error":"#NUM!"},{"$f":"IF(A943>='Goodness of fit'!$F$11,B943,0)","v":{"$error":"#NUM!"}},{"$error":"#NUM!"},{"$f":"IF('Goodness of fit'!D943>0,('Goodness of fit'!C943-'Goodness of fit'!D943)^2/'Goodness of fit'!D943,\"\")","v":""}]
[{"$f":"'Goodness of fit'!F$12/1000+A943","v":15.088000000000012},{"$error":"#NUM!"},{"$f":"IF(A944>='Goodness of fit'!$F$11,B944,0)","v":{"$error":"#NUM!"}},{"$error":"#NUM!"},{"$f":"IF('Goodness of fit'!D944>0,('Goodness of fit'!C944-'Goodness of fit'!D944)^2/'Goodness of fit'!D944,\"\")","v":""}]
[{"$f":"'Goodness of fit'!F$12/1000+A944","v":15.104000000000012},{"$error":"#NUM!"},{"$f":"IF(A945>='Goodness of fit'!$F$11,B945,0)","v":{"$error":"#NUM!"}},{"$error":"#NUM!"},{"$f":"IF('Goodness of fit'!D945>0,('Goodness of fit'!C945-'Goodness of fit'!D945)^2/'Goodness of fit'!D945,\"\")","v":""}]
[{"$f":"'Goodness of fit'!F$12/1000+A945","v":15.120000000000012},{"$error":"#NUM!"},{"$f":"IF(A946>='Goodness of fit'!$F$11,B946,0)","v":{"$error":"#NUM!"}},{"$error":"#NUM!"},{"$f":"IF('Goodness of fit'!D946>0,('Goodness of fit'!C946-'Goodness of fit'!D946)^2/'Goodness of fit'!D946,\"\")","v":""}]
[{"$f":"'Goodness of fit'!F$12/1000+A946","v":15.136000000000012},{"$error":"#NUM!"},{"$f":"IF(A947>='Goodness of fit'!$F$11,B947,0)","v":{"$error":"#NUM!"}},{"$error":"#NUM!"},{"$f":"IF('Goodness of fit'!D947>0,('Goodness of fit'!C947-'Goodness of fit'!D947)^2/'Goodness of fit'!D947,\"\")","v":""}]
[{"$f":"'Goodness of fit'!F$12/1000+A947","v":15.152000000000012},{"$error":"#NUM!"},{"$f":"IF(A948>='Goodness of fit'!$F$11,B948,0)","v":{"$error":"#NUM!"}},{"$error":"#NUM!"},{"$f":"IF('Goodness of fit'!D948>0,('Goodness of fit'!C948-'Goodness of fit'!D948)^2/'Goodness of fit'!D948,\"\")","v":""}]
[{"$f":"'Goodness of fit'!F$12/1000+A948","v":15.168000000000012},{"$error":"#NUM!"},{"$f":"IF(A949>='Goodness of fit'!$F$11,B949,0)","v":{"$error":"#NUM!"}},{"$error":"#NUM!"},{"$f":"IF('Goodness of fit'!D949>0,('Goodness of fit'!C949-'Goodness of fit'!D949)^2/'Goodness of fit'!D949,\"\")","v":""}]
[{"$f":"'Goodness of fit'!F$12/1000+A949","v":15.184000000000012},{"$error":"#NUM!"},{"$f":"IF(A950>='Goodness of fit'!$F$11,B950,0)","v":{"$error":"#NUM!"}},{"$error":"#NUM!"},{"$f":"IF('Goodness of fit'!D950>0,('Goodness of fit'!C950-'Goodness of fit'!D950)^2/'Goodness of fit'!D950,\"\")","v":""}]
[{"$f":"'Goodness of fit'!F$12/1000+A950","v":15.200000000000012},{"$error":"#NUM!"},{"$f":"IF(A951>='Goodness of fit'!$F$11,B951,0)","v":{"$error":"#NUM!"}},{"$error":"#NUM!"},{"$f":"IF('Goodness of fit'!D951>0,('Goodness of fit'!C951-'Goodness of fit'!D951)^2/'Goodness of fit'!D951,\"\")","v":""}]
[{"$f":"'Goodness of fit'!F$12/1000+A951","v":15.216000000000012},{"$error":"#NUM!"},{"$f":"IF(A952>='Goodness of fit'!$F$11,B952,0)","v":{"$error":"#NUM!"}},{"$error":"#NUM!"},{"$f":"IF('Goodness of fit'!D952>0,('Goodness of fit'!C952-'Goodness of fit'!D952)^2/'Goodness of fit'!D952,\"\")","v":""}]
[{"$f":"'Goodness of fit'!F$12/1000+A952","v":15.232000000000012},{"$error":"#NUM!"},{"$f":"IF(A953>='Goodness of fit'!$F$11,B953,0)","v":{"$error":"#NUM!"}},{"$error":"#NUM!"},{"$f":"IF('Goodness of fit'!D953>0,('Goodness of fit'!C953-'Goodness of fit'!D953)^2/'Goodness of fit'!D953,\"\")","v":""}]
[{"$f":"'Goodness of fit'!F$12/1000+A953","v":15.248000000000012},{"$error":"#NUM!"},{"$f":"IF(A954>='Goodness of fit'!$F$11,B954,0)","v":{"$error":"#NUM!"}},{"$error":"#NUM!"},{"$f":"IF('Goodness of fit'!D954>0,('Goodness of fit'!C954-'Goodness of fit'!D954)^2/'Goodness of fit'!D954,\"\")","v":""}]
[{"$f":"'Goodness of fit'!F$12/1000+A954","v":15.264000000000012},{"$error":"#NUM!"},{"$f":"IF(A955>='Goodness of fit'!$F$11,B955,0)","v":{"$error":"#NUM!"}},{"$error":"#NUM!"},{"$f":"IF('Goodness of fit'!D955>0,('Goodness of fit'!C955-'Goodness of fit'!D955)^2/'Goodness of fit'!D955,\"\")","v":""}]
[{"$f":"'Goodness of fit'!F$12/1000+A955","v":15.280000000000012},{"$error":"#NUM!"},{"$f":"IF(A956>='Goodness of fit'!$F$11,B956,0)","v":{"$error":"#NUM!"}},{"$error":"#NUM!"},{"$f":"IF('Goodness of fit'!D956>0,('Goodness of fit'!C956-'Goodness of fit'!D956)^2/'Goodness of fit'!D956,\"\")","v":""}]
[{"$f":"'Goodness of fit'!F$12/1000+A956","v":15.296000000000012},{"$error":"#NUM!"},{"$f":"IF(A957>='Goodness of fit'!$F$11,B957,0)","v":{"$error":"#NUM!"}},{"$error":"#NUM!"},{"$f":"IF('Goodness of fit'!D957>0,('Goodness of fit'!C957-'Goodness of fit'!D957)^2/'Goodness of fit'!D957,\"\")","v":""}]
[{"$f":"'Goodness of fit'!F$12/1000+A957","v":15.312000000000012},{"$error":"#NUM!"},{"$f":"IF(A958>='Goodness of fit'!$F$11,B958,0)","v":{"$error":"#NUM!"}},{"$error":"#NUM!"},{"$f":"IF('Goodness of fit'!D958>0,('Goodness of fit'!C958-'Goodness of fit'!D958)^2/'Goodness of fit'!D958,\"\")","v":""}]
[{"$f":"'Goodness of fit'!F$12/1000+A958","v":15.328000000000012},{"$error":"#NUM!"},{"$f":"IF(A959>='Goodness of fit'!$F$11,B959,0)","v":{"$error":"#NUM!"}},{"$error":"#NUM!"},{"$f":"IF('Goodness of fit'!D959>0,('Goodness of fit'!C959-'Goodness of fit'!D959)^2/'Goodness of fit'!D959,\"\")","v":""}]
[{"$f":"'Goodness of fit'!F$12/1000+A959","v":15.344000000000012},{"$error":"#NUM!"},{"$f":"IF(A960>='Goodness of fit'!$F$11,B960,0)","v":{"$error":"#NUM!"}},{"$error":"#NUM!"},{"$f":"IF('Goodness of fit'!D960>0,('Goodness of fit'!C960-'Goodness of fit'!D960)^2/'Goodness of fit'!D960,\"\")","v":""}]
[{"$f":"'Goodness of fit'!F$12/1000+A960","v":15.360000000000012},{"$error":"#NUM!"},{"$f":"IF(A961>='Goodness of fit'!$F$11,B961,0)","v":{"$error":"#NUM!"}},{"$error":"#NUM!"},{"$f":"IF('Goodness of fit'!D961>0,('Goodness of fit'!C961-'Goodness of fit'!D961)^2/'Goodness of fit'!D961,\"\")","v":""}]
[{"$f":"'Goodness of fit'!F$12/1000+A961","v":15.376000000000012},{"$error":"#NUM!"},{"$f":"IF(A962>='Goodness of fit'!$F$11,B962,0)","v":{"$error":"#NUM!"}},{"$f":"CHIDIST(A962,F$1)","v":{"$error":"#NUM!"}},{"$f":"IF('Goodness of fit'!D962>0,('Goodness of fit'!C962-'Goodness of fit'!D962)^2/'Goodness of fit'!D962,\"\")","v":""}]
[{"$f":"'Goodness of fit'!F$12/1000+A962","v":15.392000000000012},{"$f":"_xlfn.CHISQ.DIST(A963,F$1,FALSE)","v":{"$error":"#NUM!"}},{"$f":"IF(A963>='Goodness of fit'!$F$11,B963,0)","v":{"$error":"#NUM!"}},{"$error":"#NUM!"},{"$f":"IF('Goodness of fit'!D963>0,('Goodness of fit'!C963-'Goodness of fit'!D963)^2/'Goodness of fit'!D963,\"\")","v":""}]
[{"$f":"'Goodness of fit'!F$12/1000+A963","v":15.408000000000012},{"$error":"#NUM!"},{"$f":"IF(A964>='Goodness of fit'!$F$11,B964,0)","v":{"$error":"#NUM!"}},{"$error":"#NUM!"},{"$f":"IF('Goodness of fit'!D964>0,('Goodness of fit'!C964-'Goodness of fit'!D964)^2/'Goodness of fit'!D964,\"\")","v":""}]
[{"$f":"'Goodness of fit'!F$12/1000+A964","v":15.424000000000012},{"$error":"#NUM!"},{"$f":"IF(A965>='Goodness of fit'!$F$11,B965,0)","v":{"$error":"#NUM!"}},{"$error":"#NUM!"},{"$f":"IF('Goodness of fit'!D965>0,('Goodness of fit'!C965-'Goodness of fit'!D965)^2/'Goodness of fit'!D965,\"\")","v":""}]
[{"$f":"'Goodness of fit'!F$12/1000+A965","v":15.440000000000012},{"$error":"#NUM!"},{"$f":"IF(A966>='Goodness of fit'!$F$11,B966,0)","v":{"$error":"#NUM!"}},{"$error":"#NUM!"},{"$f":"IF('Goodness of fit'!D966>0,('Goodness of fit'!C966-'Goodness of fit'!D966)^2/'Goodness of fit'!D966,\"\")","v":""}]
[{"$f":"'Goodness of fit'!F$12/1000+A966","v":15.456000000000012},{"$error":"#NUM!"},{"$f":"IF(A967>='Goodness of fit'!$F$11,B967,0)","v":{"$error":"#NUM!"}},{"$error":"#NUM!"},{"$f":"IF('Goodness of fit'!D967>0,('Goodness of fit'!C967-'Goodness of fit'!D967)^2/'Goodness of fit'!D967,\"\")","v":""}]
[{"$f":"'Goodness of fit'!F$12/1000+A967","v":15.472000000000012},{"$error":"#NUM!"},{"$f":"IF(A968>='Goodness of fit'!$F$11,B968,0)","v":{"$error":"#NUM!"}},{"$error":"#NUM!"},{"$f":"IF('Goodness of fit'!D968>0,('Goodness of fit'!C968-'Goodness of fit'!D968)^2/'Goodness of fit'!D968,\"\")","v":""}]
[{"$f":"'Goodness of fit'!F$12/1000+A968","v":15.488000000000012},{"$error":"#NUM!"},{"$f":"IF(A969>='Goodness of fit'!$F$11,B969,0)","v":{"$error":"#NUM!"}},{"$error":"#NUM!"},{"$f":"IF('Goodness of fit'!D969>0,('Goodness of fit'!C969-'Goodness of fit'!D969)^2/'Goodness of fit'!D969,\"\")","v":""}]
[{"$f":"'Goodness of fit'!F$12/1000+A969","v":15.504000000000012},{"$error":"#NUM!"},{"$f":"IF(A970>='Goodness of fit'!$F$11,B970,0)","v":{"$error":"#NUM!"}},{"$error":"#NUM!"},{"$f":"IF('Goodness of fit'!D970>0,('Goodness of fit'!C970-'Goodness of fit'!D970)^2/'Goodness of fit'!D970,\"\")","v":""}]
[{"$f":"'Goodness of fit'!F$12/1000+A970","v":15.520000000000012},{"$error":"#NUM!"},{"$f":"IF(A971>='Goodness of fit'!$F$11,B971,0)","v":{"$error":"#NUM!"}},{"$error":"#NUM!"},{"$f":"IF('Goodness of fit'!D971>0,('Goodness of fit'!C971-'Goodness of fit'!D971)^2/'Goodness of fit'!D971,\"\")","v":""}]
[{"$f":"'Goodness of fit'!F$12/1000+A971","v":15.536000000000012},{"$error":"#NUM!"},{"$f":"IF(A972>='Goodness of fit'!$F$11,B972,0)","v":{"$error":"#NUM!"}},{"$error":"#NUM!"},{"$f":"IF('Goodness of fit'!D972>0,('Goodness of fit'!C972-'Goodness of fit'!D972)^2/'Goodness of fit'!D972,\"\")","v":""}]
[{"$f":"'Goodness of fit'!F$12/1000+A972","v":15.552000000000012},{"$error":"#NUM!"},{"$f":"IF(A973>='Goodness of fit'!$F$11,B973,0)","v":{"$error":"#NUM!"}},{"$error":"#NUM!"},{"$f":"IF('Goodness of fit'!D973>0,('Goodness of fit'!C973-'Goodness of fit'!D973)^2/'Goodness of fit'!D973,\"\")","v":""}]
[{"$f":"'Goodness of fit'!F$12/1000+A973","v":15.568000000000012},{"$error":"#NUM!"},{"$f":"IF(A974>='Goodness of fit'!$F$11,B974,0)","v":{"$error":"#NUM!"}},{"$error":"#NUM!"},{"$f":"IF('Goodness of fit'!D974>0,('Goodness of fit'!C974-'Goodness of fit'!D974)^2/'Goodness of fit'!D974,\"\")","v":""}]
[{"$f":"'Goodness of fit'!F$12/1000+A974","v":15.584000000000012},{"$error":"#NUM!"},{"$f":"IF(A975>='Goodness of fit'!$F$11,B975,0)","v":{"$error":"#NUM!"}},{"$error":"#NUM!"},{"$f":"IF('Goodness of fit'!D975>0,('Goodness of fit'!C975-'Goodness of fit'!D975)^2/'Goodness of fit'!D975,\"\")","v":""}]
[{"$f":"'Goodness of fit'!F$12/1000+A975","v":15.600000000000012},{"$error":"#NUM!"},{"$f":"IF(A976>='Goodness of fit'!$F$11,B976,0)","v":{"$error":"#NUM!"}},{"$error":"#NUM!"},{"$f":"IF('Goodness of fit'!D976>0,('Goodness of fit'!C976-'Goodness of fit'!D976)^2/'Goodness of fit'!D976,\"\")","v":""}]
[{"$f":"'Goodness of fit'!F$12/1000+A976","v":15.616000000000012},{"$error":"#NUM!"},{"$f":"IF(A977>='Goodness of fit'!$F$11,B977,0)","v":{"$error":"#NUM!"}},{"$error":"#NUM!"},{"$f":"IF('Goodness of fit'!D977>0,('Goodness of fit'!C977-'Goodness of fit'!D977)^2/'Goodness of fit'!D977,\"\")","v":""}]
[{"$f":"'Goodness of fit'!F$12/1000+A977","v":15.632000000000012},{"$error":"#NUM!"},{"$f":"IF(A978>='Goodness of fit'!$F$11,B978,0)","v":{"$error":"#NUM!"}},{"$error":"#NUM!"},{"$f":"IF('Goodness of fit'!D978>0,('Goodness of fit'!C978-'Goodness of fit'!D978)^2/'Goodness of fit'!D978,\"\")","v":""}]
[{"$f":"'Goodness of fit'!F$12/1000+A978","v":15.648000000000012},{"$error":"#NUM!"},{"$f":"IF(A979>='Goodness of fit'!$F$11,B979,0)","v":{"$error":"#NUM!"}},{"$error":"#NUM!"},{"$f":"IF('Goodness of fit'!D979>0,('Goodness of fit'!C979-'Goodness of fit'!D979)^2/'Goodness of fit'!D979,\"\")","v":""}]
[{"$f":"'Goodness of fit'!F$12/1000+A979","v":15.664000000000012},{"$error":"#NUM!"},{"$f":"IF(A980>='Goodness of fit'!$F$11,B980,0)","v":{"$error":"#NUM!"}},{"$error":"#NUM!"},{"$f":"IF('Goodness of fit'!D980>0,('Goodness of fit'!C980-'Goodness of fit'!D980)^2/'Goodness of fit'!D980,\"\")","v":""}]
[{"$f":"'Goodness of fit'!F$12/1000+A980","v":15.680000000000012},{"$error":"#NUM!"},{"$f":"IF(A981>='Goodness of fit'!$F$11,B981,0)","v":{"$error":"#NUM!"}},{"$error":"#NUM!"},{"$f":"IF('Goodness of fit'!D981>0,('Goodness of fit'!C981-'Goodness of fit'!D981)^2/'Goodness of fit'!D981,\"\")","v":""}]
[{"$f":"'Goodness of fit'!F$12/1000+A981","v":15.696000000000012},{"$error":"#NUM!"},{"$f":"IF(A982>='Goodness of fit'!$F$11,B982,0)","v":{"$error":"#NUM!"}},{"$error":"#NUM!"},{"$f":"IF('Goodness of fit'!D982>0,('Goodness of fit'!C982-'Goodness of fit'!D982)^2/'Goodness of fit'!D982,\"\")","v":""}]
[{"$f":"'Goodness of fit'!F$12/1000+A982","v":15.712000000000012},{"$error":"#NUM!"},{"$f":"IF(A983>='Goodness of fit'!$F$11,B983,0)","v":{"$error":"#NUM!"}},{"$error":"#NUM!"},{"$f":"IF('Goodness of fit'!D983>0,('Goodness of fit'!C983-'Goodness of fit'!D983)^2/'Goodness of fit'!D983,\"\")","v":""}]
[{"$f":"'Goodness of fit'!F$12/1000+A983","v":15.728000000000012},{"$error":"#NUM!"},{"$f":"IF(A984>='Goodness of fit'!$F$11,B984,0)","v":{"$error":"#NUM!"}},{"$error":"#NUM!"},{"$f":"IF('Goodness of fit'!D984>0,('Goodness of fit'!C984-'Goodness of fit'!D984)^2/'Goodness of fit'!D984,\"\")","v":""}]
[{"$f":"'Goodness of fit'!F$12/1000+A984","v":15.744000000000012},{"$error":"#NUM!"},{"$f":"IF(A985>='Goodness of fit'!$F$11,B985,0)","v":{"$error":"#NUM!"}},{"$error":"#NUM!"},{"$f":"IF('Goodness of fit'!D985>0,('Goodness of fit'!C985-'Goodness of fit'!D985)^2/'Goodness of fit'!D985,\"\")","v":""}]
[{"$f":"'Goodness of fit'!F$12/1000+A985","v":15.760000000000012},{"$error":"#NUM!"},{"$f":"IF(A986>='Goodness of fit'!$F$11,B986,0)","v":{"$error":"#NUM!"}},{"$error":"#NUM!"},{"$f":"IF('Goodness of fit'!D986>0,('Goodness of fit'!C986-'Goodness of fit'!D986)^2/'Goodness of fit'!D986,\"\")","v":""}]
[{"$f":"'Goodness of fit'!F$12/1000+A986","v":15.776000000000012},{"$error":"#NUM!"},{"$f":"IF(A987>='Goodness of fit'!$F$11,B987,0)","v":{"$error":"#NUM!"}},{"$error":"#NUM!"},{"$f":"IF('Goodness of fit'!D987>0,('Goodness of fit'!C987-'Goodness of fit'!D987)^2/'Goodness of fit'!D987,\"\")","v":""}]
[{"$f":"'Goodness of fit'!F$12/1000+A987","v":15.792000000000012},{"$error":"#NUM!"},{"$f":"IF(A988>='Goodness of fit'!$F$11,B988,0)","v":{"$error":"#NUM!"}},{"$error":"#NUM!"},{"$f":"IF('Goodness of fit'!D988>0,('Goodness of fit'!C988-'Goodness of fit'!D988)^2/'Goodness of fit'!D988,\"\")","v":""}]
[{"$f":"'Goodness of fit'!F$12/1000+A988","v":15.808000000000012},{"$error":"#NUM!"},{"$f":"IF(A989>='Goodness of fit'!$F$11,B989,0)","v":{"$error":"#NUM!"}},{"$error":"#NUM!"},{"$f":"IF('Goodness of fit'!D989>0,('Goodness of fit'!C989-'Goodness of fit'!D989)^2/'Goodness of fit'!D989,\"\")","v":""}]
[{"$f":"'Goodness of fit'!F$12/1000+A989","v":15.824000000000012},{"$error":"#NUM!"},{"$f":"IF(A990>='Goodness of fit'!$F$11,B990,0)","v":{"$error":"#NUM!"}},{"$error":"#NUM!"},{"$f":"IF('Goodness of fit'!D990>0,('Goodness of fit'!C990-'Goodness of fit'!D990)^2/'Goodness of fit'!D990,\"\")","v":""}]
[{"$f":"'Goodness of fit'!F$12/1000+A990","v":15.840000000000012},{"$error":"#NUM!"},{"$f":"IF(A991>='Goodness of fit'!$F$11,B991,0)","v":{"$error":"#NUM!"}},{"$error":"#NUM!"},{"$f":"IF('Goodness of fit'!D991>0,('Goodness of fit'!C991-'Goodness of fit'!D991)^2/'Goodness of fit'!D991,\"\")","v":""}]
[{"$f":"'Goodness of fit'!F$12/1000+A991","v":15.856000000000012},{"$error":"#NUM!"},{"$f":"IF(A992>='Goodness of fit'!$F$11,B992,0)","v":{"$error":"#NUM!"}},{"$error":"#NUM!"},{"$f":"IF('Goodness of fit'!D992>0,('Goodness of fit'!C992-'Goodness of fit'!D992)^2/'Goodness of fit'!D992,\"\")","v":""}]
[{"$f":"'Goodness of fit'!F$12/1000+A992","v":15.872000000000012},{"$error":"#NUM!"},{"$f":"IF(A993>='Goodness of fit'!$F$11,B993,0)","v":{"$error":"#NUM!"}},{"$error":"#NUM!"},{"$f":"IF('Goodness of fit'!D993>0,('Goodness of fit'!C993-'Goodness of fit'!D993)^2/'Goodness of fit'!D993,\"\")","v":""}]
[{"$f":"'Goodness of fit'!F$12/1000+A993","v":15.888000000000012},{"$error":"#NUM!"},{"$f":"IF(A994>='Goodness of fit'!$F$11,B994,0)","v":{"$error":"#NUM!"}},{"$error":"#NUM!"},{"$f":"IF('Goodness of fit'!D994>0,('Goodness of fit'!C994-'Goodness of fit'!D994)^2/'Goodness of fit'!D994,\"\")","v":""}]
[{"$f":"'Goodness of fit'!F$12/1000+A994","v":15.904000000000012},{"$error":"#NUM!"},{"$f":"IF(A995>='Goodness of fit'!$F$11,B995,0)","v":{"$error":"#NUM!"}},{"$error":"#NUM!"},{"$f":"IF('Goodness of fit'!D995>0,('Goodness of fit'!C995-'Goodness of fit'!D995)^2/'Goodness of fit'!D995,\"\")","v":""}]
[{"$f":"'Goodness of fit'!F$12/1000+A995","v":15.920000000000012},{"$error":"#NUM!"},{"$f":"IF(A996>='Goodness of fit'!$F$11,B996,0)","v":{"$error":"#NUM!"}},{"$error":"#NUM!"},{"$f":"IF('Goodness of fit'!D996>0,('Goodness of fit'!C996-'Goodness of fit'!D996)^2/'Goodness of fit'!D996,\"\")","v":""}]
[{"$f":"'Goodness of fit'!F$12/1000+A996","v":15.936000000000012},{"$error":"#NUM!"},{"$f":"IF(A997>='Goodness of fit'!$F$11,B997,0)","v":{"$error":"#NUM!"}},{"$error":"#NUM!"},{"$f":"IF('Goodness of fit'!D997>0,('Goodness of fit'!C997-'Goodness of fit'!D997)^2/'Goodness of fit'!D997,\"\")","v":""}]
[{"$f":"'Goodness of fit'!F$12/1000+A997","v":15.952000000000012},{"$error":"#NUM!"},{"$f":"IF(A998>='Goodness of fit'!$F$11,B998,0)","v":{"$error":"#NUM!"}},{"$error":"#NUM!"},{"$f":"IF('Goodness of fit'!D998>0,('Goodness of fit'!C998-'Goodness of fit'!D998)^2/'Goodness of fit'!D998,\"\")","v":""}]
[{"$f":"'Goodness of fit'!F$12/1000+A998","v":15.968000000000012},{"$error":"#NUM!"},{"$f":"IF(A999>='Goodness of fit'!$F$11,B999,0)","v":{"$error":"#NUM!"}},{"$error":"#NUM!"},{"$f":"IF('Goodness of fit'!D999>0,('Goodness of fit'!C999-'Goodness of fit'!D999)^2/'Goodness of fit'!D999,\"\")","v":""}]
[{"$f":"'Goodness of fit'!F$12/1000+A999","v":15.984000000000012},{"$error":"#NUM!"},{"$f":"IF(A1000>='Goodness of fit'!$F$11,B1000,0)","v":{"$error":"#NUM!"}},{"$error":"#NUM!"},{"$f":"IF('Goodness of fit'!D1000>0,('Goodness of fit'!C1000-'Goodness of fit'!D1000)^2/'Goodness of fit'!D1000,\"\")","v":""}]
[null,{"$f":"MAX(B1:B1000)","v":{"$error":"#NUM!"}}]